BEGIN:VCALENDAR
VERSION:2.0
PRODID:-//The Children&#039;s School - ECPv6.15.15//NONSGML v1.0//EN
CALSCALE:GREGORIAN
METHOD:PUBLISH
X-WR-CALNAME:The Children&#039;s School
X-ORIGINAL-URL:https://www.tcsatl.org
X-WR-CALDESC:Events for The Children&#039;s School
REFRESH-INTERVAL;VALUE=DURATION:PT1H
X-Robots-Tag:noindex
X-PUBLISHED-TTL:PT1H
BEGIN:VTIMEZONE
TZID:America/New_York
BEGIN:DAYLIGHT
TZOFFSETFROM:-0500
TZOFFSETTO:-0400
TZNAME:EDT
DTSTART:20240310T070000
END:DAYLIGHT
BEGIN:STANDARD
TZOFFSETFROM:-0400
TZOFFSETTO:-0500
TZNAME:EST
DTSTART:20241103T060000
END:STANDARD
BEGIN:DAYLIGHT
TZOFFSETFROM:-0500
TZOFFSETTO:-0400
TZNAME:EDT
DTSTART:20250309T070000
END:DAYLIGHT
BEGIN:STANDARD
TZOFFSETFROM:-0400
TZOFFSETTO:-0500
TZNAME:EST
DTSTART:20251102T060000
END:STANDARD
BEGIN:DAYLIGHT
TZOFFSETFROM:-0500
TZOFFSETTO:-0400
TZNAME:EDT
DTSTART:20260308T070000
END:DAYLIGHT
BEGIN:STANDARD
TZOFFSETFROM:-0400
TZOFFSETTO:-0500
TZNAME:EST
DTSTART:20261101T060000
END:STANDARD
END:VTIMEZONE
BEGIN:VEVENT
DTSTART;TZID=America/New_York:20251210T141500
DTEND;TZID=America/New_York:20251210T151500
DTSTAMP:20260420T112935
CREATED:20250812T141904Z
LAST-MODIFIED:20251209T200512Z
UID:10011637-1765376100-1765379700@www.tcsatl.org
SUMMARY:LSASS Math Lab
DESCRIPTION:Carpool 03:15-3:45PM
URL:https://www.tcsatl.org/event/lsass-math-lab-15/
END:VEVENT
BEGIN:VEVENT
DTSTART;TZID=America/New_York:20251210T154500
DTEND;TZID=America/New_York:20251210T170000
DTSTAMP:20260420T112935
CREATED:20250812T141904Z
LAST-MODIFIED:20251210T202517Z
UID:10011638-1765381500-1765386000@www.tcsatl.org
SUMMARY:Intramural Co-Ed Soccer
DESCRIPTION:Carpool- 5:00pm-5:15 PM
URL:https://www.tcsatl.org/event/intramural-co-ed-soccer-15/
END:VEVENT
END:VCALENDAR