BEGIN:VCALENDAR
VERSION:2.0
PRODID:-//The Children&#039;s School - ECPv6.15.15//NONSGML v1.0//EN
CALSCALE:GREGORIAN
METHOD:PUBLISH
X-WR-CALNAME:The Children&#039;s School
X-ORIGINAL-URL:https://www.tcsatl.org
X-WR-CALDESC:Events for The Children&#039;s School
REFRESH-INTERVAL;VALUE=DURATION:PT1H
X-Robots-Tag:noindex
X-PUBLISHED-TTL:PT1H
BEGIN:VTIMEZONE
TZID:America/New_York
BEGIN:DAYLIGHT
TZOFFSETFROM:-0500
TZOFFSETTO:-0400
TZNAME:EDT
DTSTART:20240310T070000
END:DAYLIGHT
BEGIN:STANDARD
TZOFFSETFROM:-0400
TZOFFSETTO:-0500
TZNAME:EST
DTSTART:20241103T060000
END:STANDARD
BEGIN:DAYLIGHT
TZOFFSETFROM:-0500
TZOFFSETTO:-0400
TZNAME:EDT
DTSTART:20250309T070000
END:DAYLIGHT
BEGIN:STANDARD
TZOFFSETFROM:-0400
TZOFFSETTO:-0500
TZNAME:EST
DTSTART:20251102T060000
END:STANDARD
BEGIN:DAYLIGHT
TZOFFSETFROM:-0500
TZOFFSETTO:-0400
TZNAME:EDT
DTSTART:20260308T070000
END:DAYLIGHT
BEGIN:STANDARD
TZOFFSETFROM:-0400
TZOFFSETTO:-0500
TZNAME:EST
DTSTART:20261101T060000
END:STANDARD
END:VTIMEZONE
BEGIN:VEVENT
DTSTART;TZID=America/New_York:20251031T084500
DTEND;TZID=America/New_York:20251031T094500
DTSTAMP:20260420T125423
CREATED:20251014T230014Z
LAST-MODIFIED:20251031T030015Z
UID:10011653-1761900300-1761903900@www.tcsatl.org
SUMMARY:Pack Parade (All TCS Families Invited)
DESCRIPTION:Big Buddy & Little Buddy Playdate
URL:https://www.tcsatl.org/event/pack-parade-all-tcs-families-invited/
END:VEVENT
BEGIN:VEVENT
DTSTART;TZID=America/New_York:20251031T153000
DTEND;TZID=America/New_York:20251031T163000
DTSTAMP:20260420T125423
CREATED:20250812T141748Z
LAST-MODIFIED:20251030T232033Z
UID:10011575-1761924600-1761928200@www.tcsatl.org
SUMMARY:Amazing Athletes
DESCRIPTION:Carpool- 4:30 pm – 4:45 pm
URL:https://www.tcsatl.org/event/amazing-athletes-67/
END:VEVENT
BEGIN:VEVENT
DTSTART;TZID=America/New_York:20251031T153000
DTEND;TZID=America/New_York:20251031T163000
DTSTAMP:20260420T125423
CREATED:20250812T141748Z
LAST-MODIFIED:20251030T232033Z
UID:10011577-1761924600-1761928200@www.tcsatl.org
SUMMARY:Pre-Ballet
DESCRIPTION:Carpool- 4:30 PM – 4:45 PM
URL:https://www.tcsatl.org/event/pre-ballet-9/
END:VEVENT
BEGIN:VEVENT
DTSTART;TZID=America/New_York:20251031T153000
DTEND;TZID=America/New_York:20251031T163000
DTSTAMP:20260420T125423
CREATED:20250812T141748Z
LAST-MODIFIED:20251030T232033Z
UID:10011578-1761924600-1761928200@www.tcsatl.org
SUMMARY:Yoga
DESCRIPTION:Carpool: 4:30pm-4:45 PM
URL:https://www.tcsatl.org/event/yoga-9/
END:VEVENT
BEGIN:VEVENT
DTSTART;TZID=America/New_York:20251031T163000
DTEND;TZID=America/New_York:20251031T173000
DTSTAMP:20260420T125423
CREATED:20250812T141748Z
LAST-MODIFIED:20251030T232033Z
UID:10011576-1761928200-1761931800@www.tcsatl.org
SUMMARY:Tap-Ballet
DESCRIPTION:Carpool\n: 5:30
URL:https://www.tcsatl.org/event/tap-ballet-9/
END:VEVENT
END:VCALENDAR