BEGIN:VCALENDAR
VERSION:2.0
PRODID:-//The Children&#039;s School - ECPv6.15.15//NONSGML v1.0//EN
CALSCALE:GREGORIAN
METHOD:PUBLISH
X-ORIGINAL-URL:https://www.tcsatl.org
X-WR-CALDESC:Events for The Children&#039;s School
REFRESH-INTERVAL;VALUE=DURATION:PT1H
X-Robots-Tag:noindex
X-PUBLISHED-TTL:PT1H
BEGIN:VTIMEZONE
TZID:America/New_York
BEGIN:DAYLIGHT
TZOFFSETFROM:-0500
TZOFFSETTO:-0400
TZNAME:EDT
DTSTART:20240310T070000
END:DAYLIGHT
BEGIN:STANDARD
TZOFFSETFROM:-0400
TZOFFSETTO:-0500
TZNAME:EST
DTSTART:20241103T060000
END:STANDARD
BEGIN:DAYLIGHT
TZOFFSETFROM:-0500
TZOFFSETTO:-0400
TZNAME:EDT
DTSTART:20250309T070000
END:DAYLIGHT
BEGIN:STANDARD
TZOFFSETFROM:-0400
TZOFFSETTO:-0500
TZNAME:EST
DTSTART:20251102T060000
END:STANDARD
BEGIN:DAYLIGHT
TZOFFSETFROM:-0500
TZOFFSETTO:-0400
TZNAME:EDT
DTSTART:20260308T070000
END:DAYLIGHT
BEGIN:STANDARD
TZOFFSETFROM:-0400
TZOFFSETTO:-0500
TZNAME:EST
DTSTART:20261101T060000
END:STANDARD
END:VTIMEZONE
BEGIN:VEVENT
DTSTART;TZID=America/New_York:20251028T153000
DTEND;TZID=America/New_York:20251028T163000
DTSTAMP:20260420T130158
CREATED:20250812T141736Z
LAST-MODIFIED:20251027T220522Z
UID:10011568-1761665400-1761669000@www.tcsatl.org
SUMMARY:Drums
DESCRIPTION:Carpool: 4:30-4:45pm
URL:https://www.tcsatl.org/event/drums-9/
END:VEVENT
BEGIN:VEVENT
DTSTART;TZID=America/New_York:20251028T154500
DTEND;TZID=America/New_York:20251028T170000
DTSTAMP:20260420T130158
CREATED:20250812T141747Z
LAST-MODIFIED:20251027T220522Z
UID:10011569-1761666300-1761670800@www.tcsatl.org
SUMMARY:Intramural Co-Ed Cross Country
DESCRIPTION:Carpool 5:00-5:15
URL:https://www.tcsatl.org/event/intramural-co-ed-cross-country-17/
END:VEVENT
BEGIN:VEVENT
DTSTART;TZID=America/New_York:20251028T163000
DTEND;TZID=America/New_York:20251028T173000
DTSTAMP:20260420T130158
CREATED:20250812T141747Z
LAST-MODIFIED:20251027T220522Z
UID:10011570-1761669000-1761672600@www.tcsatl.org
SUMMARY:Percussion Ensemble
DESCRIPTION:Carpool: 5:30 PM
URL:https://www.tcsatl.org/event/percussion-ensemble-27/
END:VEVENT
BEGIN:VEVENT
DTSTART;TZID=America/New_York:20251028T180000
DTEND;TZID=America/New_York:20251028T200000
DTSTAMP:20260420T130158
CREATED:20250430T180132Z
LAST-MODIFIED:20251028T020515Z
UID:10011464-1761674400-1761681600@www.tcsatl.org
SUMMARY:Math Night
DESCRIPTION:
URL:https://www.tcsatl.org/event/math-night-2/
END:VEVENT
END:VCALENDAR