BEGIN:VCALENDAR
VERSION:2.0
PRODID:-//The Children&#039;s School - ECPv6.15.15//NONSGML v1.0//EN
CALSCALE:GREGORIAN
METHOD:PUBLISH
X-ORIGINAL-URL:https://www.tcsatl.org
X-WR-CALDESC:Events for The Children&#039;s School
REFRESH-INTERVAL;VALUE=DURATION:PT1H
X-Robots-Tag:noindex
X-PUBLISHED-TTL:PT1H
BEGIN:VTIMEZONE
TZID:America/New_York
BEGIN:DAYLIGHT
TZOFFSETFROM:-0500
TZOFFSETTO:-0400
TZNAME:EDT
DTSTART:20240310T070000
END:DAYLIGHT
BEGIN:STANDARD
TZOFFSETFROM:-0400
TZOFFSETTO:-0500
TZNAME:EST
DTSTART:20241103T060000
END:STANDARD
BEGIN:DAYLIGHT
TZOFFSETFROM:-0500
TZOFFSETTO:-0400
TZNAME:EDT
DTSTART:20250309T070000
END:DAYLIGHT
BEGIN:STANDARD
TZOFFSETFROM:-0400
TZOFFSETTO:-0500
TZNAME:EST
DTSTART:20251102T060000
END:STANDARD
BEGIN:DAYLIGHT
TZOFFSETFROM:-0500
TZOFFSETTO:-0400
TZNAME:EDT
DTSTART:20260308T070000
END:DAYLIGHT
BEGIN:STANDARD
TZOFFSETFROM:-0400
TZOFFSETTO:-0500
TZNAME:EST
DTSTART:20261101T060000
END:STANDARD
END:VTIMEZONE
BEGIN:VEVENT
DTSTART;VALUE=DATE:20251009
DTEND;VALUE=DATE:20251011
DTSTAMP:20260420T142404
CREATED:20250430T180118Z
LAST-MODIFIED:20251010T220516Z
UID:10011461-1759968000-1760140799@www.tcsatl.org
SUMMARY:Family Conferences - School Closed for Students
DESCRIPTION:
URL:https://www.tcsatl.org/event/family-conferences-school-closed-for-students/
END:VEVENT
BEGIN:VEVENT
DTSTART;TZID=America/New_York:20251010T153000
DTEND;TZID=America/New_York:20251010T163000
DTSTAMP:20260420T142404
CREATED:20250812T141709Z
LAST-MODIFIED:20251010T165523Z
UID:10011543-1760110200-1760113800@www.tcsatl.org
SUMMARY:Pre-Ballet
DESCRIPTION:Carpool- 4:30 PM – 4:45 PM
URL:https://www.tcsatl.org/event/pre-ballet-6/
END:VEVENT
BEGIN:VEVENT
DTSTART;TZID=America/New_York:20251010T153000
DTEND;TZID=America/New_York:20251010T163000
DTSTAMP:20260420T142404
CREATED:20250812T141709Z
LAST-MODIFIED:20251010T165523Z
UID:10011544-1760110200-1760113800@www.tcsatl.org
SUMMARY:Yoga
DESCRIPTION:Carpool: 4:30pm-4:45 PM
URL:https://www.tcsatl.org/event/yoga-6/
END:VEVENT
BEGIN:VEVENT
DTSTART;TZID=America/New_York:20251010T153000
DTEND;TZID=America/New_York:20251010T163000
DTSTAMP:20260420T142404
CREATED:20250812T141710Z
LAST-MODIFIED:20251010T165523Z
UID:10011545-1760110200-1760113800@www.tcsatl.org
SUMMARY:Amazing Athletes
DESCRIPTION:Carpool- 4:30 pm – 4:45 pm
URL:https://www.tcsatl.org/event/amazing-athletes-64/
END:VEVENT
BEGIN:VEVENT
DTSTART;TZID=America/New_York:20251010T163000
DTEND;TZID=America/New_York:20251010T173000
DTSTAMP:20260420T142404
CREATED:20250812T141709Z
LAST-MODIFIED:20251010T165523Z
UID:10011542-1760113800-1760117400@www.tcsatl.org
SUMMARY:Tap-Ballet
DESCRIPTION:Carpool\n: 5:30
URL:https://www.tcsatl.org/event/tap-ballet-6/
END:VEVENT
END:VCALENDAR