BEGIN:VCALENDAR
VERSION:2.0
PRODID:-//The Children&#039;s School - ECPv6.15.15//NONSGML v1.0//EN
CALSCALE:GREGORIAN
METHOD:PUBLISH
X-ORIGINAL-URL:https://www.tcsatl.org
X-WR-CALDESC:Events for The Children&#039;s School
REFRESH-INTERVAL;VALUE=DURATION:PT1H
X-Robots-Tag:noindex
X-PUBLISHED-TTL:PT1H
BEGIN:VTIMEZONE
TZID:America/New_York
BEGIN:DAYLIGHT
TZOFFSETFROM:-0500
TZOFFSETTO:-0400
TZNAME:EDT
DTSTART:20240310T070000
END:DAYLIGHT
BEGIN:STANDARD
TZOFFSETFROM:-0400
TZOFFSETTO:-0500
TZNAME:EST
DTSTART:20241103T060000
END:STANDARD
BEGIN:DAYLIGHT
TZOFFSETFROM:-0500
TZOFFSETTO:-0400
TZNAME:EDT
DTSTART:20250309T070000
END:DAYLIGHT
BEGIN:STANDARD
TZOFFSETFROM:-0400
TZOFFSETTO:-0500
TZNAME:EST
DTSTART:20251102T060000
END:STANDARD
BEGIN:DAYLIGHT
TZOFFSETFROM:-0500
TZOFFSETTO:-0400
TZNAME:EDT
DTSTART:20260308T070000
END:DAYLIGHT
BEGIN:STANDARD
TZOFFSETFROM:-0400
TZOFFSETTO:-0500
TZNAME:EST
DTSTART:20261101T060000
END:STANDARD
END:VTIMEZONE
BEGIN:VEVENT
DTSTART;VALUE=DATE:20251009
DTEND;VALUE=DATE:20251011
DTSTAMP:20260420T142508
CREATED:20250430T180118Z
LAST-MODIFIED:20251010T220516Z
UID:10011461-1759968000-1760140799@www.tcsatl.org
SUMMARY:Family Conferences - School Closed for Students
DESCRIPTION:
URL:https://www.tcsatl.org/event/family-conferences-school-closed-for-students/
END:VEVENT
BEGIN:VEVENT
DTSTART;TZID=America/New_York:20251009T154500
DTEND;TZID=America/New_York:20251009T170000
DTSTAMP:20260420T142508
CREATED:20250812T141709Z
LAST-MODIFIED:20251009T164030Z
UID:10011540-1760024700-1760029200@www.tcsatl.org
SUMMARY:Intramural Co-Ed Cross Country
DESCRIPTION:Carpool 5:00-5:15
URL:https://www.tcsatl.org/event/intramural-co-ed-cross-country-12/
END:VEVENT
BEGIN:VEVENT
DTSTART;TZID=America/New_York:20251009T154500
DTEND;TZID=America/New_York:20251009T171500
DTSTAMP:20260420T142508
CREATED:20250812T141709Z
LAST-MODIFIED:20251009T164030Z
UID:10011541-1760024700-1760030100@www.tcsatl.org
SUMMARY:TCS Movers
DESCRIPTION:
URL:https://www.tcsatl.org/event/tcs-movers-6/
END:VEVENT
END:VCALENDAR