BEGIN:VCALENDAR
VERSION:2.0
PRODID:-//The Children&#039;s School - ECPv6.15.15//NONSGML v1.0//EN
CALSCALE:GREGORIAN
METHOD:PUBLISH
X-WR-CALNAME:The Children&#039;s School
X-ORIGINAL-URL:https://www.tcsatl.org
X-WR-CALDESC:Events for The Children&#039;s School
REFRESH-INTERVAL;VALUE=DURATION:PT1H
X-Robots-Tag:noindex
X-PUBLISHED-TTL:PT1H
BEGIN:VTIMEZONE
TZID:America/New_York
BEGIN:DAYLIGHT
TZOFFSETFROM:-0500
TZOFFSETTO:-0400
TZNAME:EDT
DTSTART:20240310T070000
END:DAYLIGHT
BEGIN:STANDARD
TZOFFSETFROM:-0400
TZOFFSETTO:-0500
TZNAME:EST
DTSTART:20241103T060000
END:STANDARD
BEGIN:DAYLIGHT
TZOFFSETFROM:-0500
TZOFFSETTO:-0400
TZNAME:EDT
DTSTART:20250309T070000
END:DAYLIGHT
BEGIN:STANDARD
TZOFFSETFROM:-0400
TZOFFSETTO:-0500
TZNAME:EST
DTSTART:20251102T060000
END:STANDARD
BEGIN:DAYLIGHT
TZOFFSETFROM:-0500
TZOFFSETTO:-0400
TZNAME:EDT
DTSTART:20260308T070000
END:DAYLIGHT
BEGIN:STANDARD
TZOFFSETFROM:-0400
TZOFFSETTO:-0500
TZNAME:EST
DTSTART:20261101T060000
END:STANDARD
END:VTIMEZONE
BEGIN:VEVENT
DTSTART;TZID=America/New_York:20250926T153000
DTEND;TZID=America/New_York:20250926T163000
DTSTAMP:20260420T161637
CREATED:20250812T141644Z
LAST-MODIFIED:20250926T131511Z
UID:10011521-1758900600-1758904200@www.tcsatl.org
SUMMARY:Pre-Ballet
DESCRIPTION:Carpool- 4:30 PM – 4:45 PM
URL:https://www.tcsatl.org/event/pre-ballet-4/
END:VEVENT
BEGIN:VEVENT
DTSTART;TZID=America/New_York:20250926T153000
DTEND;TZID=America/New_York:20250926T163000
DTSTAMP:20260420T161637
CREATED:20250812T141644Z
LAST-MODIFIED:20250926T131512Z
UID:10011522-1758900600-1758904200@www.tcsatl.org
SUMMARY:Amazing Athletes
DESCRIPTION:Carpool- 4:30 pm – 4:45 pm
URL:https://www.tcsatl.org/event/amazing-athletes-62/
END:VEVENT
BEGIN:VEVENT
DTSTART;TZID=America/New_York:20250926T153000
DTEND;TZID=America/New_York:20250926T163000
DTSTAMP:20260420T161637
CREATED:20250812T141644Z
LAST-MODIFIED:20250926T131513Z
UID:10011523-1758900600-1758904200@www.tcsatl.org
SUMMARY:Yoga
DESCRIPTION:Carpool: 4:30pm-4:45 PM
URL:https://www.tcsatl.org/event/yoga-4/
END:VEVENT
BEGIN:VEVENT
DTSTART;TZID=America/New_York:20250926T163000
DTEND;TZID=America/New_York:20250926T173000
DTSTAMP:20260420T161637
CREATED:20250812T141644Z
LAST-MODIFIED:20250926T131513Z
UID:10011520-1758904200-1758907800@www.tcsatl.org
SUMMARY:Tap-Ballet
DESCRIPTION:Carpool\n: 5:30
URL:https://www.tcsatl.org/event/tap-ballet-4/
END:VEVENT
END:VCALENDAR