BEGIN:VCALENDAR
VERSION:2.0
PRODID:-//The Children&#039;s School - ECPv6.15.15//NONSGML v1.0//EN
CALSCALE:GREGORIAN
METHOD:PUBLISH
X-ORIGINAL-URL:https://www.tcsatl.org
X-WR-CALDESC:Events for The Children&#039;s School
REFRESH-INTERVAL;VALUE=DURATION:PT1H
X-Robots-Tag:noindex
X-PUBLISHED-TTL:PT1H
BEGIN:VTIMEZONE
TZID:America/New_York
BEGIN:DAYLIGHT
TZOFFSETFROM:-0500
TZOFFSETTO:-0400
TZNAME:EDT
DTSTART:20240310T070000
END:DAYLIGHT
BEGIN:STANDARD
TZOFFSETFROM:-0400
TZOFFSETTO:-0500
TZNAME:EST
DTSTART:20241103T060000
END:STANDARD
BEGIN:DAYLIGHT
TZOFFSETFROM:-0500
TZOFFSETTO:-0400
TZNAME:EDT
DTSTART:20250309T070000
END:DAYLIGHT
BEGIN:STANDARD
TZOFFSETFROM:-0400
TZOFFSETTO:-0500
TZNAME:EST
DTSTART:20251102T060000
END:STANDARD
BEGIN:DAYLIGHT
TZOFFSETFROM:-0500
TZOFFSETTO:-0400
TZNAME:EDT
DTSTART:20260308T070000
END:DAYLIGHT
BEGIN:STANDARD
TZOFFSETFROM:-0400
TZOFFSETTO:-0500
TZNAME:EST
DTSTART:20261101T060000
END:STANDARD
END:VTIMEZONE
BEGIN:VEVENT
DTSTART;TZID=America/New_York:20250919T120000
DTEND;TZID=America/New_York:20250919T160000
DTSTAMP:20260420T155256
CREATED:20250701T200018Z
LAST-MODIFIED:20250919T162014Z
UID:10011478-1758283200-1758297600@www.tcsatl.org
SUMMARY:EARLY DISMISSAL- No Epic\, Discovery\, Enrichment Classes
DESCRIPTION:
URL:https://www.tcsatl.org/event/early-dismissal-no-epic-discovery-enrichment-classes-3/
END:VEVENT
BEGIN:VEVENT
DTSTART;TZID=America/New_York:20250919T153000
DTEND;TZID=America/New_York:20250919T163000
DTSTAMP:20260420T155256
CREATED:20250812T141631Z
LAST-MODIFIED:20250919T110512Z
UID:10011511-1758295800-1758299400@www.tcsatl.org
SUMMARY:Pre-Ballet
DESCRIPTION:Carpool- 4:30 PM – 4:45 PM
URL:https://www.tcsatl.org/event/pre-ballet-3/
END:VEVENT
BEGIN:VEVENT
DTSTART;TZID=America/New_York:20250919T153000
DTEND;TZID=America/New_York:20250919T163000
DTSTAMP:20260420T155256
CREATED:20250812T141631Z
LAST-MODIFIED:20250919T110513Z
UID:10011509-1758295800-1758299400@www.tcsatl.org
SUMMARY:Amazing Athletes
DESCRIPTION:Carpool- 4:30 pm – 4:45 pm
URL:https://www.tcsatl.org/event/amazing-athletes-61/
END:VEVENT
BEGIN:VEVENT
DTSTART;TZID=America/New_York:20250919T153000
DTEND;TZID=America/New_York:20250919T163000
DTSTAMP:20260420T155256
CREATED:20250812T141631Z
LAST-MODIFIED:20250919T110513Z
UID:10011510-1758295800-1758299400@www.tcsatl.org
SUMMARY:Yoga
DESCRIPTION:Carpool: 4:30pm-4:45 PM
URL:https://www.tcsatl.org/event/yoga-3/
END:VEVENT
BEGIN:VEVENT
DTSTART;TZID=America/New_York:20250919T163000
DTEND;TZID=America/New_York:20250919T173000
DTSTAMP:20260420T155256
CREATED:20250812T141631Z
LAST-MODIFIED:20250919T110513Z
UID:10011512-1758299400-1758303000@www.tcsatl.org
SUMMARY:Tap-Ballet
DESCRIPTION:Carpool\n: 5:30
URL:https://www.tcsatl.org/event/tap-ballet-3/
END:VEVENT
END:VCALENDAR