BEGIN:VCALENDAR
VERSION:2.0
PRODID:-//The Children&#039;s School - ECPv6.15.15//NONSGML v1.0//EN
CALSCALE:GREGORIAN
METHOD:PUBLISH
X-WR-CALNAME:The Children&#039;s School
X-ORIGINAL-URL:https://www.tcsatl.org
X-WR-CALDESC:Events for The Children&#039;s School
REFRESH-INTERVAL;VALUE=DURATION:PT1H
X-Robots-Tag:noindex
X-PUBLISHED-TTL:PT1H
BEGIN:VTIMEZONE
TZID:America/New_York
BEGIN:DAYLIGHT
TZOFFSETFROM:-0500
TZOFFSETTO:-0400
TZNAME:EDT
DTSTART:20240310T070000
END:DAYLIGHT
BEGIN:STANDARD
TZOFFSETFROM:-0400
TZOFFSETTO:-0500
TZNAME:EST
DTSTART:20241103T060000
END:STANDARD
BEGIN:DAYLIGHT
TZOFFSETFROM:-0500
TZOFFSETTO:-0400
TZNAME:EDT
DTSTART:20250309T070000
END:DAYLIGHT
BEGIN:STANDARD
TZOFFSETFROM:-0400
TZOFFSETTO:-0500
TZNAME:EST
DTSTART:20251102T060000
END:STANDARD
BEGIN:DAYLIGHT
TZOFFSETFROM:-0500
TZOFFSETTO:-0400
TZNAME:EDT
DTSTART:20260308T070000
END:DAYLIGHT
BEGIN:STANDARD
TZOFFSETFROM:-0400
TZOFFSETTO:-0500
TZNAME:EST
DTSTART:20261101T060000
END:STANDARD
END:VTIMEZONE
BEGIN:VEVENT
DTSTART;TZID=America/New_York:20250904T154500
DTEND;TZID=America/New_York:20250904T170000
DTSTAMP:20260420T155218
CREATED:20250812T141554Z
LAST-MODIFIED:20250903T210511Z
UID:10011484-1757000700-1757005200@www.tcsatl.org
SUMMARY:Intramural Co-Ed Cross Country
DESCRIPTION:Carpool 5:00-5:15
URL:https://www.tcsatl.org/event/intramural-co-ed-cross-country-2/
END:VEVENT
BEGIN:VEVENT
DTSTART;TZID=America/New_York:20250904T154500
DTEND;TZID=America/New_York:20250904T171500
DTSTAMP:20260420T155218
CREATED:20250812T141554Z
LAST-MODIFIED:20250903T210511Z
UID:10011485-1757000700-1757006100@www.tcsatl.org
SUMMARY:TCS Movers
DESCRIPTION:
URL:https://www.tcsatl.org/event/tcs-movers/
END:VEVENT
BEGIN:VEVENT
DTSTART;TZID=America/New_York:20250904T180000
DTEND;TZID=America/New_York:20250904T200000
DTSTAMP:20260420T155218
CREATED:20250430T180117Z
LAST-MODIFIED:20250904T123528Z
UID:10011459-1757008800-1757016000@www.tcsatl.org
SUMMARY:Back To School Night (Early Learning to Grade 2)
DESCRIPTION:
URL:https://www.tcsatl.org/event/back-to-school-night-early-learning-to-grade-2/
END:VEVENT
END:VCALENDAR