BEGIN:VCALENDAR
VERSION:2.0
PRODID:-//The Children&#039;s School - ECPv6.15.15//NONSGML v1.0//EN
CALSCALE:GREGORIAN
METHOD:PUBLISH
X-WR-CALNAME:The Children&#039;s School
X-ORIGINAL-URL:https://www.tcsatl.org
X-WR-CALDESC:Events for The Children&#039;s School
REFRESH-INTERVAL;VALUE=DURATION:PT1H
X-Robots-Tag:noindex
X-PUBLISHED-TTL:PT1H
BEGIN:VTIMEZONE
TZID:America/New_York
BEGIN:DAYLIGHT
TZOFFSETFROM:-0500
TZOFFSETTO:-0400
TZNAME:EDT
DTSTART:20240310T070000
END:DAYLIGHT
BEGIN:STANDARD
TZOFFSETFROM:-0400
TZOFFSETTO:-0500
TZNAME:EST
DTSTART:20241103T060000
END:STANDARD
BEGIN:DAYLIGHT
TZOFFSETFROM:-0500
TZOFFSETTO:-0400
TZNAME:EDT
DTSTART:20250309T070000
END:DAYLIGHT
BEGIN:STANDARD
TZOFFSETFROM:-0400
TZOFFSETTO:-0500
TZNAME:EST
DTSTART:20251102T060000
END:STANDARD
BEGIN:DAYLIGHT
TZOFFSETFROM:-0500
TZOFFSETTO:-0400
TZNAME:EDT
DTSTART:20260308T070000
END:DAYLIGHT
BEGIN:STANDARD
TZOFFSETFROM:-0400
TZOFFSETTO:-0500
TZNAME:EST
DTSTART:20261101T060000
END:STANDARD
END:VTIMEZONE
BEGIN:VEVENT
DTSTART;VALUE=DATE:20250523
DTEND;VALUE=DATE:20250524
DTSTAMP:20260420T220816
CREATED:20240613T163306Z
LAST-MODIFIED:20250523T235530Z
UID:10010586-1747958400-1748044799@www.tcsatl.org
SUMMARY:Last Day of School - TCS
DESCRIPTION:
URL:https://www.tcsatl.org/event/last-day-of-school-tcs/
END:VEVENT
BEGIN:VEVENT
DTSTART;TZID=America/New_York:20250523T120000
DTEND;TZID=America/New_York:20250523T170000
DTSTAMP:20260420T220816
CREATED:20240613T163307Z
LAST-MODIFIED:20250522T234530Z
UID:10010587-1748001600-1748019600@www.tcsatl.org
SUMMARY:Early Dismissal - NO DISCOVERY\, EPIC\, SPORTS\, ENRICHMENTS - TCS
DESCRIPTION:
URL:https://www.tcsatl.org/event/early-dismissal-no-discovery-epic-sports-enrichments-tcs/
END:VEVENT
BEGIN:VEVENT
DTSTART;TZID=America/New_York:20250523T154500
DTEND;TZID=America/New_York:20250523T170000
DTSTAMP:20260420T220816
CREATED:20240812T184603Z
LAST-MODIFIED:20250112T161629Z
UID:10010971-1748015100-1748019600@www.tcsatl.org
SUMMARY:MAAC Girls and Boys Cross Country
DESCRIPTION:Carpool 5:00-5:15 PM
URL:https://www.tcsatl.org/event/maac-girls-and-boys-cross-country-117/
END:VEVENT
END:VCALENDAR