BEGIN:VCALENDAR
VERSION:2.0
PRODID:-//The Children&#039;s School - ECPv6.15.15//NONSGML v1.0//EN
CALSCALE:GREGORIAN
METHOD:PUBLISH
X-ORIGINAL-URL:https://www.tcsatl.org
X-WR-CALDESC:Events for The Children&#039;s School
REFRESH-INTERVAL;VALUE=DURATION:PT1H
X-Robots-Tag:noindex
X-PUBLISHED-TTL:PT1H
BEGIN:VTIMEZONE
TZID:America/New_York
BEGIN:DAYLIGHT
TZOFFSETFROM:-0500
TZOFFSETTO:-0400
TZNAME:EDT
DTSTART:20240310T070000
END:DAYLIGHT
BEGIN:STANDARD
TZOFFSETFROM:-0400
TZOFFSETTO:-0500
TZNAME:EST
DTSTART:20241103T060000
END:STANDARD
BEGIN:DAYLIGHT
TZOFFSETFROM:-0500
TZOFFSETTO:-0400
TZNAME:EDT
DTSTART:20250309T070000
END:DAYLIGHT
BEGIN:STANDARD
TZOFFSETFROM:-0400
TZOFFSETTO:-0500
TZNAME:EST
DTSTART:20251102T060000
END:STANDARD
BEGIN:DAYLIGHT
TZOFFSETFROM:-0500
TZOFFSETTO:-0400
TZNAME:EDT
DTSTART:20260308T070000
END:DAYLIGHT
BEGIN:STANDARD
TZOFFSETFROM:-0400
TZOFFSETTO:-0500
TZNAME:EST
DTSTART:20261101T060000
END:STANDARD
END:VTIMEZONE
BEGIN:VEVENT
DTSTART;VALUE=DATE:20250127
DTEND;VALUE=DATE:20250201
DTSTAMP:20260421T024456
CREATED:20241106T224654Z
LAST-MODIFIED:20250131T165943Z
UID:10011413-1737936000-1738367999@www.tcsatl.org
SUMMARY:MAAC GIRLS BASKETBALL CHAMPIONSHIP - Location TBD
DESCRIPTION:
URL:https://www.tcsatl.org/event/maac-girls-basketball-championship-location-tbd/
END:VEVENT
BEGIN:VEVENT
DTSTART;VALUE=DATE:20250127
DTEND;VALUE=DATE:20250201
DTSTAMP:20260421T024456
CREATED:20241106T224654Z
LAST-MODIFIED:20250131T165944Z
UID:10011414-1737936000-1738367999@www.tcsatl.org
SUMMARY:MAAC BOYS BASKETBALL CHAMPIONSHIP - Location TBD
DESCRIPTION:
URL:https://www.tcsatl.org/event/maac-boys-basketball-championship-location-tbd/
END:VEVENT
BEGIN:VEVENT
DTSTART;VALUE=DATE:20250129
DTEND;VALUE=DATE:20250130
DTSTAMP:20260421T024456
CREATED:20240829T171459Z
LAST-MODIFIED:20250129T012948Z
UID:10011261-1738108800-1738195199@www.tcsatl.org
SUMMARY:F Day
DESCRIPTION:
URL:https://www.tcsatl.org/event/f-day-41/
END:VEVENT
BEGIN:VEVENT
DTSTART;TZID=America/New_York:20250129T120000
DTEND;TZID=America/New_York:20250129T130000
DTSTAMP:20260421T024456
CREATED:20240903T174453Z
LAST-MODIFIED:20250129T012947Z
UID:10011335-1738152000-1738155600@www.tcsatl.org
SUMMARY:Roz's Book Club: The Anxious Generation
DESCRIPTION:Confirmed \n \n2.  \nSubmitted By: Roz B.  \nSubmitted On: 09/012024 \nDates: 01/28/2024 \nStart Time: 12:00 PM \nEnd Time: 01:00 PM \nRecurring Dates:  \n \nEvent: Roz’s Book Club: The Anxious Generation \nEstimated Attendance: 20 \n \nLocation: Zoom \nRain Location:  \nRain Date:  \n \nRehearsal Dates:  \n         \n                     \nR: Christie P. \nA: Roz B.   \nC: Exec Team\, Program Team\, Advancement Team.  \n I: All faculty and staff \n \nROS:  \n \nA/V Needs \n     \n    Event Setup:  \n    Breakdown:  \n \n     \n    Notes:   \n \nMaintenance Needs \n \nEvent Diagram:  \n    Event Setup: \n    Breakdown:   \n     \n     \n    NOTES:
URL:https://www.tcsatl.org/event/rozs-book-club-the-anxious-generation/
END:VEVENT
BEGIN:VEVENT
DTSTART;TZID=America/New_York:20250129T154500
DTEND;TZID=America/New_York:20250129T170000
DTSTAMP:20260421T024456
CREATED:20240812T184549Z
LAST-MODIFIED:20250112T161523Z
UID:10010922-1738165500-1738170000@www.tcsatl.org
SUMMARY:MAAC Girls and Boys Cross Country
DESCRIPTION:Carpool 5:00-5:15 PM
URL:https://www.tcsatl.org/event/maac-girls-and-boys-cross-country-68/
END:VEVENT
BEGIN:VEVENT
DTSTART;TZID=America/New_York:20250129T190000
DTEND;TZID=America/New_York:20250129T200000
DTSTAMP:20260421T024456
CREATED:20240903T174453Z
LAST-MODIFIED:20250129T012948Z
UID:10011336-1738177200-1738180800@www.tcsatl.org
SUMMARY:Roz's Book Club: The Anxious Generation- via ZOOM
DESCRIPTION:Confirmed \n \n2.  \nSubmitted By: Roz B.  \nSubmitted On: 09/012024 \nDates: 01/28/2024 \nStart Time: 12:00 PM \nEnd Time: 01:00 PM \nRecurring Dates:  \n \nEvent: Roz’s Book Club: The Anxious Generation \nEstimated Attendance: 20 \n \nLocation: Zoom \nRain Location:  \nRain Date:  \n \nRehearsal Dates:  \n         \n                     \nR: Christie P. \nA: Roz B.   \nC: Exec Team\, Program Team\, Advancement Team.  \n I: All faculty and staff \n \nROS:  \n \nA/V Needs \n     \n    Event Setup:  \n    Breakdown:  \n \n     \n    Notes:   \n \nMaintenance Needs \n \nEvent Diagram:  \n    Event Setup: \n    Breakdown:   \n     \n     \n    NOTES:
URL:https://www.tcsatl.org/event/rozs-book-club-the-anxious-generation-via-zoom/
END:VEVENT
END:VCALENDAR