BEGIN:VCALENDAR
VERSION:2.0
PRODID:-//The Children&#039;s School - ECPv6.15.15//NONSGML v1.0//EN
CALSCALE:GREGORIAN
METHOD:PUBLISH
X-ORIGINAL-URL:https://www.tcsatl.org
X-WR-CALDESC:Events for The Children&#039;s School
REFRESH-INTERVAL;VALUE=DURATION:PT1H
X-Robots-Tag:noindex
X-PUBLISHED-TTL:PT1H
BEGIN:VTIMEZONE
TZID:America/New_York
BEGIN:DAYLIGHT
TZOFFSETFROM:-0500
TZOFFSETTO:-0400
TZNAME:EDT
DTSTART:20240310T070000
END:DAYLIGHT
BEGIN:STANDARD
TZOFFSETFROM:-0400
TZOFFSETTO:-0500
TZNAME:EST
DTSTART:20241103T060000
END:STANDARD
BEGIN:DAYLIGHT
TZOFFSETFROM:-0500
TZOFFSETTO:-0400
TZNAME:EDT
DTSTART:20250309T070000
END:DAYLIGHT
BEGIN:STANDARD
TZOFFSETFROM:-0400
TZOFFSETTO:-0500
TZNAME:EST
DTSTART:20251102T060000
END:STANDARD
BEGIN:DAYLIGHT
TZOFFSETFROM:-0500
TZOFFSETTO:-0400
TZNAME:EDT
DTSTART:20260308T070000
END:DAYLIGHT
BEGIN:STANDARD
TZOFFSETFROM:-0400
TZOFFSETTO:-0500
TZNAME:EST
DTSTART:20261101T060000
END:STANDARD
END:VTIMEZONE
BEGIN:VEVENT
DTSTART;VALUE=DATE:20250124
DTEND;VALUE=DATE:20250125
DTSTAMP:20260421T041550
CREATED:20240829T171459Z
LAST-MODIFIED:20250124T011443Z
UID:10011260-1737676800-1737763199@www.tcsatl.org
SUMMARY:C Day
DESCRIPTION:
URL:https://www.tcsatl.org/event/c-day-44/
END:VEVENT
BEGIN:VEVENT
DTSTART;TZID=America/New_York:20250124T151500
DTEND;TZID=America/New_York:20250124T170000
DTSTAMP:20260421T041550
CREATED:20240812T184548Z
LAST-MODIFIED:20250124T165939Z
UID:10010918-1737731700-1737738000@www.tcsatl.org
SUMMARY:MAAC Boys Basketball
DESCRIPTION:
URL:https://www.tcsatl.org/event/maac-boys-basketball-105/
END:VEVENT
BEGIN:VEVENT
DTSTART;TZID=America/New_York:20250124T151500
DTEND;TZID=America/New_York:20250124T170000
DTSTAMP:20260421T041550
CREATED:20240812T184548Z
LAST-MODIFIED:20250124T165938Z
UID:10010919-1737731700-1737738000@www.tcsatl.org
SUMMARY:MAAC Girls Basketball
DESCRIPTION:Carpool 5:00-5:15 PM
URL:https://www.tcsatl.org/event/maac-girls-basketball-42/
END:VEVENT
BEGIN:VEVENT
DTSTART;TZID=America/New_York:20250124T154500
DTEND;TZID=America/New_York:20250124T170000
DTSTAMP:20260421T041550
CREATED:20240812T184548Z
LAST-MODIFIED:20250112T161511Z
UID:10010920-1737733500-1737738000@www.tcsatl.org
SUMMARY:MAAC Girls and Boys Cross Country
DESCRIPTION:Carpool 5:00-5:15 PM
URL:https://www.tcsatl.org/event/maac-girls-and-boys-cross-country-66/
END:VEVENT
END:VCALENDAR