BEGIN:VCALENDAR
VERSION:2.0
PRODID:-//The Children&#039;s School - ECPv6.15.15//NONSGML v1.0//EN
CALSCALE:GREGORIAN
METHOD:PUBLISH
X-WR-CALNAME:The Children&#039;s School
X-ORIGINAL-URL:https://www.tcsatl.org
X-WR-CALDESC:Events for The Children&#039;s School
REFRESH-INTERVAL;VALUE=DURATION:PT1H
X-Robots-Tag:noindex
X-PUBLISHED-TTL:PT1H
BEGIN:VTIMEZONE
TZID:America/New_York
BEGIN:DAYLIGHT
TZOFFSETFROM:-0500
TZOFFSETTO:-0400
TZNAME:EDT
DTSTART:20240310T070000
END:DAYLIGHT
BEGIN:STANDARD
TZOFFSETFROM:-0400
TZOFFSETTO:-0500
TZNAME:EST
DTSTART:20241103T060000
END:STANDARD
BEGIN:DAYLIGHT
TZOFFSETFROM:-0500
TZOFFSETTO:-0400
TZNAME:EDT
DTSTART:20250309T070000
END:DAYLIGHT
BEGIN:STANDARD
TZOFFSETFROM:-0400
TZOFFSETTO:-0500
TZNAME:EST
DTSTART:20251102T060000
END:STANDARD
BEGIN:DAYLIGHT
TZOFFSETFROM:-0500
TZOFFSETTO:-0400
TZNAME:EDT
DTSTART:20260308T070000
END:DAYLIGHT
BEGIN:STANDARD
TZOFFSETFROM:-0400
TZOFFSETTO:-0500
TZNAME:EST
DTSTART:20261101T060000
END:STANDARD
END:VTIMEZONE
BEGIN:VEVENT
DTSTART;VALUE=DATE:20250123
DTEND;VALUE=DATE:20250124
DTSTAMP:20260421T041436
CREATED:20240829T171459Z
LAST-MODIFIED:20250123T011445Z
UID:10011259-1737590400-1737676799@www.tcsatl.org
SUMMARY:B Day
DESCRIPTION:
URL:https://www.tcsatl.org/event/b-day-43/
END:VEVENT
BEGIN:VEVENT
DTSTART;TZID=America/New_York:20250123T151500
DTEND;TZID=America/New_York:20250123T170000
DTSTAMP:20260421T041436
CREATED:20240812T184547Z
LAST-MODIFIED:20250123T165945Z
UID:10010916-1737645300-1737651600@www.tcsatl.org
SUMMARY:MAAC Boys Basketball
DESCRIPTION:
URL:https://www.tcsatl.org/event/maac-boys-basketball-104/
END:VEVENT
BEGIN:VEVENT
DTSTART;TZID=America/New_York:20250123T154500
DTEND;TZID=America/New_York:20250123T164500
DTSTAMP:20260421T041436
CREATED:20240812T184547Z
LAST-MODIFIED:20250123T165946Z
UID:10010917-1737647100-1737650700@www.tcsatl.org
SUMMARY:Intramural Co-Ed Ultimate Frisbee
DESCRIPTION:Carpool 4:45-5:00 PM
URL:https://www.tcsatl.org/event/intramural-co-ed-ultimate-frisbee-28/
END:VEVENT
BEGIN:VEVENT
DTSTART;TZID=America/New_York:20250123T161500
DTEND;TZID=America/New_York:20250123T171500
DTSTAMP:20260421T041436
CREATED:20241106T224651Z
LAST-MODIFIED:20250123T165945Z
UID:10011411-1737648900-1737652500@www.tcsatl.org
SUMMARY:CANCELLED ---- HOME GAME - MAAC GIRLS BASKETBALL GAME vs Intown School
DESCRIPTION:
URL:https://www.tcsatl.org/event/home-game-maac-girls-basketball-game-vs-intown-school/
END:VEVENT
BEGIN:VEVENT
DTSTART;TZID=America/New_York:20250123T171500
DTEND;TZID=America/New_York:20250123T191500
DTSTAMP:20260421T041436
CREATED:20241106T224652Z
LAST-MODIFIED:20250123T165946Z
UID:10011412-1737652500-1737659700@www.tcsatl.org
SUMMARY:CANCELLED ---- HOME GAME - MAAC BOYS BASKETBALL GAME vs Intown School
DESCRIPTION:
URL:https://www.tcsatl.org/event/home-game-maac-boys-basketball-game-vs-intown-school/
END:VEVENT
END:VCALENDAR