BEGIN:VCALENDAR
VERSION:2.0
PRODID:-//The Children&#039;s School - ECPv6.15.15//NONSGML v1.0//EN
CALSCALE:GREGORIAN
METHOD:PUBLISH
X-WR-CALNAME:The Children&#039;s School
X-ORIGINAL-URL:https://www.tcsatl.org
X-WR-CALDESC:Events for The Children&#039;s School
REFRESH-INTERVAL;VALUE=DURATION:PT1H
X-Robots-Tag:noindex
X-PUBLISHED-TTL:PT1H
BEGIN:VTIMEZONE
TZID:America/New_York
BEGIN:DAYLIGHT
TZOFFSETFROM:-0500
TZOFFSETTO:-0400
TZNAME:EDT
DTSTART:20240310T070000
END:DAYLIGHT
BEGIN:STANDARD
TZOFFSETFROM:-0400
TZOFFSETTO:-0500
TZNAME:EST
DTSTART:20241103T060000
END:STANDARD
BEGIN:DAYLIGHT
TZOFFSETFROM:-0500
TZOFFSETTO:-0400
TZNAME:EDT
DTSTART:20250309T070000
END:DAYLIGHT
BEGIN:STANDARD
TZOFFSETFROM:-0400
TZOFFSETTO:-0500
TZNAME:EST
DTSTART:20251102T060000
END:STANDARD
BEGIN:DAYLIGHT
TZOFFSETFROM:-0500
TZOFFSETTO:-0400
TZNAME:EDT
DTSTART:20260308T070000
END:DAYLIGHT
BEGIN:STANDARD
TZOFFSETFROM:-0400
TZOFFSETTO:-0500
TZNAME:EST
DTSTART:20261101T060000
END:STANDARD
END:VTIMEZONE
BEGIN:VEVENT
DTSTART;VALUE=DATE:20250121
DTEND;VALUE=DATE:20250122
DTSTAMP:20260421T043902
CREATED:20240829T171458Z
LAST-MODIFIED:20250121T005944Z
UID:10011257-1737417600-1737503999@www.tcsatl.org
SUMMARY:F Day
DESCRIPTION:
URL:https://www.tcsatl.org/event/f-day-40/
END:VEVENT
BEGIN:VEVENT
DTSTART;TZID=America/New_York:20250121T151500
DTEND;TZID=America/New_York:20250121T163000
DTSTAMP:20260421T043902
CREATED:20240812T184546Z
LAST-MODIFIED:20250121T164448Z
UID:10010911-1737472500-1737477000@www.tcsatl.org
SUMMARY:Intramural Co-Ed Tennis
DESCRIPTION:Carpool 4:40 – 4:55 PM
URL:https://www.tcsatl.org/event/intramural-co-ed-tennis-45/
END:VEVENT
BEGIN:VEVENT
DTSTART;TZID=America/New_York:20250121T151500
DTEND;TZID=America/New_York:20250121T170000
DTSTAMP:20260421T043902
CREATED:20240812T184546Z
LAST-MODIFIED:20250121T164448Z
UID:10010912-1737472500-1737478800@www.tcsatl.org
SUMMARY:MAAC Girls Basketball
DESCRIPTION:Carpool 5:00-5:15 PM
URL:https://www.tcsatl.org/event/maac-girls-basketball-40/
END:VEVENT
BEGIN:VEVENT
DTSTART;TZID=America/New_York:20250121T154500
DTEND;TZID=America/New_York:20250121T170000
DTSTAMP:20260421T043902
CREATED:20240812T184546Z
LAST-MODIFIED:20250112T161511Z
UID:10010910-1737474300-1737478800@www.tcsatl.org
SUMMARY:MAAC Girls and Boys Cross Country
DESCRIPTION:Carpool 5:00-5:15 PM
URL:https://www.tcsatl.org/event/maac-girls-and-boys-cross-country-64/
END:VEVENT
BEGIN:VEVENT
DTSTART;TZID=America/New_York:20250121T163000
DTEND;TZID=America/New_York:20250121T180000
DTSTAMP:20260421T043902
CREATED:20241106T224647Z
LAST-MODIFIED:20250121T164447Z
UID:10011410-1737477000-1737482400@www.tcsatl.org
SUMMARY:AWAY GAME - MAAC GIRLS BASKETBALL GAME vs Cliff Valley
DESCRIPTION:
URL:https://www.tcsatl.org/event/away-game-maac-girls-basketball-game-vs-cliff-valley/
END:VEVENT
END:VCALENDAR