BEGIN:VCALENDAR
VERSION:2.0
PRODID:-//The Children&#039;s School - ECPv6.15.15//NONSGML v1.0//EN
CALSCALE:GREGORIAN
METHOD:PUBLISH
X-WR-CALNAME:The Children&#039;s School
X-ORIGINAL-URL:https://www.tcsatl.org
X-WR-CALDESC:Events for The Children&#039;s School
REFRESH-INTERVAL;VALUE=DURATION:PT1H
X-Robots-Tag:noindex
X-PUBLISHED-TTL:PT1H
BEGIN:VTIMEZONE
TZID:America/New_York
BEGIN:DAYLIGHT
TZOFFSETFROM:-0500
TZOFFSETTO:-0400
TZNAME:EDT
DTSTART:20240310T070000
END:DAYLIGHT
BEGIN:STANDARD
TZOFFSETFROM:-0400
TZOFFSETTO:-0500
TZNAME:EST
DTSTART:20241103T060000
END:STANDARD
BEGIN:DAYLIGHT
TZOFFSETFROM:-0500
TZOFFSETTO:-0400
TZNAME:EDT
DTSTART:20250309T070000
END:DAYLIGHT
BEGIN:STANDARD
TZOFFSETFROM:-0400
TZOFFSETTO:-0500
TZNAME:EST
DTSTART:20251102T060000
END:STANDARD
BEGIN:DAYLIGHT
TZOFFSETFROM:-0500
TZOFFSETTO:-0400
TZNAME:EDT
DTSTART:20260308T070000
END:DAYLIGHT
BEGIN:STANDARD
TZOFFSETFROM:-0400
TZOFFSETTO:-0500
TZNAME:EST
DTSTART:20261101T060000
END:STANDARD
END:VTIMEZONE
BEGIN:VEVENT
DTSTART;VALUE=DATE:20250116
DTEND;VALUE=DATE:20250117
DTSTAMP:20260421T041436
CREATED:20240829T171458Z
LAST-MODIFIED:20250116T004443Z
UID:10011253-1736985600-1737071999@www.tcsatl.org
SUMMARY:D Day
DESCRIPTION:
URL:https://www.tcsatl.org/event/d-day-40/
END:VEVENT
BEGIN:VEVENT
DTSTART;TZID=America/New_York:20250116T151500
DTEND;TZID=America/New_York:20250116T170000
DTSTAMP:20260421T041436
CREATED:20240812T184545Z
LAST-MODIFIED:20250116T163021Z
UID:10010904-1737040500-1737046800@www.tcsatl.org
SUMMARY:MAAC Boys Basketball
DESCRIPTION:
URL:https://www.tcsatl.org/event/maac-boys-basketball-101/
END:VEVENT
BEGIN:VEVENT
DTSTART;TZID=America/New_York:20250116T154500
DTEND;TZID=America/New_York:20250116T164500
DTSTAMP:20260421T041436
CREATED:20240812T184544Z
LAST-MODIFIED:20250116T163021Z
UID:10010903-1737042300-1737045900@www.tcsatl.org
SUMMARY:Intramural Co-Ed Ultimate Frisbee
DESCRIPTION:Carpool 4:45-5:00 PM
URL:https://www.tcsatl.org/event/intramural-co-ed-ultimate-frisbee-26/
END:VEVENT
BEGIN:VEVENT
DTSTART;TZID=America/New_York:20250116T160000
DTEND;TZID=America/New_York:20250116T180000
DTSTAMP:20260421T041436
CREATED:20241106T224644Z
LAST-MODIFIED:20250113T161445Z
UID:10011408-1737043200-1737050400@www.tcsatl.org
SUMMARY:AWAY GAME - MAAC BOYS BASKETBALL GAME vs Annunciation Day School - Annunciation Day School
DESCRIPTION:
URL:https://www.tcsatl.org/event/away-game-maac-boys-basketball-game-vs-annunciation-day-school-annunciation-day-school/
END:VEVENT
BEGIN:VEVENT
DTSTART;TZID=America/New_York:20250116T180000
DTEND;TZID=America/New_York:20250116T190000
DTSTAMP:20260421T041436
CREATED:20241106T224644Z
LAST-MODIFIED:20250113T161444Z
UID:10011409-1737050400-1737054000@www.tcsatl.org
SUMMARY:AWAY GAME - MAAC GIRLS BASKETBALL GAME vs Annunciation Day School
DESCRIPTION:
URL:https://www.tcsatl.org/event/away-game-maac-girls-basketball-game-vs-annunciation-day-school/
END:VEVENT
END:VCALENDAR