BEGIN:VCALENDAR
VERSION:2.0
PRODID:-//The Children&#039;s School - ECPv6.15.15//NONSGML v1.0//EN
CALSCALE:GREGORIAN
METHOD:PUBLISH
X-WR-CALNAME:The Children&#039;s School
X-ORIGINAL-URL:https://www.tcsatl.org
X-WR-CALDESC:Events for The Children&#039;s School
REFRESH-INTERVAL;VALUE=DURATION:PT1H
X-Robots-Tag:noindex
X-PUBLISHED-TTL:PT1H
BEGIN:VTIMEZONE
TZID:America/New_York
BEGIN:DAYLIGHT
TZOFFSETFROM:-0500
TZOFFSETTO:-0400
TZNAME:EDT
DTSTART:20240310T070000
END:DAYLIGHT
BEGIN:STANDARD
TZOFFSETFROM:-0400
TZOFFSETTO:-0500
TZNAME:EST
DTSTART:20241103T060000
END:STANDARD
BEGIN:DAYLIGHT
TZOFFSETFROM:-0500
TZOFFSETTO:-0400
TZNAME:EDT
DTSTART:20250309T070000
END:DAYLIGHT
BEGIN:STANDARD
TZOFFSETFROM:-0400
TZOFFSETTO:-0500
TZNAME:EST
DTSTART:20251102T060000
END:STANDARD
BEGIN:DAYLIGHT
TZOFFSETFROM:-0500
TZOFFSETTO:-0400
TZNAME:EDT
DTSTART:20260308T070000
END:DAYLIGHT
BEGIN:STANDARD
TZOFFSETFROM:-0400
TZOFFSETTO:-0500
TZNAME:EST
DTSTART:20261101T060000
END:STANDARD
END:VTIMEZONE
BEGIN:VEVENT
DTSTART;VALUE=DATE:20250115
DTEND;VALUE=DATE:20250116
DTSTAMP:20260421T041409
CREATED:20240829T171458Z
LAST-MODIFIED:20250115T004448Z
UID:10011254-1736899200-1736985599@www.tcsatl.org
SUMMARY:C Day
DESCRIPTION:
URL:https://www.tcsatl.org/event/c-day-43/
END:VEVENT
BEGIN:VEVENT
DTSTART;TZID=America/New_York:20250115T074500
DTEND;TZID=America/New_York:20250115T090000
DTSTAMP:20260421T041409
CREATED:20240812T184544Z
LAST-MODIFIED:20250114T161448Z
UID:10010900-1736927100-1736931600@www.tcsatl.org
SUMMARY:MAAC Girls Basketball
DESCRIPTION:
URL:https://www.tcsatl.org/event/maac-girls-basketball-38/
END:VEVENT
BEGIN:VEVENT
DTSTART;TZID=America/New_York:20250115T151500
DTEND;TZID=America/New_York:20250115T163000
DTSTAMP:20260421T041409
CREATED:20240812T184544Z
LAST-MODIFIED:20250115T162944Z
UID:10010901-1736954100-1736958600@www.tcsatl.org
SUMMARY:Intramural Co-Ed Tennis
DESCRIPTION:Carpool 4:40 – 4:55 PM
URL:https://www.tcsatl.org/event/intramural-co-ed-tennis-44/
END:VEVENT
BEGIN:VEVENT
DTSTART;TZID=America/New_York:20250115T154500
DTEND;TZID=America/New_York:20250115T170000
DTSTAMP:20260421T041409
CREATED:20240812T184544Z
LAST-MODIFIED:20250112T161445Z
UID:10010902-1736955900-1736960400@www.tcsatl.org
SUMMARY:MAAC Girls and Boys Cross Country
DESCRIPTION:Carpool 5:00-5:15 PM
URL:https://www.tcsatl.org/event/maac-girls-and-boys-cross-country-62/
END:VEVENT
BEGIN:VEVENT
DTSTART;TZID=America/New_York:20250115T180000
DTEND;TZID=America/New_York:20250115T190000
DTSTAMP:20260421T041409
CREATED:20241022T173019Z
LAST-MODIFIED:20250115T004448Z
UID:10011383-1736964000-1736967600@www.tcsatl.org
SUMMARY:Learning in Action Night
DESCRIPTION:More details coming in December!
URL:https://www.tcsatl.org/event/learning-in-action-night/
END:VEVENT
END:VCALENDAR