BEGIN:VCALENDAR
VERSION:2.0
PRODID:-//The Children&#039;s School - ECPv6.15.15//NONSGML v1.0//EN
CALSCALE:GREGORIAN
METHOD:PUBLISH
X-ORIGINAL-URL:https://www.tcsatl.org
X-WR-CALDESC:Events for The Children&#039;s School
REFRESH-INTERVAL;VALUE=DURATION:PT1H
X-Robots-Tag:noindex
X-PUBLISHED-TTL:PT1H
BEGIN:VTIMEZONE
TZID:America/New_York
BEGIN:DAYLIGHT
TZOFFSETFROM:-0500
TZOFFSETTO:-0400
TZNAME:EDT
DTSTART:20240310T070000
END:DAYLIGHT
BEGIN:STANDARD
TZOFFSETFROM:-0400
TZOFFSETTO:-0500
TZNAME:EST
DTSTART:20241103T060000
END:STANDARD
BEGIN:DAYLIGHT
TZOFFSETFROM:-0500
TZOFFSETTO:-0400
TZNAME:EDT
DTSTART:20250309T070000
END:DAYLIGHT
BEGIN:STANDARD
TZOFFSETFROM:-0400
TZOFFSETTO:-0500
TZNAME:EST
DTSTART:20251102T060000
END:STANDARD
BEGIN:DAYLIGHT
TZOFFSETFROM:-0500
TZOFFSETTO:-0400
TZNAME:EDT
DTSTART:20260308T070000
END:DAYLIGHT
BEGIN:STANDARD
TZOFFSETFROM:-0400
TZOFFSETTO:-0500
TZNAME:EST
DTSTART:20261101T060000
END:STANDARD
END:VTIMEZONE
BEGIN:VEVENT
DTSTART;VALUE=DATE:20250114
DTEND;VALUE=DATE:20250115
DTSTAMP:20260421T041549
CREATED:20240829T171458Z
LAST-MODIFIED:20250114T004445Z
UID:10011255-1736812800-1736899199@www.tcsatl.org
SUMMARY:B Day
DESCRIPTION:
URL:https://www.tcsatl.org/event/b-day-42/
END:VEVENT
BEGIN:VEVENT
DTSTART;TZID=America/New_York:20250114T151500
DTEND;TZID=America/New_York:20250114T163000
DTSTAMP:20260421T041549
CREATED:20240812T184544Z
LAST-MODIFIED:20250114T161446Z
UID:10010899-1736867700-1736872200@www.tcsatl.org
SUMMARY:Intramural Co-Ed Tennis
DESCRIPTION:Carpool 4:40 – 4:55 PM
URL:https://www.tcsatl.org/event/intramural-co-ed-tennis-43/
END:VEVENT
BEGIN:VEVENT
DTSTART;TZID=America/New_York:20250114T151500
DTEND;TZID=America/New_York:20250114T170000
DTSTAMP:20260421T041549
CREATED:20240812T184542Z
LAST-MODIFIED:20250114T161447Z
UID:10010898-1736867700-1736874000@www.tcsatl.org
SUMMARY:MAAC Girls Basketball
DESCRIPTION:Carpool 5:00-5:15 PM
URL:https://www.tcsatl.org/event/maac-girls-basketball-37/
END:VEVENT
BEGIN:VEVENT
DTSTART;TZID=America/New_York:20250114T154500
DTEND;TZID=America/New_York:20250114T170000
DTSTAMP:20260421T041549
CREATED:20240812T184542Z
LAST-MODIFIED:20250114T161446Z
UID:10010897-1736869500-1736874000@www.tcsatl.org
SUMMARY:MAAC Girls and Boys Cross Country
DESCRIPTION:Carpool 5:00-5:15 PM
URL:https://www.tcsatl.org/event/maac-girls-and-boys-cross-country-61/
END:VEVENT
BEGIN:VEVENT
DTSTART;TZID=America/New_York:20250114T160000
DTEND;TZID=America/New_York:20250114T180000
DTSTAMP:20260421T041549
CREATED:20250113T161441Z
LAST-MODIFIED:20250114T161447Z
UID:10011446-1736870400-1736877600@www.tcsatl.org
SUMMARY:AWAY GAME - MAAC Boys Basketball vs Annunciation Day School
DESCRIPTION:B Team – 4:00 PM\nA Team – 5:00 PM
URL:https://www.tcsatl.org/event/away-game-maac-boys-basketball-vs-annunciation-day-school/
LOCATION:Annunciation Day School\, 2500 Clairmont Rd NE\, Atlanta\, GA\, United States
GEO:33.828975;-84.308523
X-APPLE-STRUCTURED-LOCATION;VALUE=URI;X-ADDRESS=Annunciation Day School 2500 Clairmont Rd NE Atlanta GA United States;X-APPLE-RADIUS=500;X-TITLE=2500 Clairmont Rd NE:geo:-84.308523,33.828975
END:VEVENT
BEGIN:VEVENT
DTSTART;TZID=America/New_York:20250114T160000
DTEND;TZID=America/New_York:20250114T180000
DTSTAMP:20260421T041549
CREATED:20250113T161442Z
LAST-MODIFIED:20250113T161442Z
UID:10011444-1736870400-1736877600@www.tcsatl.org
SUMMARY:AWAY GAME - MAAC Boys Basketball vs Annunciation Day School
DESCRIPTION:B Team – 4:00 PM\nA Team – 5:00 PM
URL:https://www.tcsatl.org/event/away-game-maac-boys-basketball-vs-annunciation-day-school-2/
LOCATION:Annunciation Day School\, 2500 Clairmont Rd NE\, Atlanta\, GA\, United States
GEO:33.828975;-84.308523
X-APPLE-STRUCTURED-LOCATION;VALUE=URI;X-ADDRESS=Annunciation Day School 2500 Clairmont Rd NE Atlanta GA United States;X-APPLE-RADIUS=500;X-TITLE=2500 Clairmont Rd NE:geo:-84.308523,33.828975
END:VEVENT
BEGIN:VEVENT
DTSTART;TZID=America/New_York:20250114T180000
DTEND;TZID=America/New_York:20250114T190000
DTSTAMP:20260421T041549
CREATED:20250113T161442Z
LAST-MODIFIED:20250114T161448Z
UID:10011445-1736877600-1736881200@www.tcsatl.org
SUMMARY:AWAY GAME - MAAC Girls Basketball vs Annunciation Day School
DESCRIPTION:
URL:https://www.tcsatl.org/event/away-game-maac-girls-basketball-vs-annunciation-day-school/
END:VEVENT
END:VCALENDAR