BEGIN:VCALENDAR
VERSION:2.0
PRODID:-//The Children&#039;s School - ECPv6.15.15//NONSGML v1.0//EN
CALSCALE:GREGORIAN
METHOD:PUBLISH
X-ORIGINAL-URL:https://www.tcsatl.org
X-WR-CALDESC:Events for The Children&#039;s School
REFRESH-INTERVAL;VALUE=DURATION:PT1H
X-Robots-Tag:noindex
X-PUBLISHED-TTL:PT1H
BEGIN:VTIMEZONE
TZID:America/New_York
BEGIN:DAYLIGHT
TZOFFSETFROM:-0500
TZOFFSETTO:-0400
TZNAME:EDT
DTSTART:20230312T070000
END:DAYLIGHT
BEGIN:STANDARD
TZOFFSETFROM:-0400
TZOFFSETTO:-0500
TZNAME:EST
DTSTART:20231105T060000
END:STANDARD
BEGIN:DAYLIGHT
TZOFFSETFROM:-0500
TZOFFSETTO:-0400
TZNAME:EDT
DTSTART:20240310T070000
END:DAYLIGHT
BEGIN:STANDARD
TZOFFSETFROM:-0400
TZOFFSETTO:-0500
TZNAME:EST
DTSTART:20241103T060000
END:STANDARD
BEGIN:DAYLIGHT
TZOFFSETFROM:-0500
TZOFFSETTO:-0400
TZNAME:EDT
DTSTART:20250309T070000
END:DAYLIGHT
BEGIN:STANDARD
TZOFFSETFROM:-0400
TZOFFSETTO:-0500
TZNAME:EST
DTSTART:20251102T060000
END:STANDARD
BEGIN:DAYLIGHT
TZOFFSETFROM:-0500
TZOFFSETTO:-0400
TZNAME:EDT
DTSTART:20260308T070000
END:DAYLIGHT
BEGIN:STANDARD
TZOFFSETFROM:-0400
TZOFFSETTO:-0500
TZNAME:EST
DTSTART:20261101T060000
END:STANDARD
END:VTIMEZONE
BEGIN:VEVENT
DTSTART;VALUE=DATE:20241223
DTEND;VALUE=DATE:20250107
DTSTAMP:20260421T041539
CREATED:20240613T163303Z
LAST-MODIFIED:20250106T001447Z
UID:10009517-1734912000-1736207999@www.tcsatl.org
SUMMARY:Winter Break - School Closed - TCS
DESCRIPTION:
URL:https://www.tcsatl.org/event/winter-break-school-closed-tcs/
END:VEVENT
BEGIN:VEVENT
DTSTART;VALUE=DATE:20250106
DTEND;VALUE=DATE:20250107
DTSTAMP:20260421T041539
CREATED:20240613T163302Z
LAST-MODIFIED:20250106T001448Z
UID:10009515-1736121600-1736207999@www.tcsatl.org
SUMMARY:School Closed for Students - Professional Development Day - TCS
DESCRIPTION:
URL:https://www.tcsatl.org/event/school-closed-for-students-professional-development-day-tcs/
END:VEVENT
BEGIN:VEVENT
DTSTART;TZID=America/New_York:20250106T151500
DTEND;TZID=America/New_York:20250106T170000
DTSTAMP:20260421T041539
CREATED:20240812T184540Z
LAST-MODIFIED:20250106T151445Z
UID:10010883-1736176500-1736182800@www.tcsatl.org
SUMMARY:MAAC Boys Basketball
DESCRIPTION:
URL:https://www.tcsatl.org/event/maac-boys-basketball-97/
END:VEVENT
BEGIN:VEVENT
DTSTART;TZID=America/New_York:20250106T154500
DTEND;TZID=America/New_York:20250106T164500
DTSTAMP:20260421T041539
CREATED:20240812T184539Z
LAST-MODIFIED:20250106T151445Z
UID:10010882-1736178300-1736181900@www.tcsatl.org
SUMMARY:Intramural Co-Ed Ultimate Frisbee
DESCRIPTION:Carpool 4:45-5:00 PM
URL:https://www.tcsatl.org/event/intramural-co-ed-ultimate-frisbee-23/
END:VEVENT
END:VCALENDAR