BEGIN:VCALENDAR
VERSION:2.0
PRODID:-//The Children&#039;s School - ECPv6.15.15//NONSGML v1.0//EN
CALSCALE:GREGORIAN
METHOD:PUBLISH
X-WR-CALNAME:The Children&#039;s School
X-ORIGINAL-URL:https://www.tcsatl.org
X-WR-CALDESC:Events for The Children&#039;s School
REFRESH-INTERVAL;VALUE=DURATION:PT1H
X-Robots-Tag:noindex
X-PUBLISHED-TTL:PT1H
BEGIN:VTIMEZONE
TZID:America/New_York
BEGIN:DAYLIGHT
TZOFFSETFROM:-0500
TZOFFSETTO:-0400
TZNAME:EDT
DTSTART:20230312T070000
END:DAYLIGHT
BEGIN:STANDARD
TZOFFSETFROM:-0400
TZOFFSETTO:-0500
TZNAME:EST
DTSTART:20231105T060000
END:STANDARD
BEGIN:DAYLIGHT
TZOFFSETFROM:-0500
TZOFFSETTO:-0400
TZNAME:EDT
DTSTART:20240310T070000
END:DAYLIGHT
BEGIN:STANDARD
TZOFFSETFROM:-0400
TZOFFSETTO:-0500
TZNAME:EST
DTSTART:20241103T060000
END:STANDARD
BEGIN:DAYLIGHT
TZOFFSETFROM:-0500
TZOFFSETTO:-0400
TZNAME:EDT
DTSTART:20250309T070000
END:DAYLIGHT
BEGIN:STANDARD
TZOFFSETFROM:-0400
TZOFFSETTO:-0500
TZNAME:EST
DTSTART:20251102T060000
END:STANDARD
END:VTIMEZONE
BEGIN:VEVENT
DTSTART;VALUE=DATE:20241209
DTEND;VALUE=DATE:20241210
DTSTAMP:20260421T054336
CREATED:20240829T171455Z
LAST-MODIFIED:20241209T212944Z
UID:10011241-1733702400-1733788799@www.tcsatl.org
SUMMARY:F Day
DESCRIPTION:
URL:https://www.tcsatl.org/event/f-day-37/
END:VEVENT
BEGIN:VEVENT
DTSTART;TZID=America/New_York:20241209T151500
DTEND;TZID=America/New_York:20241209T170000
DTSTAMP:20260421T054336
CREATED:20240812T184530Z
LAST-MODIFIED:20241209T192947Z
UID:10010831-1733757300-1733763600@www.tcsatl.org
SUMMARY:MAAC Boys Basketball
DESCRIPTION:
URL:https://www.tcsatl.org/event/maac-boys-basketball-85/
END:VEVENT
BEGIN:VEVENT
DTSTART;TZID=America/New_York:20241209T154500
DTEND;TZID=America/New_York:20241209T164500
DTSTAMP:20260421T054336
CREATED:20240812T184530Z
LAST-MODIFIED:20241209T192947Z
UID:10010830-1733759100-1733762700@www.tcsatl.org
SUMMARY:Intramural Co-Ed Ultimate Frisbee
DESCRIPTION:Carpool 4:45-5:00 PM
URL:https://www.tcsatl.org/event/intramural-co-ed-ultimate-frisbee-15/
END:VEVENT
BEGIN:VEVENT
DTSTART;TZID=America/New_York:20241209T163000
DTEND;TZID=America/New_York:20241209T183000
DTSTAMP:20260421T054336
CREATED:20241106T224603Z
LAST-MODIFIED:20241209T192948Z
UID:10011400-1733761800-1733769000@www.tcsatl.org
SUMMARY:AWAY GAME - MAAC BOYS BASKETBALL GAME vs Atlanta Academy - Atlanta Academy
DESCRIPTION:
URL:https://www.tcsatl.org/event/away-game-maac-boys-basketball-game-vs-atlanta-academy-atlanta-academy/
END:VEVENT
END:VCALENDAR