BEGIN:VCALENDAR
VERSION:2.0
PRODID:-//The Children&#039;s School - ECPv6.15.15//NONSGML v1.0//EN
CALSCALE:GREGORIAN
METHOD:PUBLISH
X-WR-CALNAME:The Children&#039;s School
X-ORIGINAL-URL:https://www.tcsatl.org
X-WR-CALDESC:Events for The Children&#039;s School
REFRESH-INTERVAL;VALUE=DURATION:PT1H
X-Robots-Tag:noindex
X-PUBLISHED-TTL:PT1H
BEGIN:VTIMEZONE
TZID:America/New_York
BEGIN:DAYLIGHT
TZOFFSETFROM:-0500
TZOFFSETTO:-0400
TZNAME:EDT
DTSTART:20230312T070000
END:DAYLIGHT
BEGIN:STANDARD
TZOFFSETFROM:-0400
TZOFFSETTO:-0500
TZNAME:EST
DTSTART:20231105T060000
END:STANDARD
BEGIN:DAYLIGHT
TZOFFSETFROM:-0500
TZOFFSETTO:-0400
TZNAME:EDT
DTSTART:20240310T070000
END:DAYLIGHT
BEGIN:STANDARD
TZOFFSETFROM:-0400
TZOFFSETTO:-0500
TZNAME:EST
DTSTART:20241103T060000
END:STANDARD
BEGIN:DAYLIGHT
TZOFFSETFROM:-0500
TZOFFSETTO:-0400
TZNAME:EDT
DTSTART:20250309T070000
END:DAYLIGHT
BEGIN:STANDARD
TZOFFSETFROM:-0400
TZOFFSETTO:-0500
TZNAME:EST
DTSTART:20251102T060000
END:STANDARD
END:VTIMEZONE
BEGIN:VEVENT
DTSTART;VALUE=DATE:20241121
DTEND;VALUE=DATE:20241122
DTSTAMP:20260421T084518
CREATED:20240829T171454Z
LAST-MODIFIED:20241121T201442Z
UID:10011233-1732147200-1732233599@www.tcsatl.org
SUMMARY:F Day
DESCRIPTION:
URL:https://www.tcsatl.org/event/f-day-36/
END:VEVENT
BEGIN:VEVENT
DTSTART;TZID=America/New_York:20241121T151500
DTEND;TZID=America/New_York:20241121T170000
DTSTAMP:20260421T084518
CREATED:20240812T184524Z
LAST-MODIFIED:20241121T161447Z
UID:10010800-1732202100-1732208400@www.tcsatl.org
SUMMARY:MAAC Boys Basketball
DESCRIPTION:
URL:https://www.tcsatl.org/event/maac-boys-basketball-77/
END:VEVENT
BEGIN:VEVENT
DTSTART;TZID=America/New_York:20241121T154500
DTEND;TZID=America/New_York:20241121T164500
DTSTAMP:20260421T084518
CREATED:20240812T184524Z
LAST-MODIFIED:20241121T161449Z
UID:10010799-1732203900-1732207500@www.tcsatl.org
SUMMARY:Intramural Co-Ed Ultimate Frisbee
DESCRIPTION:Carpool 4:45-5:00 PM
URL:https://www.tcsatl.org/event/intramural-co-ed-ultimate-frisbee-10/
END:VEVENT
BEGIN:VEVENT
DTSTART;TZID=America/New_York:20241121T163000
DTEND;TZID=America/New_York:20241121T173000
DTSTAMP:20260421T084518
CREATED:20241106T224546Z
LAST-MODIFIED:20241121T161449Z
UID:10011396-1732206600-1732210200@www.tcsatl.org
SUMMARY:HOME GAME - MAAC GIRLS BASKETBALL GAME vs McGinnis Woods - TCS
DESCRIPTION:
URL:https://www.tcsatl.org/event/home-game-maac-girls-basketball-game-vs-mcginnis-woods-tcs/
END:VEVENT
BEGIN:VEVENT
DTSTART;TZID=America/New_York:20241121T173000
DTEND;TZID=America/New_York:20241121T183000
DTSTAMP:20260421T084518
CREATED:20241106T224546Z
LAST-MODIFIED:20241121T161450Z
UID:10011397-1732210200-1732213800@www.tcsatl.org
SUMMARY:HOME GAME - MAAC BOYS BASKETBALL GAME vs McGinnis Woods
DESCRIPTION:
URL:https://www.tcsatl.org/event/home-game-maac-boys-basketball-game-vs-mcginnis-woods/
END:VEVENT
END:VCALENDAR