BEGIN:VCALENDAR
VERSION:2.0
PRODID:-//The Children&#039;s School - ECPv6.15.15//NONSGML v1.0//EN
CALSCALE:GREGORIAN
METHOD:PUBLISH
X-ORIGINAL-URL:https://www.tcsatl.org
X-WR-CALDESC:Events for The Children&#039;s School
REFRESH-INTERVAL;VALUE=DURATION:PT1H
X-Robots-Tag:noindex
X-PUBLISHED-TTL:PT1H
BEGIN:VTIMEZONE
TZID:America/New_York
BEGIN:DAYLIGHT
TZOFFSETFROM:-0500
TZOFFSETTO:-0400
TZNAME:EDT
DTSTART:20230312T070000
END:DAYLIGHT
BEGIN:STANDARD
TZOFFSETFROM:-0400
TZOFFSETTO:-0500
TZNAME:EST
DTSTART:20231105T060000
END:STANDARD
BEGIN:DAYLIGHT
TZOFFSETFROM:-0500
TZOFFSETTO:-0400
TZNAME:EDT
DTSTART:20240310T070000
END:DAYLIGHT
BEGIN:STANDARD
TZOFFSETFROM:-0400
TZOFFSETTO:-0500
TZNAME:EST
DTSTART:20241103T060000
END:STANDARD
BEGIN:DAYLIGHT
TZOFFSETFROM:-0500
TZOFFSETTO:-0400
TZNAME:EDT
DTSTART:20250309T070000
END:DAYLIGHT
BEGIN:STANDARD
TZOFFSETFROM:-0400
TZOFFSETTO:-0500
TZNAME:EST
DTSTART:20251102T060000
END:STANDARD
END:VTIMEZONE
BEGIN:VEVENT
DTSTART;VALUE=DATE:20241119
DTEND;VALUE=DATE:20241120
DTSTAMP:20260421T084648
CREATED:20240829T171454Z
LAST-MODIFIED:20241119T201444Z
UID:10011232-1731974400-1732060799@www.tcsatl.org
SUMMARY:D Day
DESCRIPTION:
URL:https://www.tcsatl.org/event/d-day-36/
END:VEVENT
BEGIN:VEVENT
DTSTART;TZID=America/New_York:20241119T151500
DTEND;TZID=America/New_York:20241119T163000
DTSTAMP:20260421T084648
CREATED:20240812T184523Z
LAST-MODIFIED:20241119T155949Z
UID:10010795-1732029300-1732033800@www.tcsatl.org
SUMMARY:Intramural Co-Ed Tennis
DESCRIPTION:Carpool 4:40 – 4:55 PM
URL:https://www.tcsatl.org/event/intramural-co-ed-tennis-27/
END:VEVENT
BEGIN:VEVENT
DTSTART;TZID=America/New_York:20241119T151500
DTEND;TZID=America/New_York:20241119T170000
DTSTAMP:20260421T084648
CREATED:20240812T184522Z
LAST-MODIFIED:20241119T155949Z
UID:10010793-1732029300-1732035600@www.tcsatl.org
SUMMARY:MAAC Girls Basketball
DESCRIPTION:Carpool 5:00-5:15 PM
URL:https://www.tcsatl.org/event/maac-girls-basketball-13/
END:VEVENT
BEGIN:VEVENT
DTSTART;TZID=America/New_York:20241119T154500
DTEND;TZID=America/New_York:20241119T170000
DTSTAMP:20260421T084648
CREATED:20240812T184523Z
LAST-MODIFIED:20241119T155948Z
UID:10010794-1732031100-1732035600@www.tcsatl.org
SUMMARY:MAAC Girls and Boys Cross Country
DESCRIPTION:Carpool 5:00-5:15 PM
URL:https://www.tcsatl.org/event/maac-girls-and-boys-cross-country-37/
END:VEVENT
BEGIN:VEVENT
DTSTART;TZID=America/New_York:20241119T163000
DTEND;TZID=America/New_York:20241119T183000
DTSTAMP:20260421T084648
CREATED:20241106T224543Z
LAST-MODIFIED:20241119T155949Z
UID:10011395-1732033800-1732041000@www.tcsatl.org
SUMMARY:AWAY GAME - MAAC BOYS BASKETBALL GAME vs Atlanta Jewish Academy - Atlanta Jewish Academy
DESCRIPTION:
URL:https://www.tcsatl.org/event/away-game-maac-boys-basketball-game-vs-atlanta-jewish-academy-atlanta-jewish-academy/
END:VEVENT
END:VCALENDAR