BEGIN:VCALENDAR
VERSION:2.0
PRODID:-//The Children&#039;s School - ECPv6.15.15//NONSGML v1.0//EN
CALSCALE:GREGORIAN
METHOD:PUBLISH
X-WR-CALNAME:The Children&#039;s School
X-ORIGINAL-URL:https://www.tcsatl.org
X-WR-CALDESC:Events for The Children&#039;s School
REFRESH-INTERVAL;VALUE=DURATION:PT1H
X-Robots-Tag:noindex
X-PUBLISHED-TTL:PT1H
BEGIN:VTIMEZONE
TZID:America/New_York
BEGIN:DAYLIGHT
TZOFFSETFROM:-0500
TZOFFSETTO:-0400
TZNAME:EDT
DTSTART:20230312T070000
END:DAYLIGHT
BEGIN:STANDARD
TZOFFSETFROM:-0400
TZOFFSETTO:-0500
TZNAME:EST
DTSTART:20231105T060000
END:STANDARD
BEGIN:DAYLIGHT
TZOFFSETFROM:-0500
TZOFFSETTO:-0400
TZNAME:EDT
DTSTART:20240310T070000
END:DAYLIGHT
BEGIN:STANDARD
TZOFFSETFROM:-0400
TZOFFSETTO:-0500
TZNAME:EST
DTSTART:20241103T060000
END:STANDARD
BEGIN:DAYLIGHT
TZOFFSETFROM:-0500
TZOFFSETTO:-0400
TZNAME:EDT
DTSTART:20250309T070000
END:DAYLIGHT
BEGIN:STANDARD
TZOFFSETFROM:-0400
TZOFFSETTO:-0500
TZNAME:EST
DTSTART:20251102T060000
END:STANDARD
END:VTIMEZONE
BEGIN:VEVENT
DTSTART;VALUE=DATE:20241106
DTEND;VALUE=DATE:20241107
DTSTAMP:20260421T084454
CREATED:20240829T171452Z
LAST-MODIFIED:20241106T192942Z
UID:10011222-1730851200-1730937599@www.tcsatl.org
SUMMARY:A Day
DESCRIPTION:
URL:https://www.tcsatl.org/event/a-day-35/
END:VEVENT
BEGIN:VEVENT
DTSTART;TZID=America/New_York:20241106T074500
DTEND;TZID=America/New_York:20241106T090000
DTSTAMP:20260421T084454
CREATED:20240812T184519Z
LAST-MODIFIED:20241105T224444Z
UID:10010770-1730879100-1730883600@www.tcsatl.org
SUMMARY:MAAC Girls Basketball
DESCRIPTION:
URL:https://www.tcsatl.org/event/maac-girls-basketball-8/
END:VEVENT
BEGIN:VEVENT
DTSTART;TZID=America/New_York:20241106T151500
DTEND;TZID=America/New_York:20241106T163000
DTSTAMP:20260421T084454
CREATED:20240812T184519Z
LAST-MODIFIED:20241105T224445Z
UID:10010772-1730906100-1730910600@www.tcsatl.org
SUMMARY:Intramural Co-Ed Tennis
DESCRIPTION:Carpool 4:40 – 4:55 PM
URL:https://www.tcsatl.org/event/intramural-co-ed-tennis-24/
END:VEVENT
BEGIN:VEVENT
DTSTART;TZID=America/New_York:20241106T154500
DTEND;TZID=America/New_York:20241106T170000
DTSTAMP:20260421T084454
CREATED:20240812T184519Z
LAST-MODIFIED:20241105T224445Z
UID:10010771-1730907900-1730912400@www.tcsatl.org
SUMMARY:MAAC Girls and Boys Cross Country
DESCRIPTION:Carpool 5:00-5:15 PM
URL:https://www.tcsatl.org/event/maac-girls-and-boys-cross-country-32/
END:VEVENT
END:VCALENDAR