BEGIN:VCALENDAR
VERSION:2.0
PRODID:-//The Children&#039;s School - ECPv6.15.15//NONSGML v1.0//EN
CALSCALE:GREGORIAN
METHOD:PUBLISH
X-ORIGINAL-URL:https://www.tcsatl.org
X-WR-CALDESC:Events for The Children&#039;s School
REFRESH-INTERVAL;VALUE=DURATION:PT1H
X-Robots-Tag:noindex
X-PUBLISHED-TTL:PT1H
BEGIN:VTIMEZONE
TZID:America/New_York
BEGIN:DAYLIGHT
TZOFFSETFROM:-0500
TZOFFSETTO:-0400
TZNAME:EDT
DTSTART:20230312T070000
END:DAYLIGHT
BEGIN:STANDARD
TZOFFSETFROM:-0400
TZOFFSETTO:-0500
TZNAME:EST
DTSTART:20231105T060000
END:STANDARD
BEGIN:DAYLIGHT
TZOFFSETFROM:-0500
TZOFFSETTO:-0400
TZNAME:EDT
DTSTART:20240310T070000
END:DAYLIGHT
BEGIN:STANDARD
TZOFFSETFROM:-0400
TZOFFSETTO:-0500
TZNAME:EST
DTSTART:20241103T060000
END:STANDARD
BEGIN:DAYLIGHT
TZOFFSETFROM:-0500
TZOFFSETTO:-0400
TZNAME:EDT
DTSTART:20250309T070000
END:DAYLIGHT
BEGIN:STANDARD
TZOFFSETFROM:-0400
TZOFFSETTO:-0500
TZNAME:EST
DTSTART:20251102T060000
END:STANDARD
END:VTIMEZONE
BEGIN:VEVENT
DTSTART;VALUE=DATE:20241029
DTEND;VALUE=DATE:20241030
DTSTAMP:20260421T084632
CREATED:20240829T171451Z
LAST-MODIFIED:20241029T181548Z
UID:10011216-1730160000-1730246399@www.tcsatl.org
SUMMARY:B Day
DESCRIPTION:
URL:https://www.tcsatl.org/event/b-day-36/
END:VEVENT
BEGIN:VEVENT
DTSTART;TZID=America/New_York:20241029T120000
DTEND;TZID=America/New_York:20241029T130000
DTSTAMP:20260421T084632
CREATED:20240904T175944Z
LAST-MODIFIED:20241028T181447Z
UID:10011348-1730203200-1730206800@www.tcsatl.org
SUMMARY:1st Grade Ages & Stages Virtual Event
DESCRIPTION:Join Head of School Roslyn Benjamin and members of program leadership and/or Learning Strategies and Academic Support Services (LSASS) for "Ages and Stages\," a virtual enrichment and community-building discussion.\nWe will discuss topics related to the grade-level's cognitive and social-emotional development. Connect with one another and share strategies you use at home for your child's specific age and stage.\nA Zoom link will be sent within 24 hours of the event.
URL:https://www.tcsatl.org/event/1st-grade-ages-stages-virtual-event/
END:VEVENT
BEGIN:VEVENT
DTSTART;TZID=America/New_York:20241029T151500
DTEND;TZID=America/New_York:20241029T163000
DTSTAMP:20260421T084632
CREATED:20240812T184516Z
LAST-MODIFIED:20241028T212946Z
UID:10010755-1730214900-1730219400@www.tcsatl.org
SUMMARY:Intramural Co-Ed Tennis
DESCRIPTION:Carpool 4:40 – 4:55 PM
URL:https://www.tcsatl.org/event/intramural-co-ed-tennis-21/
END:VEVENT
BEGIN:VEVENT
DTSTART;TZID=America/New_York:20241029T151500
DTEND;TZID=America/New_York:20241029T170000
DTSTAMP:20260421T084632
CREATED:20240812T184516Z
LAST-MODIFIED:20241028T212945Z
UID:10010754-1730214900-1730221200@www.tcsatl.org
SUMMARY:MAAC Girls Basketball
DESCRIPTION:Carpool 5:00-5:15 PM
URL:https://www.tcsatl.org/event/maac-girls-basketball-4/
END:VEVENT
BEGIN:VEVENT
DTSTART;TZID=America/New_York:20241029T154500
DTEND;TZID=America/New_York:20241029T170000
DTSTAMP:20260421T084632
CREATED:20240812T184517Z
LAST-MODIFIED:20241028T212945Z
UID:10010756-1730216700-1730221200@www.tcsatl.org
SUMMARY:MAAC Girls and Boys Cross Country
DESCRIPTION:Carpool 5:00-5:15 PM
URL:https://www.tcsatl.org/event/maac-girls-and-boys-cross-country-28/
END:VEVENT
BEGIN:VEVENT
DTSTART;TZID=America/New_York:20241029T180000
DTEND;TZID=America/New_York:20241029T190000
DTSTAMP:20260421T084632
CREATED:20240924T141505Z
LAST-MODIFIED:20241029T181546Z
UID:10011369-1730224800-1730228400@www.tcsatl.org
SUMMARY:Math Night
DESCRIPTION:Join us for “Math Night” on Tues.\, Oct. 29\, 6:00 – 7:00 p.m.\, in the TCS Gym! \nLearn more about TCS’s math curriculum and experience the TCS math journey when students from 2nd\, 4th\, 5th and 8th grades showcase their math skills! \nRSVP Today! \nPlease click here to RSVP.
URL:https://www.tcsatl.org/event/math-night/
LOCATION:TCS Gym
END:VEVENT
END:VCALENDAR