BEGIN:VCALENDAR
VERSION:2.0
PRODID:-//The Children&#039;s School - ECPv6.15.15//NONSGML v1.0//EN
CALSCALE:GREGORIAN
METHOD:PUBLISH
X-ORIGINAL-URL:https://www.tcsatl.org
X-WR-CALDESC:Events for The Children&#039;s School
REFRESH-INTERVAL;VALUE=DURATION:PT1H
X-Robots-Tag:noindex
X-PUBLISHED-TTL:PT1H
BEGIN:VTIMEZONE
TZID:America/New_York
BEGIN:DAYLIGHT
TZOFFSETFROM:-0500
TZOFFSETTO:-0400
TZNAME:EDT
DTSTART:20230312T070000
END:DAYLIGHT
BEGIN:STANDARD
TZOFFSETFROM:-0400
TZOFFSETTO:-0500
TZNAME:EST
DTSTART:20231105T060000
END:STANDARD
BEGIN:DAYLIGHT
TZOFFSETFROM:-0500
TZOFFSETTO:-0400
TZNAME:EDT
DTSTART:20240310T070000
END:DAYLIGHT
BEGIN:STANDARD
TZOFFSETFROM:-0400
TZOFFSETTO:-0500
TZNAME:EST
DTSTART:20241103T060000
END:STANDARD
BEGIN:DAYLIGHT
TZOFFSETFROM:-0500
TZOFFSETTO:-0400
TZNAME:EDT
DTSTART:20250309T070000
END:DAYLIGHT
BEGIN:STANDARD
TZOFFSETFROM:-0400
TZOFFSETTO:-0500
TZNAME:EST
DTSTART:20251102T060000
END:STANDARD
END:VTIMEZONE
BEGIN:VEVENT
DTSTART;VALUE=DATE:20241021
DTEND;VALUE=DATE:20241025
DTSTAMP:20260421T084630
CREATED:20240916T232952Z
LAST-MODIFIED:20241024T205947Z
UID:10011363-1729468800-1729814399@www.tcsatl.org
SUMMARY:MAAC Championship Semi Finals and Finals
DESCRIPTION:
URL:https://www.tcsatl.org/event/maac-championship-semi-finals-and-finals/
END:VEVENT
BEGIN:VEVENT
DTSTART;VALUE=DATE:20241024
DTEND;VALUE=DATE:20241025
DTSTAMP:20260421T084630
CREATED:20240829T171451Z
LAST-MODIFIED:20241024T174441Z
UID:10011215-1729728000-1729814399@www.tcsatl.org
SUMMARY:E Day
DESCRIPTION:
URL:https://www.tcsatl.org/event/e-day-35/
END:VEVENT
BEGIN:VEVENT
DTSTART;TZID=America/New_York:20241024T120000
DTEND;TZID=America/New_York:20241024T130000
DTSTAMP:20260421T084630
CREATED:20240904T175943Z
LAST-MODIFIED:20241023T174443Z
UID:10011347-1729771200-1729774800@www.tcsatl.org
SUMMARY:3's/4's Ages & Stages Virtual Event
DESCRIPTION:Join Head of School Roslyn Benjamin and members of program leadership and/or Learning Strategies and Academic Support Services (LSASS) for "Ages and Stages\," a virtual enrichment and community-building discussion.\nWe will discuss topics related to the grade-level's cognitive and social-emotional development. Connect with one another and share strategies you use at home for your child's specific age and stage.\nA Zoom link will be sent within 24 hours of the event.
URL:https://www.tcsatl.org/event/3s-4s-ages-stages-virtual-event/
END:VEVENT
BEGIN:VEVENT
DTSTART;TZID=America/New_York:20241024T151500
DTEND;TZID=America/New_York:20241024T170000
DTSTAMP:20260421T084630
CREATED:20240812T184515Z
LAST-MODIFIED:20241024T205948Z
UID:10010748-1729782900-1729789200@www.tcsatl.org
SUMMARY:MAAC Boys Basketball
DESCRIPTION:
URL:https://www.tcsatl.org/event/maac-boys-basketball-65/
END:VEVENT
BEGIN:VEVENT
DTSTART;TZID=America/New_York:20241024T154500
DTEND;TZID=America/New_York:20241024T164500
DTSTAMP:20260421T084630
CREATED:20240812T184515Z
LAST-MODIFIED:20241023T205944Z
UID:10010749-1729784700-1729788300@www.tcsatl.org
SUMMARY:Intramural Co-Ed Ultimate Frisbee
DESCRIPTION:Carpool 4:45-5:00 PM
URL:https://www.tcsatl.org/event/intramural-co-ed-ultimate-frisbee-2/
END:VEVENT
BEGIN:VEVENT
DTSTART;TZID=America/New_York:20241024T160000
DTEND;TZID=America/New_York:20241024T180000
DTSTAMP:20260421T084630
CREATED:20240916T232952Z
LAST-MODIFIED:20241024T205948Z
UID:10011362-1729785600-1729792800@www.tcsatl.org
SUMMARY:MAAC Girls and Boys Cross Country Championship
DESCRIPTION:
URL:https://www.tcsatl.org/event/maac-girls-and-boys-cross-country-championship/
LOCATION:Sweet Apple Park\, Roswell\, GA\, United States
GEO:34.055198;-84.370475
END:VEVENT
END:VCALENDAR