BEGIN:VCALENDAR
VERSION:2.0
PRODID:-//The Children&#039;s School - ECPv6.15.15//NONSGML v1.0//EN
CALSCALE:GREGORIAN
METHOD:PUBLISH
X-WR-CALNAME:The Children&#039;s School
X-ORIGINAL-URL:https://www.tcsatl.org
X-WR-CALDESC:Events for The Children&#039;s School
REFRESH-INTERVAL;VALUE=DURATION:PT1H
X-Robots-Tag:noindex
X-PUBLISHED-TTL:PT1H
BEGIN:VTIMEZONE
TZID:America/New_York
BEGIN:DAYLIGHT
TZOFFSETFROM:-0500
TZOFFSETTO:-0400
TZNAME:EDT
DTSTART:20230312T070000
END:DAYLIGHT
BEGIN:STANDARD
TZOFFSETFROM:-0400
TZOFFSETTO:-0500
TZNAME:EST
DTSTART:20231105T060000
END:STANDARD
BEGIN:DAYLIGHT
TZOFFSETFROM:-0500
TZOFFSETTO:-0400
TZNAME:EDT
DTSTART:20240310T070000
END:DAYLIGHT
BEGIN:STANDARD
TZOFFSETFROM:-0400
TZOFFSETTO:-0500
TZNAME:EST
DTSTART:20241103T060000
END:STANDARD
BEGIN:DAYLIGHT
TZOFFSETFROM:-0500
TZOFFSETTO:-0400
TZNAME:EDT
DTSTART:20250309T070000
END:DAYLIGHT
BEGIN:STANDARD
TZOFFSETFROM:-0400
TZOFFSETTO:-0500
TZNAME:EST
DTSTART:20251102T060000
END:STANDARD
END:VTIMEZONE
BEGIN:VEVENT
DTSTART;VALUE=DATE:20241021
DTEND;VALUE=DATE:20241025
DTSTAMP:20260421T084453
CREATED:20240916T232952Z
LAST-MODIFIED:20241024T205947Z
UID:10011363-1729468800-1729814399@www.tcsatl.org
SUMMARY:MAAC Championship Semi Finals and Finals
DESCRIPTION:
URL:https://www.tcsatl.org/event/maac-championship-semi-finals-and-finals/
END:VEVENT
BEGIN:VEVENT
DTSTART;VALUE=DATE:20241023
DTEND;VALUE=DATE:20241024
DTSTAMP:20260421T084453
CREATED:20240829T171450Z
LAST-MODIFIED:20241023T174442Z
UID:10011212-1729641600-1729727999@www.tcsatl.org
SUMMARY:D Day
DESCRIPTION:
URL:https://www.tcsatl.org/event/d-day-33/
END:VEVENT
BEGIN:VEVENT
DTSTART;TZID=America/New_York:20241023T074500
DTEND;TZID=America/New_York:20241023T090000
DTSTAMP:20260421T084453
CREATED:20240812T184515Z
LAST-MODIFIED:20241022T204443Z
UID:10010746-1729669500-1729674000@www.tcsatl.org
SUMMARY:MAAC Girls Basketball
DESCRIPTION:
URL:https://www.tcsatl.org/event/maac-girls-basketball-2/
END:VEVENT
BEGIN:VEVENT
DTSTART;TZID=America/New_York:20241023T151500
DTEND;TZID=America/New_York:20241023T163000
DTSTAMP:20260421T084453
CREATED:20240812T184515Z
LAST-MODIFIED:20241022T204444Z
UID:10010747-1729696500-1729701000@www.tcsatl.org
SUMMARY:Intramural Co-Ed Tennis
DESCRIPTION:Carpool 4:40 – 4:55 PM
URL:https://www.tcsatl.org/event/intramural-co-ed-tennis-20/
END:VEVENT
END:VCALENDAR