BEGIN:VCALENDAR
VERSION:2.0
PRODID:-//The Children&#039;s School - ECPv6.15.15//NONSGML v1.0//EN
CALSCALE:GREGORIAN
METHOD:PUBLISH
X-ORIGINAL-URL:https://www.tcsatl.org
X-WR-CALDESC:Events for The Children&#039;s School
REFRESH-INTERVAL;VALUE=DURATION:PT1H
X-Robots-Tag:noindex
X-PUBLISHED-TTL:PT1H
BEGIN:VTIMEZONE
TZID:America/New_York
BEGIN:DAYLIGHT
TZOFFSETFROM:-0500
TZOFFSETTO:-0400
TZNAME:EDT
DTSTART:20230312T070000
END:DAYLIGHT
BEGIN:STANDARD
TZOFFSETFROM:-0400
TZOFFSETTO:-0500
TZNAME:EST
DTSTART:20231105T060000
END:STANDARD
BEGIN:DAYLIGHT
TZOFFSETFROM:-0500
TZOFFSETTO:-0400
TZNAME:EDT
DTSTART:20240310T070000
END:DAYLIGHT
BEGIN:STANDARD
TZOFFSETFROM:-0400
TZOFFSETTO:-0500
TZNAME:EST
DTSTART:20241103T060000
END:STANDARD
BEGIN:DAYLIGHT
TZOFFSETFROM:-0500
TZOFFSETTO:-0400
TZNAME:EDT
DTSTART:20250309T070000
END:DAYLIGHT
BEGIN:STANDARD
TZOFFSETFROM:-0400
TZOFFSETTO:-0500
TZNAME:EST
DTSTART:20251102T060000
END:STANDARD
END:VTIMEZONE
BEGIN:VEVENT
DTSTART;VALUE=DATE:20241021
DTEND;VALUE=DATE:20241022
DTSTAMP:20260421T084647
CREATED:20240829T171450Z
LAST-MODIFIED:20241021T172944Z
UID:10011211-1729468800-1729555199@www.tcsatl.org
SUMMARY:B Day
DESCRIPTION:
URL:https://www.tcsatl.org/event/b-day-35/
END:VEVENT
BEGIN:VEVENT
DTSTART;VALUE=DATE:20241021
DTEND;VALUE=DATE:20241025
DTSTAMP:20260421T084647
CREATED:20240916T232952Z
LAST-MODIFIED:20241024T205947Z
UID:10011363-1729468800-1729814399@www.tcsatl.org
SUMMARY:MAAC Championship Semi Finals and Finals
DESCRIPTION:
URL:https://www.tcsatl.org/event/maac-championship-semi-finals-and-finals/
END:VEVENT
BEGIN:VEVENT
DTSTART;TZID=America/New_York:20241021T151500
DTEND;TZID=America/New_York:20241021T170000
DTSTAMP:20260421T084647
CREATED:20240812T184514Z
LAST-MODIFIED:20241021T204448Z
UID:10010743-1729523700-1729530000@www.tcsatl.org
SUMMARY:MAAC Boys Basketball
DESCRIPTION:
URL:https://www.tcsatl.org/event/maac-boys-basketball-64/
END:VEVENT
BEGIN:VEVENT
DTSTART;TZID=America/New_York:20241021T154500
DTEND;TZID=America/New_York:20241021T164500
DTSTAMP:20260421T084647
CREATED:20240812T184514Z
LAST-MODIFIED:20241021T204447Z
UID:10010742-1729525500-1729529100@www.tcsatl.org
SUMMARY:Intramural Co-Ed Ultimate Frisbee
DESCRIPTION:Carpool 4:45-5:00 PM
URL:https://www.tcsatl.org/event/intramural-co-ed-ultimate-frisbee/
END:VEVENT
END:VCALENDAR