BEGIN:VCALENDAR
VERSION:2.0
PRODID:-//The Children&#039;s School - ECPv6.15.15//NONSGML v1.0//EN
CALSCALE:GREGORIAN
METHOD:PUBLISH
X-WR-CALNAME:The Children&#039;s School
X-ORIGINAL-URL:https://www.tcsatl.org
X-WR-CALDESC:Events for The Children&#039;s School
REFRESH-INTERVAL;VALUE=DURATION:PT1H
X-Robots-Tag:noindex
X-PUBLISHED-TTL:PT1H
BEGIN:VTIMEZONE
TZID:America/New_York
BEGIN:DAYLIGHT
TZOFFSETFROM:-0500
TZOFFSETTO:-0400
TZNAME:EDT
DTSTART:20230312T070000
END:DAYLIGHT
BEGIN:STANDARD
TZOFFSETFROM:-0400
TZOFFSETTO:-0500
TZNAME:EST
DTSTART:20231105T060000
END:STANDARD
BEGIN:DAYLIGHT
TZOFFSETFROM:-0500
TZOFFSETTO:-0400
TZNAME:EDT
DTSTART:20240310T070000
END:DAYLIGHT
BEGIN:STANDARD
TZOFFSETFROM:-0400
TZOFFSETTO:-0500
TZNAME:EST
DTSTART:20241103T060000
END:STANDARD
BEGIN:DAYLIGHT
TZOFFSETFROM:-0500
TZOFFSETTO:-0400
TZNAME:EDT
DTSTART:20250309T070000
END:DAYLIGHT
BEGIN:STANDARD
TZOFFSETFROM:-0400
TZOFFSETTO:-0500
TZNAME:EST
DTSTART:20251102T060000
END:STANDARD
END:VTIMEZONE
BEGIN:VEVENT
DTSTART;VALUE=DATE:20241014
DTEND;VALUE=DATE:20241019
DTSTAMP:20260421T084452
CREATED:20240806T181446Z
LAST-MODIFIED:20241018T201446Z
UID:10010606-1728864000-1729295999@www.tcsatl.org
SUMMARY:MAAC Girls Volleyball Championship
DESCRIPTION:
URL:https://www.tcsatl.org/event/maac-girls-volleyball-championship/
END:VEVENT
BEGIN:VEVENT
DTSTART;VALUE=DATE:20241015
DTEND;VALUE=DATE:20241016
DTSTAMP:20260421T084452
CREATED:20240613T163259Z
LAST-MODIFIED:20241015T170026Z
UID:10010577-1728950400-1729036799@www.tcsatl.org
SUMMARY:Students return from Fall Break - TCS
DESCRIPTION:
URL:https://www.tcsatl.org/event/students-return-from-fall-break-tcs/
END:VEVENT
BEGIN:VEVENT
DTSTART;VALUE=DATE:20241015
DTEND;VALUE=DATE:20241016
DTSTAMP:20260421T084452
CREATED:20240829T171449Z
LAST-MODIFIED:20241015T170026Z
UID:10011208-1728950400-1729036799@www.tcsatl.org
SUMMARY:D Day
DESCRIPTION:
URL:https://www.tcsatl.org/event/d-day-32/
END:VEVENT
BEGIN:VEVENT
DTSTART;TZID=America/New_York:20241015T120000
DTEND;TZID=America/New_York:20241015T130000
DTSTAMP:20260421T084452
CREATED:20240904T175942Z
LAST-MODIFIED:20241014T165944Z
UID:10011345-1728993600-1728997200@www.tcsatl.org
SUMMARY:4's/5's Ages & Stages Virtual Event
DESCRIPTION:Join Head of School Roslyn Benjamin and members of program leadership and/or Learning Strategies and Academic Support Services (LSASS) for "Ages and Stages\," a virtual enrichment and community-building discussion.\nWe will discuss topics related to the grade-level's cognitive and social-emotional development. Connect with one another and share strategies you use at home for your child's specific age and stage.\nA Zoom link will be sent within 24 hours of the event.
URL:https://www.tcsatl.org/event/4s-5s-ages-stages-virtual-event/
END:VEVENT
BEGIN:VEVENT
DTSTART;TZID=America/New_York:20241015T151500
DTEND;TZID=America/New_York:20241015T163000
DTSTAMP:20260421T084452
CREATED:20240812T184511Z
LAST-MODIFIED:20241015T194444Z
UID:10010730-1729005300-1729009800@www.tcsatl.org
SUMMARY:Intramural Co-Ed Tennis
DESCRIPTION:Carpool 4:40-4:55 PM
URL:https://www.tcsatl.org/event/intramural-co-ed-tennis-17/
END:VEVENT
BEGIN:VEVENT
DTSTART;TZID=America/New_York:20241015T154500
DTEND;TZID=America/New_York:20241015T164500
DTSTAMP:20260421T084452
CREATED:20240812T184511Z
LAST-MODIFIED:20241015T194443Z
UID:10010731-1729007100-1729010700@www.tcsatl.org
SUMMARY:Intramural Co-Ed Volleyball
DESCRIPTION:Carpool 4:45-5:00 PM
URL:https://www.tcsatl.org/event/intramural-co-ed-volleyball-38/
END:VEVENT
BEGIN:VEVENT
DTSTART;TZID=America/New_York:20241015T154500
DTEND;TZID=America/New_York:20241015T170000
DTSTAMP:20260421T084452
CREATED:20240812T184511Z
LAST-MODIFIED:20241015T194443Z
UID:10010732-1729007100-1729011600@www.tcsatl.org
SUMMARY:MAAC Girls and Boys Cross Country
DESCRIPTION:Carpool 5:00-5:15 PM
URL:https://www.tcsatl.org/event/maac-girls-and-boys-cross-country-25/
END:VEVENT
END:VCALENDAR