BEGIN:VCALENDAR
VERSION:2.0
PRODID:-//The Children&#039;s School - ECPv6.15.15//NONSGML v1.0//EN
CALSCALE:GREGORIAN
METHOD:PUBLISH
X-ORIGINAL-URL:https://www.tcsatl.org
X-WR-CALDESC:Events for The Children&#039;s School
REFRESH-INTERVAL;VALUE=DURATION:PT1H
X-Robots-Tag:noindex
X-PUBLISHED-TTL:PT1H
BEGIN:VTIMEZONE
TZID:America/New_York
BEGIN:DAYLIGHT
TZOFFSETFROM:-0500
TZOFFSETTO:-0400
TZNAME:EDT
DTSTART:20230312T070000
END:DAYLIGHT
BEGIN:STANDARD
TZOFFSETFROM:-0400
TZOFFSETTO:-0500
TZNAME:EST
DTSTART:20231105T060000
END:STANDARD
BEGIN:DAYLIGHT
TZOFFSETFROM:-0500
TZOFFSETTO:-0400
TZNAME:EDT
DTSTART:20240310T070000
END:DAYLIGHT
BEGIN:STANDARD
TZOFFSETFROM:-0400
TZOFFSETTO:-0500
TZNAME:EST
DTSTART:20241103T060000
END:STANDARD
BEGIN:DAYLIGHT
TZOFFSETFROM:-0500
TZOFFSETTO:-0400
TZNAME:EDT
DTSTART:20250309T070000
END:DAYLIGHT
BEGIN:STANDARD
TZOFFSETFROM:-0400
TZOFFSETTO:-0500
TZNAME:EST
DTSTART:20251102T060000
END:STANDARD
END:VTIMEZONE
BEGIN:VEVENT
DTSTART;VALUE=DATE:20241011
DTEND;VALUE=DATE:20241012
DTSTAMP:20260421T102956
CREATED:20240613T163258Z
LAST-MODIFIED:20241011T162943Z
UID:10010574-1728604800-1728691199@www.tcsatl.org
SUMMARY:SCHOOL CLOSED FOR STUDENTS- FAMILY CONFERENCES - TCS
DESCRIPTION:
URL:https://www.tcsatl.org/event/school-closed-for-students-family-conferences-tcs/
END:VEVENT
BEGIN:VEVENT
DTSTART;TZID=America/New_York:20241011T154500
DTEND;TZID=America/New_York:20241011T170000
DTSTAMP:20260421T102956
CREATED:20240812T184510Z
LAST-MODIFIED:20241011T191445Z
UID:10010725-1728661500-1728666000@www.tcsatl.org
SUMMARY:MAAC Girls and Boys Cross Country
DESCRIPTION:Carpool 5:00-5:15 PM
URL:https://www.tcsatl.org/event/maac-girls-and-boys-cross-country-24/
END:VEVENT
BEGIN:VEVENT
DTSTART;TZID=America/New_York:20241011T154500
DTEND;TZID=America/New_York:20241011T170000
DTSTAMP:20260421T102956
CREATED:20240812T184510Z
LAST-MODIFIED:20241011T191444Z
UID:10010726-1728661500-1728666000@www.tcsatl.org
SUMMARY:MAAC Co-Ed Ultimate Frisbee
DESCRIPTION:Carpool 5:00-5:15 PM
URL:https://www.tcsatl.org/event/maac-co-ed-ultimate-frisbee-24/
END:VEVENT
BEGIN:VEVENT
DTSTART;TZID=America/New_York:20241011T154500
DTEND;TZID=America/New_York:20241011T170000
DTSTAMP:20260421T102956
CREATED:20240812T184510Z
LAST-MODIFIED:20241011T191444Z
UID:10010724-1728661500-1728666000@www.tcsatl.org
SUMMARY:MAAC Girls Volleyball
DESCRIPTION:Carpool 5:00- 5:15 PM
URL:https://www.tcsatl.org/event/maac-girls-volleyball-141/
END:VEVENT
END:VCALENDAR