BEGIN:VCALENDAR
VERSION:2.0
PRODID:-//The Children&#039;s School - ECPv6.15.15//NONSGML v1.0//EN
CALSCALE:GREGORIAN
METHOD:PUBLISH
X-ORIGINAL-URL:https://www.tcsatl.org
X-WR-CALDESC:Events for The Children&#039;s School
REFRESH-INTERVAL;VALUE=DURATION:PT1H
X-Robots-Tag:noindex
X-PUBLISHED-TTL:PT1H
BEGIN:VTIMEZONE
TZID:America/New_York
BEGIN:DAYLIGHT
TZOFFSETFROM:-0500
TZOFFSETTO:-0400
TZNAME:EDT
DTSTART:20230312T070000
END:DAYLIGHT
BEGIN:STANDARD
TZOFFSETFROM:-0400
TZOFFSETTO:-0500
TZNAME:EST
DTSTART:20231105T060000
END:STANDARD
BEGIN:DAYLIGHT
TZOFFSETFROM:-0500
TZOFFSETTO:-0400
TZNAME:EDT
DTSTART:20240310T070000
END:DAYLIGHT
BEGIN:STANDARD
TZOFFSETFROM:-0400
TZOFFSETTO:-0500
TZNAME:EST
DTSTART:20241103T060000
END:STANDARD
BEGIN:DAYLIGHT
TZOFFSETFROM:-0500
TZOFFSETTO:-0400
TZNAME:EDT
DTSTART:20250309T070000
END:DAYLIGHT
BEGIN:STANDARD
TZOFFSETFROM:-0400
TZOFFSETTO:-0500
TZNAME:EST
DTSTART:20251102T060000
END:STANDARD
END:VTIMEZONE
BEGIN:VEVENT
DTSTART;VALUE=DATE:20241008
DTEND;VALUE=DATE:20241009
DTSTAMP:20260421T084632
CREATED:20240829T171448Z
LAST-MODIFIED:20241008T155943Z
UID:10011204-1728345600-1728431999@www.tcsatl.org
SUMMARY:B Day
DESCRIPTION:
URL:https://www.tcsatl.org/event/b-day-34/
END:VEVENT
BEGIN:VEVENT
DTSTART;TZID=America/New_York:20241008T120000
DTEND;TZID=America/New_York:20241008T130000
DTSTAMP:20260421T084632
CREATED:20240904T175941Z
LAST-MODIFIED:20241008T155942Z
UID:10011344-1728388800-1728392400@www.tcsatl.org
SUMMARY:6th Grade Ages & Stages Virtual Event
DESCRIPTION:Join Head of School Roslyn Benjamin and members of program leadership and/or Learning Strategies and Academic Support Services (LSASS) for "Ages and Stages\," a virtual enrichment and community-building discussion.\nWe will discuss topics related to the grade-level's cognitive and social-emotional development. Connect with one another and share strategies you use at home for your child's specific age and stage.\nA Zoom link will be sent within 24 hours of the event.
URL:https://www.tcsatl.org/event/6th-grade-ages-stages-virtual-event/
END:VEVENT
BEGIN:VEVENT
DTSTART;TZID=America/New_York:20241008T151500
DTEND;TZID=America/New_York:20241008T163000
DTSTAMP:20260421T084632
CREATED:20240812T184508Z
LAST-MODIFIED:20241008T191444Z
UID:10010717-1728400500-1728405000@www.tcsatl.org
SUMMARY:Intramural Co-Ed Tennis
DESCRIPTION:Carpool 4:40-4:55 PM
URL:https://www.tcsatl.org/event/intramural-co-ed-tennis-15/
END:VEVENT
BEGIN:VEVENT
DTSTART;TZID=America/New_York:20241008T154500
DTEND;TZID=America/New_York:20241008T164500
DTSTAMP:20260421T084632
CREATED:20240812T184507Z
LAST-MODIFIED:20241008T191446Z
UID:10010715-1728402300-1728405900@www.tcsatl.org
SUMMARY:Intramural Co-Ed Volleyball
DESCRIPTION:Carpool 4:45-5:00 PM
URL:https://www.tcsatl.org/event/intramural-co-ed-volleyball-36/
END:VEVENT
BEGIN:VEVENT
DTSTART;TZID=America/New_York:20241008T154500
DTEND;TZID=America/New_York:20241008T170000
DTSTAMP:20260421T084632
CREATED:20240812T184507Z
LAST-MODIFIED:20241008T191446Z
UID:10010716-1728402300-1728406800@www.tcsatl.org
SUMMARY:MAAC Girls and Boys Cross Country
DESCRIPTION:Carpool 5:00-5:15 PM
URL:https://www.tcsatl.org/event/maac-girls-and-boys-cross-country-22/
END:VEVENT
BEGIN:VEVENT
DTSTART;TZID=America/New_York:20241008T160000
DTEND;TZID=America/New_York:20241008T180000
DTSTAMP:20260421T084632
CREATED:20240916T232949Z
LAST-MODIFIED:20241008T191447Z
UID:10011361-1728403200-1728410400@www.tcsatl.org
SUMMARY:AWAY GAME- MAAC Girls Volleyball vs Intown Academy - Mt. Moriah Church
DESCRIPTION:
URL:https://www.tcsatl.org/event/away-game-maac-girls-volleyball-vs-intown-academy-mt-moriah-church/
LOCATION:Mt Moriah Baptist Church\, 200 Joseph E Lowery Blvd SW\, Atlanta\, GA\, United States
GEO:33.749069;-84.41753
X-APPLE-STRUCTURED-LOCATION;VALUE=URI;X-ADDRESS=Mt Moriah Baptist Church 200 Joseph E Lowery Blvd SW Atlanta GA United States;X-APPLE-RADIUS=500;X-TITLE=200 Joseph E Lowery Blvd SW:geo:-84.41753,33.749069
END:VEVENT
END:VCALENDAR