BEGIN:VCALENDAR
VERSION:2.0
PRODID:-//The Children&#039;s School - ECPv6.15.15//NONSGML v1.0//EN
CALSCALE:GREGORIAN
METHOD:PUBLISH
X-ORIGINAL-URL:https://www.tcsatl.org
X-WR-CALDESC:Events for The Children&#039;s School
REFRESH-INTERVAL;VALUE=DURATION:PT1H
X-Robots-Tag:noindex
X-PUBLISHED-TTL:PT1H
BEGIN:VTIMEZONE
TZID:America/New_York
BEGIN:DAYLIGHT
TZOFFSETFROM:-0500
TZOFFSETTO:-0400
TZNAME:EDT
DTSTART:20230312T070000
END:DAYLIGHT
BEGIN:STANDARD
TZOFFSETFROM:-0400
TZOFFSETTO:-0500
TZNAME:EST
DTSTART:20231105T060000
END:STANDARD
BEGIN:DAYLIGHT
TZOFFSETFROM:-0500
TZOFFSETTO:-0400
TZNAME:EDT
DTSTART:20240310T070000
END:DAYLIGHT
BEGIN:STANDARD
TZOFFSETFROM:-0400
TZOFFSETTO:-0500
TZNAME:EST
DTSTART:20241103T060000
END:STANDARD
BEGIN:DAYLIGHT
TZOFFSETFROM:-0500
TZOFFSETTO:-0400
TZNAME:EDT
DTSTART:20250309T070000
END:DAYLIGHT
BEGIN:STANDARD
TZOFFSETFROM:-0400
TZOFFSETTO:-0500
TZNAME:EST
DTSTART:20251102T060000
END:STANDARD
END:VTIMEZONE
BEGIN:VEVENT
DTSTART;VALUE=DATE:20241003
DTEND;VALUE=DATE:20241004
DTSTAMP:20260421T084630
CREATED:20240613T163258Z
LAST-MODIFIED:20241003T151441Z
UID:10010573-1727913600-1727999999@www.tcsatl.org
SUMMARY:SCHOOL CLOSED - Rosh Hashanah - TCS
DESCRIPTION:
URL:https://www.tcsatl.org/event/school-closed-rosh-hashanah-tcs/
END:VEVENT
BEGIN:VEVENT
DTSTART;TZID=America/New_York:20241003T154500
DTEND;TZID=America/New_York:20241003T164500
DTSTAMP:20260421T084630
CREATED:20240812T184505Z
LAST-MODIFIED:20241003T175946Z
UID:10010708-1727970300-1727973900@www.tcsatl.org
SUMMARY:Intramural Girls & Boys Cross Country
DESCRIPTION:Carpool 4:45-5:00 PM
URL:https://www.tcsatl.org/event/intramural-girls-boys-cross-country-36/
END:VEVENT
BEGIN:VEVENT
DTSTART;TZID=America/New_York:20241003T154500
DTEND;TZID=America/New_York:20241003T170000
DTSTAMP:20260421T084630
CREATED:20240812T184504Z
LAST-MODIFIED:20241003T175947Z
UID:10010706-1727970300-1727974800@www.tcsatl.org
SUMMARY:MAAC Co-Ed Ultimate Frisbee
DESCRIPTION:Carpool 5:00-5:15 PM
URL:https://www.tcsatl.org/event/maac-co-ed-ultimate-frisbee-20/
END:VEVENT
BEGIN:VEVENT
DTSTART;TZID=America/New_York:20241003T154500
DTEND;TZID=America/New_York:20241003T170000
DTSTAMP:20260421T084630
CREATED:20240812T184504Z
LAST-MODIFIED:20241003T175947Z
UID:10010707-1727970300-1727974800@www.tcsatl.org
SUMMARY:MAAC Girls Volleyball
DESCRIPTION:Carpool 5:00- 5:15 PM
URL:https://www.tcsatl.org/event/maac-girls-volleyball-137/
END:VEVENT
END:VCALENDAR