BEGIN:VCALENDAR
VERSION:2.0
PRODID:-//The Children&#039;s School - ECPv6.15.15//NONSGML v1.0//EN
CALSCALE:GREGORIAN
METHOD:PUBLISH
X-ORIGINAL-URL:https://www.tcsatl.org
X-WR-CALDESC:Events for The Children&#039;s School
REFRESH-INTERVAL;VALUE=DURATION:PT1H
X-Robots-Tag:noindex
X-PUBLISHED-TTL:PT1H
BEGIN:VTIMEZONE
TZID:America/New_York
BEGIN:DAYLIGHT
TZOFFSETFROM:-0500
TZOFFSETTO:-0400
TZNAME:EDT
DTSTART:20230312T070000
END:DAYLIGHT
BEGIN:STANDARD
TZOFFSETFROM:-0400
TZOFFSETTO:-0500
TZNAME:EST
DTSTART:20231105T060000
END:STANDARD
BEGIN:DAYLIGHT
TZOFFSETFROM:-0500
TZOFFSETTO:-0400
TZNAME:EDT
DTSTART:20240310T070000
END:DAYLIGHT
BEGIN:STANDARD
TZOFFSETFROM:-0400
TZOFFSETTO:-0500
TZNAME:EST
DTSTART:20241103T060000
END:STANDARD
BEGIN:DAYLIGHT
TZOFFSETFROM:-0500
TZOFFSETTO:-0400
TZNAME:EDT
DTSTART:20250309T070000
END:DAYLIGHT
BEGIN:STANDARD
TZOFFSETFROM:-0400
TZOFFSETTO:-0500
TZNAME:EST
DTSTART:20251102T060000
END:STANDARD
END:VTIMEZONE
BEGIN:VEVENT
DTSTART;VALUE=DATE:20241001
DTEND;VALUE=DATE:20241002
DTSTAMP:20260421T084631
CREATED:20240829T171447Z
LAST-MODIFIED:20241001T151444Z
UID:10011202-1727740800-1727827199@www.tcsatl.org
SUMMARY:D Day
DESCRIPTION:
URL:https://www.tcsatl.org/event/d-day-31/
END:VEVENT
BEGIN:VEVENT
DTSTART;TZID=America/New_York:20241001T120000
DTEND;TZID=America/New_York:20241001T130000
DTSTAMP:20260421T084631
CREATED:20240903T174444Z
LAST-MODIFIED:20241001T151444Z
UID:10011334-1727784000-1727787600@www.tcsatl.org
SUMMARY:Roz's Book Club: Raising Kids - via ZOOM
DESCRIPTION:Join Head of School Roslyn Benjamin and Sheri Glucoft Wong and Olaf Jorgenson\, both of the authors of “Raising Kids: Your Essential Guide to Every Day Parenting\,” on Tues.\, Oct. 1\, 12:00 – 1:00 p.m.\, to discuss the book via Zoom. \nClick here for the Zoom link. \n \nConfirmed \n \n1.  \nSubmitted By: Roz B.  \nSubmitted On: 09/012024 \nDates: 10/01/2024 \nStart Time: 12:00 PM \nEnd Time: 01:00 PM \nRecurring Dates:  \n \nEvent: Roz’s Book Club: Raising Kids \nEstimated Attendance: 20 \n \nLocation: Zoom \nRain Location:  \nRain Date:  \n \nRehearsal Dates:  \n         \n                     \nR: Christie P. \nA: Roz B.   \nC: Exec Team\, Program Team\, Advancement Team.  \n I: All faculty and staff \n \nROS:  \n \nA/V Needs \n     \n    Event Setup:  \n    Breakdown:  \n \n     \n    Notes:   \n \nMaintenance Needs \n \nEvent Diagram:  \n    Event Setup: \n    Breakdown:   \n     \n     \n    NOTES:
URL:https://www.tcsatl.org/event/rozs-book-club-raising-kids-via-zoom/
END:VEVENT
BEGIN:VEVENT
DTSTART;TZID=America/New_York:20241001T151500
DTEND;TZID=America/New_York:20241001T163000
DTSTAMP:20260421T084631
CREATED:20240812T184501Z
LAST-MODIFIED:20241001T174443Z
UID:10010700-1727795700-1727800200@www.tcsatl.org
SUMMARY:Intramural Co-Ed Tennis
DESCRIPTION:Carpool 4:40-4:55 PM
URL:https://www.tcsatl.org/event/intramural-co-ed-tennis-13/
END:VEVENT
BEGIN:VEVENT
DTSTART;TZID=America/New_York:20241001T154500
DTEND;TZID=America/New_York:20241001T164500
DTSTAMP:20260421T084631
CREATED:20240812T184503Z
LAST-MODIFIED:20241001T174444Z
UID:10010702-1727797500-1727801100@www.tcsatl.org
SUMMARY:Intramural Co-Ed Volleyball
DESCRIPTION:Carpool 4:45-5:00 PM
URL:https://www.tcsatl.org/event/intramural-co-ed-volleyball-34/
END:VEVENT
BEGIN:VEVENT
DTSTART;TZID=America/New_York:20241001T154500
DTEND;TZID=America/New_York:20241001T170000
DTSTAMP:20260421T084631
CREATED:20240812T184503Z
LAST-MODIFIED:20241001T174443Z
UID:10010701-1727797500-1727802000@www.tcsatl.org
SUMMARY:MAAC Girls and Boys Cross Country
DESCRIPTION:Carpool 5:00-5:15 PM
URL:https://www.tcsatl.org/event/maac-girls-and-boys-cross-country-19/
END:VEVENT
BEGIN:VEVENT
DTSTART;TZID=America/New_York:20241001T164500
DTEND;TZID=America/New_York:20241001T184500
DTSTAMP:20260421T084631
CREATED:20240916T232947Z
LAST-MODIFIED:20241001T174445Z
UID:10011359-1727801100-1727808300@www.tcsatl.org
SUMMARY:AWAY MEET - MAAC Girls and Boys Cross Country - Chastain Park
DESCRIPTION:
URL:https://www.tcsatl.org/event/away-meet-maac-girls-and-boys-cross-country-chastain-park/
LOCATION:4001 Powers Ferry Rd NW\, Atlanta\, GA\, United States
GEO:33.881052;-84.379476
END:VEVENT
END:VCALENDAR