BEGIN:VCALENDAR
VERSION:2.0
PRODID:-//The Children&#039;s School - ECPv6.15.15//NONSGML v1.0//EN
CALSCALE:GREGORIAN
METHOD:PUBLISH
X-ORIGINAL-URL:https://www.tcsatl.org
X-WR-CALDESC:Events for The Children&#039;s School
REFRESH-INTERVAL;VALUE=DURATION:PT1H
X-Robots-Tag:noindex
X-PUBLISHED-TTL:PT1H
BEGIN:VTIMEZONE
TZID:America/New_York
BEGIN:DAYLIGHT
TZOFFSETFROM:-0500
TZOFFSETTO:-0400
TZNAME:EDT
DTSTART:20230312T070000
END:DAYLIGHT
BEGIN:STANDARD
TZOFFSETFROM:-0400
TZOFFSETTO:-0500
TZNAME:EST
DTSTART:20231105T060000
END:STANDARD
BEGIN:DAYLIGHT
TZOFFSETFROM:-0500
TZOFFSETTO:-0400
TZNAME:EDT
DTSTART:20240310T070000
END:DAYLIGHT
BEGIN:STANDARD
TZOFFSETFROM:-0400
TZOFFSETTO:-0500
TZNAME:EST
DTSTART:20241103T060000
END:STANDARD
BEGIN:DAYLIGHT
TZOFFSETFROM:-0500
TZOFFSETTO:-0400
TZNAME:EDT
DTSTART:20250309T070000
END:DAYLIGHT
BEGIN:STANDARD
TZOFFSETFROM:-0400
TZOFFSETTO:-0500
TZNAME:EST
DTSTART:20251102T060000
END:STANDARD
END:VTIMEZONE
BEGIN:VEVENT
DTSTART;VALUE=DATE:20240930
DTEND;VALUE=DATE:20241001
DTSTAMP:20260423T062223
CREATED:20240829T171447Z
LAST-MODIFIED:20240930T145942Z
UID:10011200-1727654400-1727740799@www.tcsatl.org
SUMMARY:C Day
DESCRIPTION:
URL:https://www.tcsatl.org/event/c-day-34/
END:VEVENT
BEGIN:VEVENT
DTSTART;TZID=America/New_York:20240930T154500
DTEND;TZID=America/New_York:20240930T164500
DTSTAMP:20260423T062223
CREATED:20240812T184501Z
LAST-MODIFIED:20240930T172754Z
UID:10010697-1727711100-1727714700@www.tcsatl.org
SUMMARY:Intramural Girls & Boys Cross Country
DESCRIPTION:Carpool 4:45-5:00 PM
URL:https://www.tcsatl.org/event/intramural-girls-boys-cross-country-35/
END:VEVENT
BEGIN:VEVENT
DTSTART;TZID=America/New_York:20240930T154500
DTEND;TZID=America/New_York:20240930T170000
DTSTAMP:20260423T062223
CREATED:20240812T184501Z
LAST-MODIFIED:20240930T172754Z
UID:10010698-1727711100-1727715600@www.tcsatl.org
SUMMARY:MAAC Co-Ed Ultimate Frisbee
DESCRIPTION:Carpool 5:00-5:15 PM
URL:https://www.tcsatl.org/event/maac-co-ed-ultimate-frisbee-19/
END:VEVENT
BEGIN:VEVENT
DTSTART;TZID=America/New_York:20240930T154500
DTEND;TZID=America/New_York:20240930T170000
DTSTAMP:20260423T062223
CREATED:20240812T184501Z
LAST-MODIFIED:20240930T172754Z
UID:10010699-1727711100-1727715600@www.tcsatl.org
SUMMARY:MAAC Girls Volleyball
DESCRIPTION:Carpool 5:00- 5:15 PM
URL:https://www.tcsatl.org/event/maac-girls-volleyball-136/
END:VEVENT
BEGIN:VEVENT
DTSTART;TZID=America/New_York:20240930T161500
DTEND;TZID=America/New_York:20240930T181500
DTSTAMP:20260423T062223
CREATED:20240916T232946Z
LAST-MODIFIED:20240930T172755Z
UID:10011358-1727712900-1727720100@www.tcsatl.org
SUMMARY:HOME GAME - MAAC Girls Volleyball vs Atlanta Jewish Academy - TCS
DESCRIPTION:
URL:https://www.tcsatl.org/event/home-game-maac-girls-volleyball-vs-atlanta-jewish-academy-tcs/
END:VEVENT
END:VCALENDAR