BEGIN:VCALENDAR
VERSION:2.0
PRODID:-//The Children&#039;s School - ECPv6.15.15//NONSGML v1.0//EN
CALSCALE:GREGORIAN
METHOD:PUBLISH
X-ORIGINAL-URL:https://www.tcsatl.org
X-WR-CALDESC:Events for The Children&#039;s School
REFRESH-INTERVAL;VALUE=DURATION:PT1H
X-Robots-Tag:noindex
X-PUBLISHED-TTL:PT1H
BEGIN:VTIMEZONE
TZID:America/New_York
BEGIN:DAYLIGHT
TZOFFSETFROM:-0500
TZOFFSETTO:-0400
TZNAME:EDT
DTSTART:20230312T070000
END:DAYLIGHT
BEGIN:STANDARD
TZOFFSETFROM:-0400
TZOFFSETTO:-0500
TZNAME:EST
DTSTART:20231105T060000
END:STANDARD
BEGIN:DAYLIGHT
TZOFFSETFROM:-0500
TZOFFSETTO:-0400
TZNAME:EDT
DTSTART:20240310T070000
END:DAYLIGHT
BEGIN:STANDARD
TZOFFSETFROM:-0400
TZOFFSETTO:-0500
TZNAME:EST
DTSTART:20241103T060000
END:STANDARD
BEGIN:DAYLIGHT
TZOFFSETFROM:-0500
TZOFFSETTO:-0400
TZNAME:EDT
DTSTART:20250309T070000
END:DAYLIGHT
BEGIN:STANDARD
TZOFFSETFROM:-0400
TZOFFSETTO:-0500
TZNAME:EST
DTSTART:20251102T060000
END:STANDARD
END:VTIMEZONE
BEGIN:VEVENT
DTSTART;VALUE=DATE:20240927
DTEND;VALUE=DATE:20240928
DTSTAMP:20260423T075921
CREATED:20240829T171446Z
LAST-MODIFIED:20240927T143745Z
UID:10011198-1727395200-1727481599@www.tcsatl.org
SUMMARY:E Day
DESCRIPTION:This letter day is out of order on purpose.  \n\nThis is the only day this will happen.\nIt was orchestrated to correct a printing error in the Upper School Planners. \nRegularly scheduled letter days will resume on Monday and not deviate again. \n\nThank you for your flexibility!
URL:https://www.tcsatl.org/event/e-day-32/
END:VEVENT
BEGIN:VEVENT
DTSTART;VALUE=DATE:20240927
DTEND;VALUE=DATE:20240928
DTSTAMP:20260423T075921
CREATED:20240904T175940Z
LAST-MODIFIED:20240927T143745Z
UID:10011342-1727395200-1727481599@www.tcsatl.org
SUMMARY:School Picture Day
DESCRIPTION:
URL:https://www.tcsatl.org/event/school-picture-day/
END:VEVENT
BEGIN:VEVENT
DTSTART;TZID=America/New_York:20240927T154500
DTEND;TZID=America/New_York:20240927T170000
DTSTAMP:20260423T075921
CREATED:20240812T184500Z
LAST-MODIFIED:20240927T162945Z
UID:10010694-1727451900-1727456400@www.tcsatl.org
SUMMARY:MAAC Girls Volleyball
DESCRIPTION:Carpool 5:00- 5:15 PM
URL:https://www.tcsatl.org/event/maac-girls-volleyball-135/
END:VEVENT
BEGIN:VEVENT
DTSTART;TZID=America/New_York:20240927T154500
DTEND;TZID=America/New_York:20240927T170000
DTSTAMP:20260423T075921
CREATED:20240812T184500Z
LAST-MODIFIED:20240927T162945Z
UID:10010695-1727451900-1727456400@www.tcsatl.org
SUMMARY:MAAC Co-Ed Ultimate Frisbee
DESCRIPTION:Carpool 5:00-5:15 PM
URL:https://www.tcsatl.org/event/maac-co-ed-ultimate-frisbee-18/
END:VEVENT
BEGIN:VEVENT
DTSTART;TZID=America/New_York:20240927T154500
DTEND;TZID=America/New_York:20240927T170000
DTSTAMP:20260423T075921
CREATED:20240812T184500Z
LAST-MODIFIED:20240927T162944Z
UID:10010696-1727451900-1727456400@www.tcsatl.org
SUMMARY:MAAC Girls and Boys Cross Country
DESCRIPTION:Carpool 5:00-5:15 PM
URL:https://www.tcsatl.org/event/maac-girls-and-boys-cross-country-18/
END:VEVENT
END:VCALENDAR