BEGIN:VCALENDAR
VERSION:2.0
PRODID:-//The Children&#039;s School - ECPv6.15.15//NONSGML v1.0//EN
CALSCALE:GREGORIAN
METHOD:PUBLISH
X-ORIGINAL-URL:https://www.tcsatl.org
X-WR-CALDESC:Events for The Children&#039;s School
REFRESH-INTERVAL;VALUE=DURATION:PT1H
X-Robots-Tag:noindex
X-PUBLISHED-TTL:PT1H
BEGIN:VTIMEZONE
TZID:America/New_York
BEGIN:DAYLIGHT
TZOFFSETFROM:-0500
TZOFFSETTO:-0400
TZNAME:EDT
DTSTART:20230312T070000
END:DAYLIGHT
BEGIN:STANDARD
TZOFFSETFROM:-0400
TZOFFSETTO:-0500
TZNAME:EST
DTSTART:20231105T060000
END:STANDARD
BEGIN:DAYLIGHT
TZOFFSETFROM:-0500
TZOFFSETTO:-0400
TZNAME:EDT
DTSTART:20240310T070000
END:DAYLIGHT
BEGIN:STANDARD
TZOFFSETFROM:-0400
TZOFFSETTO:-0500
TZNAME:EST
DTSTART:20241103T060000
END:STANDARD
BEGIN:DAYLIGHT
TZOFFSETFROM:-0500
TZOFFSETTO:-0400
TZNAME:EDT
DTSTART:20250309T070000
END:DAYLIGHT
BEGIN:STANDARD
TZOFFSETFROM:-0400
TZOFFSETTO:-0500
TZNAME:EST
DTSTART:20251102T060000
END:STANDARD
END:VTIMEZONE
BEGIN:VEVENT
DTSTART;VALUE=DATE:20240923
DTEND;VALUE=DATE:20240924
DTSTAMP:20260423T075952
CREATED:20240829T171446Z
LAST-MODIFIED:20240923T135944Z
UID:10011195-1727049600-1727135999@www.tcsatl.org
SUMMARY:E Day
DESCRIPTION:
URL:https://www.tcsatl.org/event/e-day-31/
END:VEVENT
BEGIN:VEVENT
DTSTART;TZID=America/New_York:20240923T154500
DTEND;TZID=America/New_York:20240923T164500
DTSTAMP:20260423T075952
CREATED:20240812T184457Z
LAST-MODIFIED:20240923T152946Z
UID:10010682-1727106300-1727109900@www.tcsatl.org
SUMMARY:Intramural Girls & Boys Cross Country
DESCRIPTION:Carpool 4:45-5:00 PM
URL:https://www.tcsatl.org/event/intramural-girls-boys-cross-country-33/
END:VEVENT
BEGIN:VEVENT
DTSTART;TZID=America/New_York:20240923T154500
DTEND;TZID=America/New_York:20240923T170000
DTSTAMP:20260423T075952
CREATED:20240812T184457Z
LAST-MODIFIED:20240923T152947Z
UID:10010683-1727106300-1727110800@www.tcsatl.org
SUMMARY:MAAC Girls Volleyball
DESCRIPTION:Carpool 5:00- 5:15 PM
URL:https://www.tcsatl.org/event/maac-girls-volleyball-133/
END:VEVENT
BEGIN:VEVENT
DTSTART;TZID=America/New_York:20240923T154500
DTEND;TZID=America/New_York:20240923T170000
DTSTAMP:20260423T075952
CREATED:20240812T184458Z
LAST-MODIFIED:20240923T152948Z
UID:10010684-1727106300-1727110800@www.tcsatl.org
SUMMARY:MAAC Co-Ed Ultimate Frisbee
DESCRIPTION:Carpool 5:00-5:15 PM
URL:https://www.tcsatl.org/event/maac-co-ed-ultimate-frisbee-16/
END:VEVENT
BEGIN:VEVENT
DTSTART;TZID=America/New_York:20240923T163000
DTEND;TZID=America/New_York:20240923T180000
DTSTAMP:20260423T075952
CREATED:20240916T232944Z
LAST-MODIFIED:20240923T152947Z
UID:10011357-1727109000-1727114400@www.tcsatl.org
SUMMARY:AWAY MEET - MAAC Girls and Boys Cross Country - Brook Run
DESCRIPTION:
URL:https://www.tcsatl.org/event/away-meet-maac-girls-and-boys-cross-country-brook-run/
LOCATION:4770 N Peachtree Rd\, Atlanta\, GA\, United States
GEO:33.946213;-84.334647
END:VEVENT
END:VCALENDAR