BEGIN:VCALENDAR
VERSION:2.0
PRODID:-//The Children&#039;s School - ECPv6.15.15//NONSGML v1.0//EN
CALSCALE:GREGORIAN
METHOD:PUBLISH
X-ORIGINAL-URL:https://www.tcsatl.org
X-WR-CALDESC:Events for The Children&#039;s School
REFRESH-INTERVAL;VALUE=DURATION:PT1H
X-Robots-Tag:noindex
X-PUBLISHED-TTL:PT1H
BEGIN:VTIMEZONE
TZID:America/New_York
BEGIN:DAYLIGHT
TZOFFSETFROM:-0500
TZOFFSETTO:-0400
TZNAME:EDT
DTSTART:20230312T070000
END:DAYLIGHT
BEGIN:STANDARD
TZOFFSETFROM:-0400
TZOFFSETTO:-0500
TZNAME:EST
DTSTART:20231105T060000
END:STANDARD
BEGIN:DAYLIGHT
TZOFFSETFROM:-0500
TZOFFSETTO:-0400
TZNAME:EDT
DTSTART:20240310T070000
END:DAYLIGHT
BEGIN:STANDARD
TZOFFSETFROM:-0400
TZOFFSETTO:-0500
TZNAME:EST
DTSTART:20241103T060000
END:STANDARD
BEGIN:DAYLIGHT
TZOFFSETFROM:-0500
TZOFFSETTO:-0400
TZNAME:EDT
DTSTART:20250309T070000
END:DAYLIGHT
BEGIN:STANDARD
TZOFFSETFROM:-0400
TZOFFSETTO:-0500
TZNAME:EST
DTSTART:20251102T060000
END:STANDARD
END:VTIMEZONE
BEGIN:VEVENT
DTSTART;VALUE=DATE:20240909
DTEND;VALUE=DATE:20240910
DTSTAMP:20260423T080012
CREATED:20240829T171444Z
LAST-MODIFIED:20240909T181443Z
UID:10011187-1725840000-1725926399@www.tcsatl.org
SUMMARY:A Day
DESCRIPTION:
URL:https://www.tcsatl.org/event/a-day-29/
END:VEVENT
BEGIN:VEVENT
DTSTART;TZID=America/New_York:20240909T154500
DTEND;TZID=America/New_York:20240909T164500
DTSTAMP:20260423T080012
CREATED:20240812T184451Z
LAST-MODIFIED:20240908T215942Z
UID:10010653-1725896700-1725900300@www.tcsatl.org
SUMMARY:Intramural Girls & Boys Cross Country
DESCRIPTION:Carpool 4:45-5:00 PM
URL:https://www.tcsatl.org/event/intramural-girls-boys-cross-country-29/
END:VEVENT
BEGIN:VEVENT
DTSTART;TZID=America/New_York:20240909T154500
DTEND;TZID=America/New_York:20240909T170000
DTSTAMP:20260423T080012
CREATED:20240812T184450Z
LAST-MODIFIED:20240908T215942Z
UID:10010652-1725896700-1725901200@www.tcsatl.org
SUMMARY:MAAC Girls Volleyball
DESCRIPTION:Carpool 5:00- 5:15 PM
URL:https://www.tcsatl.org/event/maac-girls-volleyball-127/
END:VEVENT
BEGIN:VEVENT
DTSTART;TZID=America/New_York:20240909T154500
DTEND;TZID=America/New_York:20240909T170000
DTSTAMP:20260423T080012
CREATED:20240812T184451Z
LAST-MODIFIED:20240908T215942Z
UID:10010654-1725896700-1725901200@www.tcsatl.org
SUMMARY:MAAC Co-Ed Ultimate Frisbee
DESCRIPTION:Carpool 5:00-5:15 PM
URL:https://www.tcsatl.org/event/maac-co-ed-ultimate-frisbee-10/
END:VEVENT
BEGIN:VEVENT
DTSTART;TZID=America/New_York:20240909T160000
DTEND;TZID=America/New_York:20240909T180000
DTSTAMP:20260423T080012
CREATED:20240806T181441Z
LAST-MODIFIED:20240908T215942Z
UID:10010593-1725897600-1725904800@www.tcsatl.org
SUMMARY:HOME GAME - MAAC Co-Ed Ultimate Frisbee vs Cliff Valley (Active Oval)
DESCRIPTION:
URL:https://www.tcsatl.org/event/home-game-maac-co-ed-ultimate-frisbee-vs-cliff-valley-active-oval/
END:VEVENT
BEGIN:VEVENT
DTSTART;TZID=America/New_York:20240909T161500
DTEND;TZID=America/New_York:20240909T181500
DTSTAMP:20260423T080012
CREATED:20240806T181442Z
LAST-MODIFIED:20240909T221440Z
UID:10010594-1725898500-1725905700@www.tcsatl.org
SUMMARY:AWAY GAME - MAAC Girls Volleyball Match vs Atlanta Academy
DESCRIPTION:
URL:https://www.tcsatl.org/event/away-game-maac-girls-volleyball-match-vs-atlanta-academy/
LOCATION:Atlanta Academy\, 2000 Holcomb Wood Pkwy\, Roswell\, GA\, United States
GEO:34.022231;-84.315039
X-APPLE-STRUCTURED-LOCATION;VALUE=URI;X-ADDRESS=Atlanta Academy 2000 Holcomb Wood Pkwy Roswell GA United States;X-APPLE-RADIUS=500;X-TITLE=2000 Holcomb Wood Pkwy:geo:-84.315039,34.022231
END:VEVENT
END:VCALENDAR