BEGIN:VCALENDAR
VERSION:2.0
PRODID:-//The Children&#039;s School - ECPv6.15.15//NONSGML v1.0//EN
CALSCALE:GREGORIAN
METHOD:PUBLISH
X-ORIGINAL-URL:https://www.tcsatl.org
X-WR-CALDESC:Events for The Children&#039;s School
REFRESH-INTERVAL;VALUE=DURATION:PT1H
X-Robots-Tag:noindex
X-PUBLISHED-TTL:PT1H
BEGIN:VTIMEZONE
TZID:America/New_York
BEGIN:DAYLIGHT
TZOFFSETFROM:-0500
TZOFFSETTO:-0400
TZNAME:EDT
DTSTART:20230312T070000
END:DAYLIGHT
BEGIN:STANDARD
TZOFFSETFROM:-0400
TZOFFSETTO:-0500
TZNAME:EST
DTSTART:20231105T060000
END:STANDARD
BEGIN:DAYLIGHT
TZOFFSETFROM:-0500
TZOFFSETTO:-0400
TZNAME:EDT
DTSTART:20240310T070000
END:DAYLIGHT
BEGIN:STANDARD
TZOFFSETFROM:-0400
TZOFFSETTO:-0500
TZNAME:EST
DTSTART:20241103T060000
END:STANDARD
BEGIN:DAYLIGHT
TZOFFSETFROM:-0500
TZOFFSETTO:-0400
TZNAME:EDT
DTSTART:20250309T070000
END:DAYLIGHT
BEGIN:STANDARD
TZOFFSETFROM:-0400
TZOFFSETTO:-0500
TZNAME:EST
DTSTART:20251102T060000
END:STANDARD
END:VTIMEZONE
BEGIN:VEVENT
DTSTART;VALUE=DATE:20240829
DTEND;VALUE=DATE:20240830
DTSTAMP:20260423T171903
CREATED:20240829T171441Z
LAST-MODIFIED:20240829T171441Z
UID:10011172-1724889600-1724975999@www.tcsatl.org
SUMMARY:A Day
DESCRIPTION:
URL:https://www.tcsatl.org/event/a-day-27/
END:VEVENT
BEGIN:VEVENT
DTSTART;VALUE=DATE:20240829
DTEND;VALUE=DATE:20240830
DTSTAMP:20260423T171903
CREATED:20240829T171442Z
LAST-MODIFIED:20240829T171442Z
UID:10011179-1724889600-1724975999@www.tcsatl.org
SUMMARY:A Day
DESCRIPTION:
URL:https://www.tcsatl.org/event/a-day-28/
END:VEVENT
BEGIN:VEVENT
DTSTART;TZID=America/New_York:20240829T154500
DTEND;TZID=America/New_York:20240829T164500
DTSTAMP:20260423T171903
CREATED:20240812T184446Z
LAST-MODIFIED:20240829T195951Z
UID:10010631-1724946300-1724949900@www.tcsatl.org
SUMMARY:Intramural Girls & Boys Cross Country
DESCRIPTION:Carpool 4:45-5:00 PM
URL:https://www.tcsatl.org/event/intramural-girls-boys-cross-country-26/
END:VEVENT
BEGIN:VEVENT
DTSTART;TZID=America/New_York:20240829T154500
DTEND;TZID=America/New_York:20240829T170000
DTSTAMP:20260423T171903
CREATED:20240812T184446Z
LAST-MODIFIED:20240829T195951Z
UID:10010632-1724946300-1724950800@www.tcsatl.org
SUMMARY:MAAC Girls Volleyball
DESCRIPTION:Carpool 5:00- 5:15 PM
URL:https://www.tcsatl.org/event/maac-girls-volleyball-122/
END:VEVENT
BEGIN:VEVENT
DTSTART;TZID=America/New_York:20240829T154500
DTEND;TZID=America/New_York:20240829T170000
DTSTAMP:20260423T171903
CREATED:20240812T184447Z
LAST-MODIFIED:20240829T195950Z
UID:10010633-1724946300-1724950800@www.tcsatl.org
SUMMARY:MAAC Co-Ed Ultimate Frisbee
DESCRIPTION:Carpool 5:00-5:15 PM
URL:https://www.tcsatl.org/event/maac-co-ed-ultimate-frisbee-5/
END:VEVENT
BEGIN:VEVENT
DTSTART;TZID=America/New_York:20240829T183000
DTEND;TZID=America/New_York:20240829T213000
DTSTAMP:20260423T171903
CREATED:20240613T163256Z
LAST-MODIFIED:20240829T171442Z
UID:10010569-1724956200-1724967000@www.tcsatl.org
SUMMARY:Back to School Night (Grades 3-8)
DESCRIPTION:
URL:https://www.tcsatl.org/event/back-to-school-night-grades-3-8-tcs/
END:VEVENT
END:VCALENDAR