BEGIN:VCALENDAR
VERSION:2.0
PRODID:-//The Children&#039;s School - ECPv6.15.15//NONSGML v1.0//EN
CALSCALE:GREGORIAN
METHOD:PUBLISH
X-WR-CALNAME:The Children&#039;s School
X-ORIGINAL-URL:https://www.tcsatl.org
X-WR-CALDESC:Events for The Children&#039;s School
REFRESH-INTERVAL;VALUE=DURATION:PT1H
X-Robots-Tag:noindex
X-PUBLISHED-TTL:PT1H
BEGIN:VTIMEZONE
TZID:America/New_York
BEGIN:DAYLIGHT
TZOFFSETFROM:-0500
TZOFFSETTO:-0400
TZNAME:EDT
DTSTART:20220313T070000
END:DAYLIGHT
BEGIN:STANDARD
TZOFFSETFROM:-0400
TZOFFSETTO:-0500
TZNAME:EST
DTSTART:20221106T060000
END:STANDARD
BEGIN:DAYLIGHT
TZOFFSETFROM:-0500
TZOFFSETTO:-0400
TZNAME:EDT
DTSTART:20230312T070000
END:DAYLIGHT
BEGIN:STANDARD
TZOFFSETFROM:-0400
TZOFFSETTO:-0500
TZNAME:EST
DTSTART:20231105T060000
END:STANDARD
BEGIN:DAYLIGHT
TZOFFSETFROM:-0500
TZOFFSETTO:-0400
TZNAME:EDT
DTSTART:20240310T070000
END:DAYLIGHT
BEGIN:STANDARD
TZOFFSETFROM:-0400
TZOFFSETTO:-0500
TZNAME:EST
DTSTART:20241103T060000
END:STANDARD
END:VTIMEZONE
BEGIN:VEVENT
DTSTART;TZID=America/New_York:20231213T151500
DTEND;TZID=America/New_York:20231213T161500
DTSTAMP:20260422T174238
CREATED:20230809T164656Z
LAST-MODIFIED:20230913T010008Z
UID:10010360-1702480500-1702484100@www.tcsatl.org
SUMMARY:TCS Jr. Players
DESCRIPTION:Carpool 4:15- 4:30 PM
URL:https://www.tcsatl.org/event/tcs-jr-players-83/
END:VEVENT
BEGIN:VEVENT
DTSTART;TZID=America/New_York:20231213T151500
DTEND;TZID=America/New_York:20231213T163000
DTSTAMP:20260422T174238
CREATED:20230809T164656Z
LAST-MODIFIED:20230913T010008Z
UID:10010358-1702480500-1702485000@www.tcsatl.org
SUMMARY:TCS Players (6-8th Grade)
DESCRIPTION:Carpool 4:30-4:45 PM
URL:https://www.tcsatl.org/event/tcs-players-6-8th-grade-29/
END:VEVENT
BEGIN:VEVENT
DTSTART;TZID=America/New_York:20231213T154500
DTEND;TZID=America/New_York:20231213T174500
DTSTAMP:20260422T174238
CREATED:20230809T164656Z
LAST-MODIFIED:20230913T010008Z
UID:10010359-1702482300-1702489500@www.tcsatl.org
SUMMARY:Teachshirt Academy
DESCRIPTION:Carpool 5:45 – 6:00 PM
URL:https://www.tcsatl.org/event/teachshirt-academy-18/
END:VEVENT
END:VCALENDAR