BEGIN:VCALENDAR
VERSION:2.0
PRODID:-//The Children&#039;s School - ECPv6.15.15//NONSGML v1.0//EN
CALSCALE:GREGORIAN
METHOD:PUBLISH
X-WR-CALNAME:The Children&#039;s School
X-ORIGINAL-URL:https://www.tcsatl.org
X-WR-CALDESC:Events for The Children&#039;s School
REFRESH-INTERVAL;VALUE=DURATION:PT1H
X-Robots-Tag:noindex
X-PUBLISHED-TTL:PT1H
BEGIN:VTIMEZONE
TZID:America/New_York
BEGIN:DAYLIGHT
TZOFFSETFROM:-0500
TZOFFSETTO:-0400
TZNAME:EDT
DTSTART:20220313T070000
END:DAYLIGHT
BEGIN:STANDARD
TZOFFSETFROM:-0400
TZOFFSETTO:-0500
TZNAME:EST
DTSTART:20221106T060000
END:STANDARD
BEGIN:DAYLIGHT
TZOFFSETFROM:-0500
TZOFFSETTO:-0400
TZNAME:EDT
DTSTART:20230312T070000
END:DAYLIGHT
BEGIN:STANDARD
TZOFFSETFROM:-0400
TZOFFSETTO:-0500
TZNAME:EST
DTSTART:20231105T060000
END:STANDARD
BEGIN:DAYLIGHT
TZOFFSETFROM:-0500
TZOFFSETTO:-0400
TZNAME:EDT
DTSTART:20240310T070000
END:DAYLIGHT
BEGIN:STANDARD
TZOFFSETFROM:-0400
TZOFFSETTO:-0500
TZNAME:EST
DTSTART:20241103T060000
END:STANDARD
END:VTIMEZONE
BEGIN:VEVENT
DTSTART;TZID=America/New_York:20231201T151500
DTEND;TZID=America/New_York:20231201T161500
DTSTAMP:20260421T214726
CREATED:20230809T164647Z
LAST-MODIFIED:20230913T010006Z
UID:10010338-1701443700-1701447300@www.tcsatl.org
SUMMARY:Gymnastics Level II
DESCRIPTION:Carpool 04:15 pm – 4:30 PM
URL:https://www.tcsatl.org/event/gymnastics-level-ii-34/
END:VEVENT
BEGIN:VEVENT
DTSTART;TZID=America/New_York:20231201T151500
DTEND;TZID=America/New_York:20231201T161500
DTSTAMP:20260421T214726
CREATED:20230809T164647Z
LAST-MODIFIED:20230913T010006Z
UID:10010339-1701443700-1701447300@www.tcsatl.org
SUMMARY:Intro to Gymnastics
DESCRIPTION:Carpool 4:15 – 4:30 PM
URL:https://www.tcsatl.org/event/intro-to-gymnastics-20/
END:VEVENT
BEGIN:VEVENT
DTSTART;TZID=America/New_York:20231201T151500
DTEND;TZID=America/New_York:20231201T161500
DTSTAMP:20260421T214726
CREATED:20230809T164647Z
LAST-MODIFIED:20230913T010006Z
UID:10010341-1701443700-1701447300@www.tcsatl.org
SUMMARY:Amazing Athletes
DESCRIPTION:Carpool 4:15-4:30 PM
URL:https://www.tcsatl.org/event/amazing-athletes-57/
END:VEVENT
BEGIN:VEVENT
DTSTART;TZID=America/New_York:20231201T161500
DTEND;TZID=America/New_York:20231201T171500
DTSTAMP:20260421T214726
CREATED:20230809T164647Z
LAST-MODIFIED:20230913T010006Z
UID:10010340-1701447300-1701450900@www.tcsatl.org
SUMMARY:Intro to Ballet/Tap
DESCRIPTION:Carpool 5:15 – 5:30 PM
URL:https://www.tcsatl.org/event/intro-to-ballet-tap-33/
END:VEVENT
BEGIN:VEVENT
DTSTART;TZID=America/New_York:20231201T161500
DTEND;TZID=America/New_York:20231201T171500
DTSTAMP:20260421T214726
CREATED:20230809T164648Z
LAST-MODIFIED:20230913T010006Z
UID:10010342-1701447300-1701450900@www.tcsatl.org
SUMMARY:Ballet/Tap II
DESCRIPTION:Carpool 5:15- 5:30 PM
URL:https://www.tcsatl.org/event/ballet-tap-ii-16/
END:VEVENT
END:VCALENDAR