BEGIN:VCALENDAR
VERSION:2.0
PRODID:-//The Children&#039;s School - ECPv6.15.15//NONSGML v1.0//EN
CALSCALE:GREGORIAN
METHOD:PUBLISH
X-ORIGINAL-URL:https://www.tcsatl.org
X-WR-CALDESC:Events for The Children&#039;s School
REFRESH-INTERVAL;VALUE=DURATION:PT1H
X-Robots-Tag:noindex
X-PUBLISHED-TTL:PT1H
BEGIN:VTIMEZONE
TZID:America/New_York
BEGIN:DAYLIGHT
TZOFFSETFROM:-0500
TZOFFSETTO:-0400
TZNAME:EDT
DTSTART:20220313T070000
END:DAYLIGHT
BEGIN:STANDARD
TZOFFSETFROM:-0400
TZOFFSETTO:-0500
TZNAME:EST
DTSTART:20221106T060000
END:STANDARD
BEGIN:DAYLIGHT
TZOFFSETFROM:-0500
TZOFFSETTO:-0400
TZNAME:EDT
DTSTART:20230312T070000
END:DAYLIGHT
BEGIN:STANDARD
TZOFFSETFROM:-0400
TZOFFSETTO:-0500
TZNAME:EST
DTSTART:20231105T060000
END:STANDARD
BEGIN:DAYLIGHT
TZOFFSETFROM:-0500
TZOFFSETTO:-0400
TZNAME:EDT
DTSTART:20240310T070000
END:DAYLIGHT
BEGIN:STANDARD
TZOFFSETFROM:-0400
TZOFFSETTO:-0500
TZNAME:EST
DTSTART:20241103T060000
END:STANDARD
END:VTIMEZONE
BEGIN:VEVENT
DTSTART;VALUE=DATE:20231120
DTEND;VALUE=DATE:20231125
DTSTAMP:20260421T214100
CREATED:20230201T214458Z
LAST-MODIFIED:20230913T020015Z
UID:10010059-1700438400-1700870399@www.tcsatl.org
SUMMARY:Thanksgiving Break - SCHOOL CLOSED
DESCRIPTION:
URL:https://www.tcsatl.org/event/thanksgiving-break-school-closed-6/
END:VEVENT
BEGIN:VEVENT
DTSTART;TZID=America/New_York:20231121T151500
DTEND;TZID=America/New_York:20231121T161500
DTSTAMP:20260421T214100
CREATED:20230906T010123Z
LAST-MODIFIED:20230913T010003Z
UID:10009504-1700579700-1700583300@www.tcsatl.org
SUMMARY:Intro to Drums I & II and Percussion Ensemble III & IV
DESCRIPTION:
URL:https://www.tcsatl.org/event/intro-to-drums-i-ii-and-percussion-ensemble-iii-iv-11/
END:VEVENT
BEGIN:VEVENT
DTSTART;TZID=America/New_York:20231121T151500
DTEND;TZID=America/New_York:20231121T163000
DTSTAMP:20260421T214100
CREATED:20230809T164644Z
LAST-MODIFIED:20230913T010003Z
UID:10009260-1700579700-1700584200@www.tcsatl.org
SUMMARY:TCS Jr Voices
DESCRIPTION:Carpool 04:30 – 04:45 PM
URL:https://www.tcsatl.org/event/tcs-jr-voices-50/
END:VEVENT
BEGIN:VEVENT
DTSTART;TZID=America/New_York:20231121T154500
DTEND;TZID=America/New_York:20231121T164500
DTSTAMP:20260421T214100
CREATED:20230809T164644Z
LAST-MODIFIED:20230913T010003Z
UID:10009261-1700581500-1700585100@www.tcsatl.org
SUMMARY:Science Creations S.T.E.A.M.
DESCRIPTION:
URL:https://www.tcsatl.org/event/science-creations-s-t-e-a-m-28/
END:VEVENT
BEGIN:VEVENT
DTSTART;TZID=America/New_York:20231121T161500
DTEND;TZID=America/New_York:20231121T171500
DTSTAMP:20260421T214100
CREATED:20230809T164644Z
LAST-MODIFIED:20230905T010046Z
UID:10009259-1700583300-1700586900@www.tcsatl.org
SUMMARY:Intro to Drums I & II
DESCRIPTION:Carpool 5:15 – 5:30 PM
URL:https://www.tcsatl.org/event/intro-to-drums-i-ii-15/
END:VEVENT
END:VCALENDAR