BEGIN:VCALENDAR
VERSION:2.0
PRODID:-//The Children&#039;s School - ECPv6.15.15//NONSGML v1.0//EN
CALSCALE:GREGORIAN
METHOD:PUBLISH
X-WR-CALNAME:The Children&#039;s School
X-ORIGINAL-URL:https://www.tcsatl.org
X-WR-CALDESC:Events for The Children&#039;s School
REFRESH-INTERVAL;VALUE=DURATION:PT1H
X-Robots-Tag:noindex
X-PUBLISHED-TTL:PT1H
BEGIN:VTIMEZONE
TZID:America/New_York
BEGIN:DAYLIGHT
TZOFFSETFROM:-0500
TZOFFSETTO:-0400
TZNAME:EDT
DTSTART:20220313T070000
END:DAYLIGHT
BEGIN:STANDARD
TZOFFSETFROM:-0400
TZOFFSETTO:-0500
TZNAME:EST
DTSTART:20221106T060000
END:STANDARD
BEGIN:DAYLIGHT
TZOFFSETFROM:-0500
TZOFFSETTO:-0400
TZNAME:EDT
DTSTART:20230312T070000
END:DAYLIGHT
BEGIN:STANDARD
TZOFFSETFROM:-0400
TZOFFSETTO:-0500
TZNAME:EST
DTSTART:20231105T060000
END:STANDARD
BEGIN:DAYLIGHT
TZOFFSETFROM:-0500
TZOFFSETTO:-0400
TZNAME:EDT
DTSTART:20240310T070000
END:DAYLIGHT
BEGIN:STANDARD
TZOFFSETFROM:-0400
TZOFFSETTO:-0500
TZNAME:EST
DTSTART:20241103T060000
END:STANDARD
END:VTIMEZONE
BEGIN:VEVENT
DTSTART;VALUE=DATE:20231113
DTEND;VALUE=DATE:20231118
DTSTAMP:20260421T213809
CREATED:20230201T214458Z
LAST-MODIFIED:20230913T020015Z
UID:10010057-1699833600-1700265599@www.tcsatl.org
SUMMARY:ERB Make up Testing (4th to 8th Grade)
DESCRIPTION:
URL:https://www.tcsatl.org/event/erb-make-up-testing-4th-to-8th-grade/
END:VEVENT
BEGIN:VEVENT
DTSTART;TZID=America/New_York:20231113T151500
DTEND;TZID=America/New_York:20231113T161500
DTSTAMP:20260421T213810
CREATED:20230809T164641Z
LAST-MODIFIED:20230830T010024Z
UID:10009248-1699888500-1699892100@www.tcsatl.org
SUMMARY:Bricks4Kidz
DESCRIPTION:
URL:https://www.tcsatl.org/event/bricks4kidz-33/
END:VEVENT
BEGIN:VEVENT
DTSTART;TZID=America/New_York:20231113T151500
DTEND;TZID=America/New_York:20231113T161500
DTSTAMP:20260421T213810
CREATED:20230831T010023Z
LAST-MODIFIED:20230913T010001Z
UID:10010558-1699888500-1699892100@www.tcsatl.org
SUMMARY:Bricks4Kidz
DESCRIPTION:
URL:https://www.tcsatl.org/event/bricks4kidz-49/
END:VEVENT
BEGIN:VEVENT
DTSTART;TZID=America/New_York:20231113T151500
DTEND;TZID=America/New_York:20231113T163000
DTSTAMP:20260421T213810
CREATED:20230809T164641Z
LAST-MODIFIED:20230913T010001Z
UID:10009249-1699888500-1699893000@www.tcsatl.org
SUMMARY:TCS Players (6-8th Grade)
DESCRIPTION:Carpool 4:30-4:45 PM
URL:https://www.tcsatl.org/event/tcs-players-6-8th-grade-20/
END:VEVENT
BEGIN:VEVENT
DTSTART;TZID=America/New_York:20231113T154500
DTEND;TZID=America/New_York:20231113T164500
DTSTAMP:20260421T213810
CREATED:20230809T164641Z
LAST-MODIFIED:20230913T010001Z
UID:10009250-1699890300-1699893900@www.tcsatl.org
SUMMARY:Soundscape Music Ensemble
DESCRIPTION:Carpool 4:45 – 5:00 PM
URL:https://www.tcsatl.org/event/soundscape-music-ensemble-14/
END:VEVENT
END:VCALENDAR