BEGIN:VCALENDAR
VERSION:2.0
PRODID:-//The Children&#039;s School - ECPv6.15.15//NONSGML v1.0//EN
CALSCALE:GREGORIAN
METHOD:PUBLISH
X-ORIGINAL-URL:https://www.tcsatl.org
X-WR-CALDESC:Events for The Children&#039;s School
REFRESH-INTERVAL;VALUE=DURATION:PT1H
X-Robots-Tag:noindex
X-PUBLISHED-TTL:PT1H
BEGIN:VTIMEZONE
TZID:America/New_York
BEGIN:DAYLIGHT
TZOFFSETFROM:-0500
TZOFFSETTO:-0400
TZNAME:EDT
DTSTART:20220313T070000
END:DAYLIGHT
BEGIN:STANDARD
TZOFFSETFROM:-0400
TZOFFSETTO:-0500
TZNAME:EST
DTSTART:20221106T060000
END:STANDARD
BEGIN:DAYLIGHT
TZOFFSETFROM:-0500
TZOFFSETTO:-0400
TZNAME:EDT
DTSTART:20230312T070000
END:DAYLIGHT
BEGIN:STANDARD
TZOFFSETFROM:-0400
TZOFFSETTO:-0500
TZNAME:EST
DTSTART:20231105T060000
END:STANDARD
BEGIN:DAYLIGHT
TZOFFSETFROM:-0500
TZOFFSETTO:-0400
TZNAME:EDT
DTSTART:20240310T070000
END:DAYLIGHT
BEGIN:STANDARD
TZOFFSETFROM:-0400
TZOFFSETTO:-0500
TZNAME:EST
DTSTART:20241103T060000
END:STANDARD
END:VTIMEZONE
BEGIN:VEVENT
DTSTART;VALUE=DATE:20231106
DTEND;VALUE=DATE:20231111
DTSTAMP:20260421T214744
CREATED:20230201T214458Z
LAST-MODIFIED:20230913T020015Z
UID:10010056-1699228800-1699660799@www.tcsatl.org
SUMMARY:ERB Testing (4th to 8th Graders)
DESCRIPTION:
URL:https://www.tcsatl.org/event/erb-testing-4th-to-8th-graders/
END:VEVENT
BEGIN:VEVENT
DTSTART;TZID=America/New_York:20231110T084500
DTEND;TZID=America/New_York:20231110T093000
DTSTAMP:20260421T214744
CREATED:20230727T174503Z
LAST-MODIFIED:20230913T020015Z
UID:10010165-1699605900-1699608600@www.tcsatl.org
SUMMARY:TCS Outdoors Walk & Talk - Piedmont Park
DESCRIPTION:
URL:https://www.tcsatl.org/event/tcs-outdoors-walk-talk-piedmont-park-3/
END:VEVENT
BEGIN:VEVENT
DTSTART;TZID=America/New_York:20231110T151500
DTEND;TZID=America/New_York:20231110T161500
DTSTAMP:20260421T214744
CREATED:20230809T164641Z
LAST-MODIFIED:20230913T010001Z
UID:10009244-1699629300-1699632900@www.tcsatl.org
SUMMARY:Intro to Gymnastics
DESCRIPTION:Carpool 4:15 – 4:30 PM
URL:https://www.tcsatl.org/event/intro-to-gymnastics-17/
END:VEVENT
BEGIN:VEVENT
DTSTART;TZID=America/New_York:20231110T151500
DTEND;TZID=America/New_York:20231110T161500
DTSTAMP:20260421T214744
CREATED:20230809T164641Z
LAST-MODIFIED:20230913T010001Z
UID:10009245-1699629300-1699632900@www.tcsatl.org
SUMMARY:Gymnastics Level II
DESCRIPTION:Carpool 04:15 pm – 4:30 PM
URL:https://www.tcsatl.org/event/gymnastics-level-ii-31/
END:VEVENT
BEGIN:VEVENT
DTSTART;TZID=America/New_York:20231110T151500
DTEND;TZID=America/New_York:20231110T161500
DTSTAMP:20260421T214745
CREATED:20230809T164641Z
LAST-MODIFIED:20230913T010001Z
UID:10009246-1699629300-1699632900@www.tcsatl.org
SUMMARY:Amazing Athletes
DESCRIPTION:Carpool 4:15-4:30 PM
URL:https://www.tcsatl.org/event/amazing-athletes-54/
END:VEVENT
BEGIN:VEVENT
DTSTART;TZID=America/New_York:20231110T161500
DTEND;TZID=America/New_York:20231110T171500
DTSTAMP:20260421T214745
CREATED:20230809T164641Z
LAST-MODIFIED:20230913T010001Z
UID:10009247-1699632900-1699636500@www.tcsatl.org
SUMMARY:Intro to Ballet/Tap
DESCRIPTION:Carpool 5:15 – 5:30 PM
URL:https://www.tcsatl.org/event/intro-to-ballet-tap-30/
END:VEVENT
BEGIN:VEVENT
DTSTART;TZID=America/New_York:20231110T161500
DTEND;TZID=America/New_York:20231110T171500
DTSTAMP:20260421T214745
CREATED:20230809T164641Z
LAST-MODIFIED:20230913T010001Z
UID:10009243-1699632900-1699636500@www.tcsatl.org
SUMMARY:Ballet/Tap II
DESCRIPTION:Carpool 5:15- 5:30 PM
URL:https://www.tcsatl.org/event/ballet-tap-ii-13/
END:VEVENT
END:VCALENDAR