BEGIN:VCALENDAR
VERSION:2.0
PRODID:-//The Children&#039;s School - ECPv6.15.15//NONSGML v1.0//EN
CALSCALE:GREGORIAN
METHOD:PUBLISH
X-ORIGINAL-URL:https://www.tcsatl.org
X-WR-CALDESC:Events for The Children&#039;s School
REFRESH-INTERVAL;VALUE=DURATION:PT1H
X-Robots-Tag:noindex
X-PUBLISHED-TTL:PT1H
BEGIN:VTIMEZONE
TZID:America/New_York
BEGIN:DAYLIGHT
TZOFFSETFROM:-0500
TZOFFSETTO:-0400
TZNAME:EDT
DTSTART:20220313T070000
END:DAYLIGHT
BEGIN:STANDARD
TZOFFSETFROM:-0400
TZOFFSETTO:-0500
TZNAME:EST
DTSTART:20221106T060000
END:STANDARD
BEGIN:DAYLIGHT
TZOFFSETFROM:-0500
TZOFFSETTO:-0400
TZNAME:EDT
DTSTART:20230312T070000
END:DAYLIGHT
BEGIN:STANDARD
TZOFFSETFROM:-0400
TZOFFSETTO:-0500
TZNAME:EST
DTSTART:20231105T060000
END:STANDARD
BEGIN:DAYLIGHT
TZOFFSETFROM:-0500
TZOFFSETTO:-0400
TZNAME:EDT
DTSTART:20240310T070000
END:DAYLIGHT
BEGIN:STANDARD
TZOFFSETFROM:-0400
TZOFFSETTO:-0500
TZNAME:EST
DTSTART:20241103T060000
END:STANDARD
END:VTIMEZONE
BEGIN:VEVENT
DTSTART;VALUE=DATE:20231106
DTEND;VALUE=DATE:20231111
DTSTAMP:20260421T214747
CREATED:20230201T214458Z
LAST-MODIFIED:20230913T020015Z
UID:10010056-1699228800-1699660799@www.tcsatl.org
SUMMARY:ERB Testing (4th to 8th Graders)
DESCRIPTION:
URL:https://www.tcsatl.org/event/erb-testing-4th-to-8th-graders/
END:VEVENT
BEGIN:VEVENT
DTSTART;TZID=America/New_York:20231108T151500
DTEND;TZID=America/New_York:20231108T161500
DTSTAMP:20260421T214747
CREATED:20230809T164640Z
LAST-MODIFIED:20230913T010000Z
UID:10010303-1699456500-1699460100@www.tcsatl.org
SUMMARY:TCS Jr. Players
DESCRIPTION:Carpool 4:15- 4:30 PM
URL:https://www.tcsatl.org/event/tcs-jr-players-78/
END:VEVENT
BEGIN:VEVENT
DTSTART;TZID=America/New_York:20231108T151500
DTEND;TZID=America/New_York:20231108T163000
DTSTAMP:20260421T214747
CREATED:20230809T164640Z
LAST-MODIFIED:20230913T010000Z
UID:10010305-1699456500-1699461000@www.tcsatl.org
SUMMARY:TCS Players (6-8th Grade)
DESCRIPTION:Carpool 4:30-4:45 PM
URL:https://www.tcsatl.org/event/tcs-players-6-8th-grade-19/
END:VEVENT
BEGIN:VEVENT
DTSTART;TZID=America/New_York:20231108T154500
DTEND;TZID=America/New_York:20231108T174500
DTSTAMP:20260421T214747
CREATED:20230809T164640Z
LAST-MODIFIED:20230913T010000Z
UID:10010304-1699458300-1699465500@www.tcsatl.org
SUMMARY:Teachshirt Academy
DESCRIPTION:Carpool 5:45 – 6:00 PM
URL:https://www.tcsatl.org/event/teachshirt-academy-13/
END:VEVENT
END:VCALENDAR