BEGIN:VCALENDAR
VERSION:2.0
PRODID:-//The Children&#039;s School - ECPv6.15.15//NONSGML v1.0//EN
CALSCALE:GREGORIAN
METHOD:PUBLISH
X-WR-CALNAME:The Children&#039;s School
X-ORIGINAL-URL:https://www.tcsatl.org
X-WR-CALDESC:Events for The Children&#039;s School
REFRESH-INTERVAL;VALUE=DURATION:PT1H
X-Robots-Tag:noindex
X-PUBLISHED-TTL:PT1H
BEGIN:VTIMEZONE
TZID:America/New_York
BEGIN:DAYLIGHT
TZOFFSETFROM:-0500
TZOFFSETTO:-0400
TZNAME:EDT
DTSTART:20220313T070000
END:DAYLIGHT
BEGIN:STANDARD
TZOFFSETFROM:-0400
TZOFFSETTO:-0500
TZNAME:EST
DTSTART:20221106T060000
END:STANDARD
BEGIN:DAYLIGHT
TZOFFSETFROM:-0500
TZOFFSETTO:-0400
TZNAME:EDT
DTSTART:20230312T070000
END:DAYLIGHT
BEGIN:STANDARD
TZOFFSETFROM:-0400
TZOFFSETTO:-0500
TZNAME:EST
DTSTART:20231105T060000
END:STANDARD
BEGIN:DAYLIGHT
TZOFFSETFROM:-0500
TZOFFSETTO:-0400
TZNAME:EDT
DTSTART:20240310T070000
END:DAYLIGHT
BEGIN:STANDARD
TZOFFSETFROM:-0400
TZOFFSETTO:-0500
TZNAME:EST
DTSTART:20241103T060000
END:STANDARD
END:VTIMEZONE
BEGIN:VEVENT
DTSTART;VALUE=DATE:20231106
DTEND;VALUE=DATE:20231111
DTSTAMP:20260421T214707
CREATED:20230201T214458Z
LAST-MODIFIED:20230913T020015Z
UID:10010056-1699228800-1699660799@www.tcsatl.org
SUMMARY:ERB Testing (4th to 8th Graders)
DESCRIPTION:
URL:https://www.tcsatl.org/event/erb-testing-4th-to-8th-graders/
END:VEVENT
BEGIN:VEVENT
DTSTART;TZID=America/New_York:20231107T151500
DTEND;TZID=America/New_York:20231107T161500
DTSTAMP:20260421T214708
CREATED:20230906T010120Z
LAST-MODIFIED:20230913T010000Z
UID:10009502-1699370100-1699373700@www.tcsatl.org
SUMMARY:Intro to Drums I & II and Percussion Ensemble III & IV
DESCRIPTION:
URL:https://www.tcsatl.org/event/intro-to-drums-i-ii-and-percussion-ensemble-iii-iv-9/
END:VEVENT
BEGIN:VEVENT
DTSTART;TZID=America/New_York:20231107T151500
DTEND;TZID=America/New_York:20231107T163000
DTSTAMP:20260421T214708
CREATED:20230809T164640Z
LAST-MODIFIED:20230913T010000Z
UID:10010302-1699370100-1699374600@www.tcsatl.org
SUMMARY:TCS Jr Voices
DESCRIPTION:Carpool 04:30 – 04:45 PM
URL:https://www.tcsatl.org/event/tcs-jr-voices-48/
END:VEVENT
BEGIN:VEVENT
DTSTART;TZID=America/New_York:20231107T154500
DTEND;TZID=America/New_York:20231107T164500
DTSTAMP:20260421T214708
CREATED:20230809T164639Z
LAST-MODIFIED:20230913T010000Z
UID:10010301-1699371900-1699375500@www.tcsatl.org
SUMMARY:Science Creations S.T.E.A.M.
DESCRIPTION:
URL:https://www.tcsatl.org/event/science-creations-s-t-e-a-m-24/
END:VEVENT
BEGIN:VEVENT
DTSTART;TZID=America/New_York:20231107T161500
DTEND;TZID=America/New_York:20231107T171500
DTSTAMP:20260421T214708
CREATED:20230809T164639Z
LAST-MODIFIED:20230905T010044Z
UID:10010300-1699373700-1699377300@www.tcsatl.org
SUMMARY:Intro to Drums I & II
DESCRIPTION:Carpool 5:15 – 5:30 PM
URL:https://www.tcsatl.org/event/intro-to-drums-i-ii-13/
END:VEVENT
END:VCALENDAR