BEGIN:VCALENDAR
VERSION:2.0
PRODID:-//The Children&#039;s School - ECPv6.15.15//NONSGML v1.0//EN
CALSCALE:GREGORIAN
METHOD:PUBLISH
X-ORIGINAL-URL:https://www.tcsatl.org
X-WR-CALDESC:Events for The Children&#039;s School
REFRESH-INTERVAL;VALUE=DURATION:PT1H
X-Robots-Tag:noindex
X-PUBLISHED-TTL:PT1H
BEGIN:VTIMEZONE
TZID:America/New_York
BEGIN:DAYLIGHT
TZOFFSETFROM:-0500
TZOFFSETTO:-0400
TZNAME:EDT
DTSTART:20220313T070000
END:DAYLIGHT
BEGIN:STANDARD
TZOFFSETFROM:-0400
TZOFFSETTO:-0500
TZNAME:EST
DTSTART:20221106T060000
END:STANDARD
BEGIN:DAYLIGHT
TZOFFSETFROM:-0500
TZOFFSETTO:-0400
TZNAME:EDT
DTSTART:20230312T070000
END:DAYLIGHT
BEGIN:STANDARD
TZOFFSETFROM:-0400
TZOFFSETTO:-0500
TZNAME:EST
DTSTART:20231105T060000
END:STANDARD
BEGIN:DAYLIGHT
TZOFFSETFROM:-0500
TZOFFSETTO:-0400
TZNAME:EDT
DTSTART:20240310T070000
END:DAYLIGHT
BEGIN:STANDARD
TZOFFSETFROM:-0400
TZOFFSETTO:-0500
TZNAME:EST
DTSTART:20241103T060000
END:STANDARD
END:VTIMEZONE
BEGIN:VEVENT
DTSTART;TZID=America/New_York:20231024T151500
DTEND;TZID=America/New_York:20231024T161500
DTSTAMP:20260423T062132
CREATED:20230906T010118Z
LAST-MODIFIED:20230913T005958Z
UID:10009500-1698160500-1698164100@www.tcsatl.org
SUMMARY:Intro to Drums I & II and Percussion Ensemble III & IV
DESCRIPTION:
URL:https://www.tcsatl.org/event/intro-to-drums-i-ii-and-percussion-ensemble-iii-iv-7/
END:VEVENT
BEGIN:VEVENT
DTSTART;TZID=America/New_York:20231024T151500
DTEND;TZID=America/New_York:20231024T163000
DTSTAMP:20260423T062132
CREATED:20230809T164635Z
LAST-MODIFIED:20230913T005958Z
UID:10009214-1698160500-1698165000@www.tcsatl.org
SUMMARY:TCS Jr Voices
DESCRIPTION:Carpool 04:30 – 04:45 PM
URL:https://www.tcsatl.org/event/tcs-jr-voices-46/
END:VEVENT
BEGIN:VEVENT
DTSTART;TZID=America/New_York:20231024T154500
DTEND;TZID=America/New_York:20231024T164500
DTSTAMP:20260423T062132
CREATED:20230809T164635Z
LAST-MODIFIED:20230913T005958Z
UID:10009216-1698162300-1698165900@www.tcsatl.org
SUMMARY:Science Creations S.T.E.A.M.
DESCRIPTION:
URL:https://www.tcsatl.org/event/science-creations-s-t-e-a-m-20/
END:VEVENT
BEGIN:VEVENT
DTSTART;TZID=America/New_York:20231024T161500
DTEND;TZID=America/New_York:20231024T171500
DTSTAMP:20260423T062132
CREATED:20230809T164635Z
LAST-MODIFIED:20230905T010042Z
UID:10009215-1698164100-1698167700@www.tcsatl.org
SUMMARY:Intro to Drums I & II
DESCRIPTION:Carpool 5:15 – 5:30 PM
URL:https://www.tcsatl.org/event/intro-to-drums-i-ii-11/
END:VEVENT
END:VCALENDAR