BEGIN:VCALENDAR
VERSION:2.0
PRODID:-//The Children&#039;s School - ECPv6.15.15//NONSGML v1.0//EN
CALSCALE:GREGORIAN
METHOD:PUBLISH
X-ORIGINAL-URL:https://www.tcsatl.org
X-WR-CALDESC:Events for The Children&#039;s School
REFRESH-INTERVAL;VALUE=DURATION:PT1H
X-Robots-Tag:noindex
X-PUBLISHED-TTL:PT1H
BEGIN:VTIMEZONE
TZID:America/New_York
BEGIN:DAYLIGHT
TZOFFSETFROM:-0500
TZOFFSETTO:-0400
TZNAME:EDT
DTSTART:20220313T070000
END:DAYLIGHT
BEGIN:STANDARD
TZOFFSETFROM:-0400
TZOFFSETTO:-0500
TZNAME:EST
DTSTART:20221106T060000
END:STANDARD
BEGIN:DAYLIGHT
TZOFFSETFROM:-0500
TZOFFSETTO:-0400
TZNAME:EDT
DTSTART:20230312T070000
END:DAYLIGHT
BEGIN:STANDARD
TZOFFSETFROM:-0400
TZOFFSETTO:-0500
TZNAME:EST
DTSTART:20231105T060000
END:STANDARD
BEGIN:DAYLIGHT
TZOFFSETFROM:-0500
TZOFFSETTO:-0400
TZNAME:EDT
DTSTART:20240310T070000
END:DAYLIGHT
BEGIN:STANDARD
TZOFFSETFROM:-0400
TZOFFSETTO:-0500
TZNAME:EST
DTSTART:20241103T060000
END:STANDARD
END:VTIMEZONE
BEGIN:VEVENT
DTSTART;TZID=America/New_York:20231020T084500
DTEND;TZID=America/New_York:20231020T093000
DTSTAMP:20260423T063236
CREATED:20230727T174503Z
LAST-MODIFIED:20230913T020015Z
UID:10010164-1697791500-1697794200@www.tcsatl.org
SUMMARY:TCS Outdoors Walk & Talk - Piedmont Park
DESCRIPTION:
URL:https://www.tcsatl.org/event/tcs-outdoors-walk-talk-piedmont-park-2/
END:VEVENT
BEGIN:VEVENT
DTSTART;TZID=America/New_York:20231020T151500
DTEND;TZID=America/New_York:20231020T161500
DTSTAMP:20260423T063236
CREATED:20230809T164634Z
LAST-MODIFIED:20230913T005957Z
UID:10010276-1697814900-1697818500@www.tcsatl.org
SUMMARY:Gymnastics Level II
DESCRIPTION:Carpool 04:15 pm – 4:30 PM
URL:https://www.tcsatl.org/event/gymnastics-level-ii-28/
END:VEVENT
BEGIN:VEVENT
DTSTART;TZID=America/New_York:20231020T151500
DTEND;TZID=America/New_York:20231020T161500
DTSTAMP:20260423T063236
CREATED:20230809T164634Z
LAST-MODIFIED:20230913T005957Z
UID:10009208-1697814900-1697818500@www.tcsatl.org
SUMMARY:Amazing Athletes
DESCRIPTION:Carpool 4:15-4:30 PM
URL:https://www.tcsatl.org/event/amazing-athletes-51/
END:VEVENT
BEGIN:VEVENT
DTSTART;TZID=America/New_York:20231020T151500
DTEND;TZID=America/New_York:20231020T161500
DTSTAMP:20260423T063236
CREATED:20230809T164634Z
LAST-MODIFIED:20230913T005957Z
UID:10010277-1697814900-1697818500@www.tcsatl.org
SUMMARY:Intro to Gymnastics
DESCRIPTION:Carpool 4:15 – 4:30 PM
URL:https://www.tcsatl.org/event/intro-to-gymnastics-14/
END:VEVENT
BEGIN:VEVENT
DTSTART;TZID=America/New_York:20231020T154500
DTEND;TZID=America/New_York:20231020T170000
DTSTAMP:20260423T063236
CREATED:20230810T053036Z
LAST-MODIFIED:20230905T214740Z
UID:10009472-1697816700-1697821200@www.tcsatl.org
SUMMARY:MAAC Girls & Boys Cross Country (Grades 6-8)
DESCRIPTION:Carpool 5:00- 5:15 PM
URL:https://www.tcsatl.org/event/maac-girls-boys-cross-country-grades-6-8-31/
END:VEVENT
BEGIN:VEVENT
DTSTART;TZID=America/New_York:20231020T154500
DTEND;TZID=America/New_York:20231020T170000
DTSTAMP:20260423T063236
CREATED:20230810T053036Z
LAST-MODIFIED:20230905T214740Z
UID:10009473-1697816700-1697821200@www.tcsatl.org
SUMMARY:MAAC Co-Ed Ultimate Frisbee (Grades 5-8)
DESCRIPTION:carpool 5:00 -5:15 PM
URL:https://www.tcsatl.org/event/maac-co-ed-ultimate-frisbee-grades-5-8-32/
END:VEVENT
BEGIN:VEVENT
DTSTART;TZID=America/New_York:20231020T154500
DTEND;TZID=America/New_York:20231020T170000
DTSTAMP:20260423T063236
CREATED:20230810T053036Z
LAST-MODIFIED:20230905T214740Z
UID:10009471-1697816700-1697821200@www.tcsatl.org
SUMMARY:MAAC Girls Volleyball
DESCRIPTION:Carpool 5:00-5:15 pm
URL:https://www.tcsatl.org/event/maac-girls-volleyball-117/
END:VEVENT
BEGIN:VEVENT
DTSTART;TZID=America/New_York:20231020T161500
DTEND;TZID=America/New_York:20231020T171500
DTSTAMP:20260423T063236
CREATED:20230809T164634Z
LAST-MODIFIED:20230913T005957Z
UID:10010274-1697818500-1697822100@www.tcsatl.org
SUMMARY:Ballet/Tap II
DESCRIPTION:Carpool 5:15- 5:30 PM
URL:https://www.tcsatl.org/event/ballet-tap-ii-10/
END:VEVENT
BEGIN:VEVENT
DTSTART;TZID=America/New_York:20231020T161500
DTEND;TZID=America/New_York:20231020T171500
DTSTAMP:20260423T063236
CREATED:20230809T164634Z
LAST-MODIFIED:20230913T005957Z
UID:10010275-1697818500-1697822100@www.tcsatl.org
SUMMARY:Intro to Ballet/Tap
DESCRIPTION:Carpool 5:15 – 5:30 PM
URL:https://www.tcsatl.org/event/intro-to-ballet-tap-27/
END:VEVENT
END:VCALENDAR