BEGIN:VCALENDAR
VERSION:2.0
PRODID:-//The Children&#039;s School - ECPv6.15.15//NONSGML v1.0//EN
CALSCALE:GREGORIAN
METHOD:PUBLISH
X-WR-CALNAME:The Children&#039;s School
X-ORIGINAL-URL:https://www.tcsatl.org
X-WR-CALDESC:Events for The Children&#039;s School
REFRESH-INTERVAL;VALUE=DURATION:PT1H
X-Robots-Tag:noindex
X-PUBLISHED-TTL:PT1H
BEGIN:VTIMEZONE
TZID:America/New_York
BEGIN:DAYLIGHT
TZOFFSETFROM:-0500
TZOFFSETTO:-0400
TZNAME:EDT
DTSTART:20220313T070000
END:DAYLIGHT
BEGIN:STANDARD
TZOFFSETFROM:-0400
TZOFFSETTO:-0500
TZNAME:EST
DTSTART:20221106T060000
END:STANDARD
BEGIN:DAYLIGHT
TZOFFSETFROM:-0500
TZOFFSETTO:-0400
TZNAME:EDT
DTSTART:20230312T070000
END:DAYLIGHT
BEGIN:STANDARD
TZOFFSETFROM:-0400
TZOFFSETTO:-0500
TZNAME:EST
DTSTART:20231105T060000
END:STANDARD
BEGIN:DAYLIGHT
TZOFFSETFROM:-0500
TZOFFSETTO:-0400
TZNAME:EDT
DTSTART:20240310T070000
END:DAYLIGHT
BEGIN:STANDARD
TZOFFSETFROM:-0400
TZOFFSETTO:-0500
TZNAME:EST
DTSTART:20241103T060000
END:STANDARD
END:VTIMEZONE
BEGIN:VEVENT
DTSTART;TZID=America/New_York:20231013T151500
DTEND;TZID=America/New_York:20231013T161500
DTSTAMP:20260423T075550
CREATED:20230809T164631Z
LAST-MODIFIED:20230913T005956Z
UID:10009197-1697210100-1697213700@www.tcsatl.org
SUMMARY:Gymnastics Level II
DESCRIPTION:Carpool 04:15 pm – 4:30 PM
URL:https://www.tcsatl.org/event/gymnastics-level-ii-27/
END:VEVENT
BEGIN:VEVENT
DTSTART;TZID=America/New_York:20231013T151500
DTEND;TZID=America/New_York:20231013T161500
DTSTAMP:20260423T075550
CREATED:20230809T164632Z
LAST-MODIFIED:20230913T005956Z
UID:10009200-1697210100-1697213700@www.tcsatl.org
SUMMARY:Intro to Gymnastics
DESCRIPTION:Carpool 4:15 – 4:30 PM
URL:https://www.tcsatl.org/event/intro-to-gymnastics-13/
END:VEVENT
BEGIN:VEVENT
DTSTART;TZID=America/New_York:20231013T151500
DTEND;TZID=America/New_York:20231013T161500
DTSTAMP:20260423T075550
CREATED:20230809T164632Z
LAST-MODIFIED:20230913T005956Z
UID:10009202-1697210100-1697213700@www.tcsatl.org
SUMMARY:Amazing Athletes
DESCRIPTION:Carpool 4:15-4:30 PM
URL:https://www.tcsatl.org/event/amazing-athletes-50/
END:VEVENT
BEGIN:VEVENT
DTSTART;TZID=America/New_York:20231013T154500
DTEND;TZID=America/New_York:20231013T170000
DTSTAMP:20260423T075550
CREATED:20230810T053034Z
LAST-MODIFIED:20230905T214718Z
UID:10010521-1697211900-1697216400@www.tcsatl.org
SUMMARY:MAAC Girls Volleyball
DESCRIPTION:Carpool 5:00-5:15 pm
URL:https://www.tcsatl.org/event/maac-girls-volleyball-114/
END:VEVENT
BEGIN:VEVENT
DTSTART;TZID=America/New_York:20231013T154500
DTEND;TZID=America/New_York:20231013T170000
DTSTAMP:20260423T075550
CREATED:20230810T053034Z
LAST-MODIFIED:20230905T214718Z
UID:10010522-1697211900-1697216400@www.tcsatl.org
SUMMARY:MAAC Girls & Boys Cross Country (Grades 6-8)
DESCRIPTION:Carpool 5:00- 5:15 PM
URL:https://www.tcsatl.org/event/maac-girls-boys-cross-country-grades-6-8-28/
END:VEVENT
BEGIN:VEVENT
DTSTART;TZID=America/New_York:20231013T154500
DTEND;TZID=America/New_York:20231013T170000
DTSTAMP:20260423T075550
CREATED:20230810T053034Z
LAST-MODIFIED:20230905T214718Z
UID:10010523-1697211900-1697216400@www.tcsatl.org
SUMMARY:MAAC Co-Ed Ultimate Frisbee (Grades 5-8)
DESCRIPTION:carpool 5:00 -5:15 PM
URL:https://www.tcsatl.org/event/maac-co-ed-ultimate-frisbee-grades-5-8-29/
END:VEVENT
BEGIN:VEVENT
DTSTART;TZID=America/New_York:20231013T161500
DTEND;TZID=America/New_York:20231013T171500
DTSTAMP:20260423T075550
CREATED:20230809T164631Z
LAST-MODIFIED:20230913T005956Z
UID:10009198-1697213700-1697217300@www.tcsatl.org
SUMMARY:Intro to Ballet/Tap
DESCRIPTION:Carpool 5:15 – 5:30 PM
URL:https://www.tcsatl.org/event/intro-to-ballet-tap-26/
END:VEVENT
BEGIN:VEVENT
DTSTART;TZID=America/New_York:20231013T161500
DTEND;TZID=America/New_York:20231013T171500
DTSTAMP:20260423T075550
CREATED:20230809T164631Z
LAST-MODIFIED:20230913T005956Z
UID:10009196-1697213700-1697217300@www.tcsatl.org
SUMMARY:Ballet/Tap II
DESCRIPTION:Carpool 5:15- 5:30 PM
URL:https://www.tcsatl.org/event/ballet-tap-ii-9/
END:VEVENT
END:VCALENDAR