BEGIN:VCALENDAR
VERSION:2.0
PRODID:-//The Children&#039;s School - ECPv6.15.15//NONSGML v1.0//EN
CALSCALE:GREGORIAN
METHOD:PUBLISH
X-WR-CALNAME:The Children&#039;s School
X-ORIGINAL-URL:https://www.tcsatl.org
X-WR-CALDESC:Events for The Children&#039;s School
REFRESH-INTERVAL;VALUE=DURATION:PT1H
X-Robots-Tag:noindex
X-PUBLISHED-TTL:PT1H
BEGIN:VTIMEZONE
TZID:America/New_York
BEGIN:DAYLIGHT
TZOFFSETFROM:-0500
TZOFFSETTO:-0400
TZNAME:EDT
DTSTART:20220313T070000
END:DAYLIGHT
BEGIN:STANDARD
TZOFFSETFROM:-0400
TZOFFSETTO:-0500
TZNAME:EST
DTSTART:20221106T060000
END:STANDARD
BEGIN:DAYLIGHT
TZOFFSETFROM:-0500
TZOFFSETTO:-0400
TZNAME:EDT
DTSTART:20230312T070000
END:DAYLIGHT
BEGIN:STANDARD
TZOFFSETFROM:-0400
TZOFFSETTO:-0500
TZNAME:EST
DTSTART:20231105T060000
END:STANDARD
BEGIN:DAYLIGHT
TZOFFSETFROM:-0500
TZOFFSETTO:-0400
TZNAME:EDT
DTSTART:20240310T070000
END:DAYLIGHT
BEGIN:STANDARD
TZOFFSETFROM:-0400
TZOFFSETTO:-0500
TZNAME:EST
DTSTART:20241103T060000
END:STANDARD
END:VTIMEZONE
BEGIN:VEVENT
DTSTART;TZID=America/New_York:20231002T151500
DTEND;TZID=America/New_York:20231002T161500
DTSTAMP:20260421T201800
CREATED:20230809T164621Z
LAST-MODIFIED:20230830T010015Z
UID:10010244-1696259700-1696263300@www.tcsatl.org
SUMMARY:Bricks4Kidz
DESCRIPTION:
URL:https://www.tcsatl.org/event/bricks4kidz-27/
END:VEVENT
BEGIN:VEVENT
DTSTART;TZID=America/New_York:20231002T151500
DTEND;TZID=America/New_York:20231002T161500
DTSTAMP:20260421T201800
CREATED:20230831T010013Z
LAST-MODIFIED:20230913T005954Z
UID:10010552-1696259700-1696263300@www.tcsatl.org
SUMMARY:Bricks4Kidz
DESCRIPTION:
URL:https://www.tcsatl.org/event/bricks4kidz-43/
END:VEVENT
BEGIN:VEVENT
DTSTART;TZID=America/New_York:20231002T151500
DTEND;TZID=America/New_York:20231002T163000
DTSTAMP:20260421T201800
CREATED:20230809T164621Z
LAST-MODIFIED:20230913T005954Z
UID:10010243-1696259700-1696264200@www.tcsatl.org
SUMMARY:TCS Players (6-8th Grade)
DESCRIPTION:Carpool 4:30-4:45 PM
URL:https://www.tcsatl.org/event/tcs-players-6-8th-grade-8/
END:VEVENT
BEGIN:VEVENT
DTSTART;TZID=America/New_York:20231002T154500
DTEND;TZID=America/New_York:20231002T164500
DTSTAMP:20260421T201800
CREATED:20230809T164621Z
LAST-MODIFIED:20230913T005954Z
UID:10010242-1696261500-1696265100@www.tcsatl.org
SUMMARY:Soundscape Music Ensemble
DESCRIPTION:Carpool 4:45 – 5:00 PM
URL:https://www.tcsatl.org/event/soundscape-music-ensemble-8/
END:VEVENT
BEGIN:VEVENT
DTSTART;TZID=America/New_York:20231002T154500
DTEND;TZID=America/New_York:20231002T164500
DTSTAMP:20260421T201800
CREATED:20230810T053031Z
LAST-MODIFIED:20230905T214642Z
UID:10010504-1696261500-1696265100@www.tcsatl.org
SUMMARY:Intramural Girls & Boys Cross Country
DESCRIPTION:Carpool 4:45-5:00 PM
URL:https://www.tcsatl.org/event/intramural-girls-boys-cross-country-17/
END:VEVENT
BEGIN:VEVENT
DTSTART;TZID=America/New_York:20231002T154500
DTEND;TZID=America/New_York:20231002T170000
DTSTAMP:20260421T201800
CREATED:20230810T053031Z
LAST-MODIFIED:20230905T214642Z
UID:10010506-1696261500-1696266000@www.tcsatl.org
SUMMARY:MAAC Co-Ed Ultimate Frisbee (Grades 5-8)
DESCRIPTION:carpool 5:00 -5:15 PM
URL:https://www.tcsatl.org/event/maac-co-ed-ultimate-frisbee-grades-5-8-24/
END:VEVENT
BEGIN:VEVENT
DTSTART;TZID=America/New_York:20231002T154500
DTEND;TZID=America/New_York:20231002T170000
DTSTAMP:20260421T201800
CREATED:20230810T053031Z
LAST-MODIFIED:20230905T214642Z
UID:10010505-1696261500-1696266000@www.tcsatl.org
SUMMARY:MAAC Girls Volleyball
DESCRIPTION:Carpool 5:00-5:15 pm
URL:https://www.tcsatl.org/event/maac-girls-volleyball-109/
END:VEVENT
BEGIN:VEVENT
DTSTART;TZID=America/New_York:20231002T160000
DTEND;TZID=America/New_York:20231002T180000
DTSTAMP:20260421T201800
CREATED:20230828T214538Z
LAST-MODIFIED:20230905T214642Z
UID:10010534-1696262400-1696269600@www.tcsatl.org
SUMMARY:MAAC Co-Ed Ultimate Frisbee vs Galloway - Piedmont Park
DESCRIPTION:
URL:https://www.tcsatl.org/event/maac-co-ed-ultimate-frisbee-vs-galloway-piedmont-park/
END:VEVENT
BEGIN:VEVENT
DTSTART;TZID=America/New_York:20231002T160000
DTEND;TZID=America/New_York:20231002T180000
DTSTAMP:20260421T201800
CREATED:20230830T214505Z
LAST-MODIFIED:20230905T214642Z
UID:10009482-1696262400-1696269600@www.tcsatl.org
SUMMARY:HOME GAME - MAAC Girls Volleyball vs Intown School
DESCRIPTION:
URL:https://www.tcsatl.org/event/home-game-maac-girls-volleyball-vs-intown-school/
END:VEVENT
END:VCALENDAR