BEGIN:VCALENDAR
VERSION:2.0
PRODID:-//The Children&#039;s School - ECPv6.15.15//NONSGML v1.0//EN
CALSCALE:GREGORIAN
METHOD:PUBLISH
X-WR-CALNAME:The Children&#039;s School
X-ORIGINAL-URL:https://www.tcsatl.org
X-WR-CALDESC:Events for The Children&#039;s School
REFRESH-INTERVAL;VALUE=DURATION:PT1H
X-Robots-Tag:noindex
X-PUBLISHED-TTL:PT1H
BEGIN:VTIMEZONE
TZID:America/New_York
BEGIN:DAYLIGHT
TZOFFSETFROM:-0500
TZOFFSETTO:-0400
TZNAME:EDT
DTSTART:20220313T070000
END:DAYLIGHT
BEGIN:STANDARD
TZOFFSETFROM:-0400
TZOFFSETTO:-0500
TZNAME:EST
DTSTART:20221106T060000
END:STANDARD
BEGIN:DAYLIGHT
TZOFFSETFROM:-0500
TZOFFSETTO:-0400
TZNAME:EDT
DTSTART:20230312T070000
END:DAYLIGHT
BEGIN:STANDARD
TZOFFSETFROM:-0400
TZOFFSETTO:-0500
TZNAME:EST
DTSTART:20231105T060000
END:STANDARD
BEGIN:DAYLIGHT
TZOFFSETFROM:-0500
TZOFFSETTO:-0400
TZNAME:EDT
DTSTART:20240310T070000
END:DAYLIGHT
BEGIN:STANDARD
TZOFFSETFROM:-0400
TZOFFSETTO:-0500
TZNAME:EST
DTSTART:20241103T060000
END:STANDARD
END:VTIMEZONE
BEGIN:VEVENT
DTSTART;TZID=America/New_York:20230926T151500
DTEND;TZID=America/New_York:20230926T161500
DTSTAMP:20260421T163029
CREATED:20230906T010113Z
LAST-MODIFIED:20230913T005953Z
UID:10010565-1695741300-1695744900@www.tcsatl.org
SUMMARY:Intro to Drums I & II and Percussion Ensemble III & IV
DESCRIPTION:
URL:https://www.tcsatl.org/event/intro-to-drums-i-ii-and-percussion-ensemble-iii-iv-3/
END:VEVENT
BEGIN:VEVENT
DTSTART;TZID=America/New_York:20230926T151500
DTEND;TZID=America/New_York:20230926T163000
DTSTAMP:20260421T163029
CREATED:20230809T164618Z
LAST-MODIFIED:20230913T005953Z
UID:10010228-1695741300-1695745800@www.tcsatl.org
SUMMARY:TCS Jr Voices
DESCRIPTION:Carpool 04:30 – 04:45 PM
URL:https://www.tcsatl.org/event/tcs-jr-voices-42/
END:VEVENT
BEGIN:VEVENT
DTSTART;TZID=America/New_York:20230926T151500
DTEND;TZID=America/New_York:20230926T163000
DTSTAMP:20260421T163029
CREATED:20230810T053029Z
LAST-MODIFIED:20230905T214616Z
UID:10009435-1695741300-1695745800@www.tcsatl.org
SUMMARY:Intramural Co-Ed Tennis (Grades 3-5)
DESCRIPTION:Carpool 4:40-4:55 PM
URL:https://www.tcsatl.org/event/intramural-co-ed-tennis-grades-3-5-13/
END:VEVENT
BEGIN:VEVENT
DTSTART;TZID=America/New_York:20230926T154500
DTEND;TZID=America/New_York:20230926T164500
DTSTAMP:20260421T163029
CREATED:20230809T164617Z
LAST-MODIFIED:20230913T005953Z
UID:10010227-1695743100-1695746700@www.tcsatl.org
SUMMARY:Science Creations S.T.E.A.M.
DESCRIPTION:
URL:https://www.tcsatl.org/event/science-creations-s-t-e-a-m-12/
END:VEVENT
BEGIN:VEVENT
DTSTART;TZID=America/New_York:20230926T154500
DTEND;TZID=America/New_York:20230926T164500
DTSTAMP:20260421T163029
CREATED:20230810T053029Z
LAST-MODIFIED:20230905T214616Z
UID:10009433-1695743100-1695746700@www.tcsatl.org
SUMMARY:Intramural Co-Ed Volleyball
DESCRIPTION:Carpool 4:45 – 5:00 PM
URL:https://www.tcsatl.org/event/intramural-co-ed-volleyball-14/
END:VEVENT
BEGIN:VEVENT
DTSTART;TZID=America/New_York:20230926T154500
DTEND;TZID=America/New_York:20230926T170000
DTSTAMP:20260421T163029
CREATED:20230810T053029Z
LAST-MODIFIED:20230905T214616Z
UID:10010502-1695743100-1695747600@www.tcsatl.org
SUMMARY:MAAC Girls & Boys Cross Country (Grades 6-8)
DESCRIPTION:Carpool 5:00- 5:15 PM
URL:https://www.tcsatl.org/event/maac-girls-boys-cross-country-grades-6-8-20/
END:VEVENT
BEGIN:VEVENT
DTSTART;TZID=America/New_York:20230926T160000
DTEND;TZID=America/New_York:20230926T180000
DTSTAMP:20260421T163029
CREATED:20230828T214537Z
LAST-MODIFIED:20230905T214616Z
UID:10010533-1695744000-1695751200@www.tcsatl.org
SUMMARY:MAAC Co-Ed Ultimate Frisbee vs Davis Academy - Piedmont Park
DESCRIPTION:
URL:https://www.tcsatl.org/event/maac-co-ed-ultimate-frisbee-vs-davis-academy-piedmont-park/
END:VEVENT
BEGIN:VEVENT
DTSTART;TZID=America/New_York:20230926T161500
DTEND;TZID=America/New_York:20230926T171500
DTSTAMP:20260421T163029
CREATED:20230809T164617Z
LAST-MODIFIED:20230905T010038Z
UID:10010226-1695744900-1695748500@www.tcsatl.org
SUMMARY:Intro to Drums I & II
DESCRIPTION:Carpool 5:15 – 5:30 PM
URL:https://www.tcsatl.org/event/intro-to-drums-i-ii-7/
END:VEVENT
BEGIN:VEVENT
DTSTART;TZID=America/New_York:20230926T163000
DTEND;TZID=America/New_York:20230926T183000
DTSTAMP:20260421T163029
CREATED:20230830T214504Z
LAST-MODIFIED:20230905T214616Z
UID:10010547-1695745800-1695753000@www.tcsatl.org
SUMMARY:AWAY GAME - MAAC Girls Volleyball vs Atlanta Jewish Academy
DESCRIPTION:
URL:https://www.tcsatl.org/event/away-game-maac-girls-volleyball-vs-atlanta-jewish-academy/
LOCATION:Atlanta Jewish Academy\, 5200 Northland Dr\, Atlanta\, GA 30342\, USA\, 4800 Northland Dr NE\, United States
GEO:33.886083;-84.359963
X-APPLE-STRUCTURED-LOCATION;VALUE=URI;X-ADDRESS=Atlanta Jewish Academy 5200 Northland Dr Atlanta GA 30342 USA 4800 Northland Dr NE United States;X-APPLE-RADIUS=500;X-TITLE=4800 Northland Dr NE:geo:-84.359963,33.886083
END:VEVENT
END:VCALENDAR