BEGIN:VCALENDAR
VERSION:2.0
PRODID:-//The Children&#039;s School - ECPv6.15.15//NONSGML v1.0//EN
CALSCALE:GREGORIAN
METHOD:PUBLISH
X-WR-CALNAME:The Children&#039;s School
X-ORIGINAL-URL:https://www.tcsatl.org
X-WR-CALDESC:Events for The Children&#039;s School
REFRESH-INTERVAL;VALUE=DURATION:PT1H
X-Robots-Tag:noindex
X-PUBLISHED-TTL:PT1H
BEGIN:VTIMEZONE
TZID:America/New_York
BEGIN:DAYLIGHT
TZOFFSETFROM:-0500
TZOFFSETTO:-0400
TZNAME:EDT
DTSTART:20220313T070000
END:DAYLIGHT
BEGIN:STANDARD
TZOFFSETFROM:-0400
TZOFFSETTO:-0500
TZNAME:EST
DTSTART:20221106T060000
END:STANDARD
BEGIN:DAYLIGHT
TZOFFSETFROM:-0500
TZOFFSETTO:-0400
TZNAME:EDT
DTSTART:20230312T070000
END:DAYLIGHT
BEGIN:STANDARD
TZOFFSETFROM:-0400
TZOFFSETTO:-0500
TZNAME:EST
DTSTART:20231105T060000
END:STANDARD
BEGIN:DAYLIGHT
TZOFFSETFROM:-0500
TZOFFSETTO:-0400
TZNAME:EDT
DTSTART:20240310T070000
END:DAYLIGHT
BEGIN:STANDARD
TZOFFSETFROM:-0400
TZOFFSETTO:-0500
TZNAME:EST
DTSTART:20241103T060000
END:STANDARD
END:VTIMEZONE
BEGIN:VEVENT
DTSTART;VALUE=DATE:20230925
DTEND;VALUE=DATE:20230926
DTSTAMP:20260421T163031
CREATED:20230201T214457Z
LAST-MODIFIED:20230913T020015Z
UID:10008992-1695600000-1695686399@www.tcsatl.org
SUMMARY:School Closed - Yom Kippur
DESCRIPTION:
URL:https://www.tcsatl.org/event/school-closed-yom-kippur-2/
END:VEVENT
BEGIN:VEVENT
DTSTART;TZID=America/New_York:20230925T151500
DTEND;TZID=America/New_York:20230925T161500
DTSTAMP:20260421T163031
CREATED:20230809T164617Z
LAST-MODIFIED:20230830T010014Z
UID:10009169-1695654900-1695658500@www.tcsatl.org
SUMMARY:Bricks4Kidz
DESCRIPTION:
URL:https://www.tcsatl.org/event/bricks4kidz-26/
END:VEVENT
BEGIN:VEVENT
DTSTART;TZID=America/New_York:20230925T151500
DTEND;TZID=America/New_York:20230925T161500
DTSTAMP:20260421T163031
CREATED:20230831T010012Z
LAST-MODIFIED:20230913T005953Z
UID:10010551-1695654900-1695658500@www.tcsatl.org
SUMMARY:Bricks4Kidz
DESCRIPTION:
URL:https://www.tcsatl.org/event/bricks4kidz-42/
END:VEVENT
BEGIN:VEVENT
DTSTART;TZID=America/New_York:20230925T151500
DTEND;TZID=America/New_York:20230925T163000
DTSTAMP:20260421T163031
CREATED:20230809T164617Z
LAST-MODIFIED:20230913T005953Z
UID:10009168-1695654900-1695659400@www.tcsatl.org
SUMMARY:TCS Players (6-8th Grade)
DESCRIPTION:Carpool 4:30-4:45 PM
URL:https://www.tcsatl.org/event/tcs-players-6-8th-grade-6/
END:VEVENT
BEGIN:VEVENT
DTSTART;TZID=America/New_York:20230925T154500
DTEND;TZID=America/New_York:20230925T164500
DTSTAMP:20260421T163031
CREATED:20230809T164617Z
LAST-MODIFIED:20230913T005952Z
UID:10009171-1695656700-1695660300@www.tcsatl.org
SUMMARY:Soundscape Music Ensemble
DESCRIPTION:Carpool 4:45 – 5:00 PM
URL:https://www.tcsatl.org/event/soundscape-music-ensemble-7/
END:VEVENT
BEGIN:VEVENT
DTSTART;TZID=America/New_York:20230925T154500
DTEND;TZID=America/New_York:20230925T164500
DTSTAMP:20260421T163031
CREATED:20230810T053029Z
LAST-MODIFIED:20230905T214616Z
UID:10010499-1695656700-1695660300@www.tcsatl.org
SUMMARY:Intramural Girls & Boys Cross Country
DESCRIPTION:Carpool 4:45-5:00 PM
URL:https://www.tcsatl.org/event/intramural-girls-boys-cross-country-15/
END:VEVENT
BEGIN:VEVENT
DTSTART;TZID=America/New_York:20230925T154500
DTEND;TZID=America/New_York:20230925T170000
DTSTAMP:20260421T163031
CREATED:20230810T053029Z
LAST-MODIFIED:20230905T214616Z
UID:10010500-1695656700-1695661200@www.tcsatl.org
SUMMARY:MAAC Co-Ed Ultimate Frisbee (Grades 5-8)
DESCRIPTION:carpool 5:00 -5:15 PM
URL:https://www.tcsatl.org/event/maac-co-ed-ultimate-frisbee-grades-5-8-21/
END:VEVENT
BEGIN:VEVENT
DTSTART;TZID=America/New_York:20230925T154500
DTEND;TZID=America/New_York:20230925T170000
DTSTAMP:20260421T163031
CREATED:20230810T053029Z
LAST-MODIFIED:20230905T214616Z
UID:10010501-1695656700-1695661200@www.tcsatl.org
SUMMARY:MAAC Girls Volleyball
DESCRIPTION:Carpool 5:00-5:15 pm
URL:https://www.tcsatl.org/event/maac-girls-volleyball-106/
END:VEVENT
END:VCALENDAR