BEGIN:VCALENDAR
VERSION:2.0
PRODID:-//The Children&#039;s School - ECPv6.15.15//NONSGML v1.0//EN
CALSCALE:GREGORIAN
METHOD:PUBLISH
X-WR-CALNAME:The Children&#039;s School
X-ORIGINAL-URL:https://www.tcsatl.org
X-WR-CALDESC:Events for The Children&#039;s School
REFRESH-INTERVAL;VALUE=DURATION:PT1H
X-Robots-Tag:noindex
X-PUBLISHED-TTL:PT1H
BEGIN:VTIMEZONE
TZID:America/New_York
BEGIN:DAYLIGHT
TZOFFSETFROM:-0500
TZOFFSETTO:-0400
TZNAME:EDT
DTSTART:20220313T070000
END:DAYLIGHT
BEGIN:STANDARD
TZOFFSETFROM:-0400
TZOFFSETTO:-0500
TZNAME:EST
DTSTART:20221106T060000
END:STANDARD
BEGIN:DAYLIGHT
TZOFFSETFROM:-0500
TZOFFSETTO:-0400
TZNAME:EDT
DTSTART:20230312T070000
END:DAYLIGHT
BEGIN:STANDARD
TZOFFSETFROM:-0400
TZOFFSETTO:-0500
TZNAME:EST
DTSTART:20231105T060000
END:STANDARD
BEGIN:DAYLIGHT
TZOFFSETFROM:-0500
TZOFFSETTO:-0400
TZNAME:EDT
DTSTART:20240310T070000
END:DAYLIGHT
BEGIN:STANDARD
TZOFFSETFROM:-0400
TZOFFSETTO:-0500
TZNAME:EST
DTSTART:20241103T060000
END:STANDARD
END:VTIMEZONE
BEGIN:VEVENT
DTSTART;TZID=America/New_York:20230921T151500
DTEND;TZID=America/New_York:20230921T161500
DTSTAMP:20260421T163056
CREATED:20230809T164615Z
LAST-MODIFIED:20230913T010016Z
UID:10010223-1695309300-1695312900@www.tcsatl.org
SUMMARY:Tonchu Martial Arts
DESCRIPTION:Carpool 4:15-4:30 PM
URL:https://www.tcsatl.org/event/tonchu-martial-arts-8/
END:VEVENT
BEGIN:VEVENT
DTSTART;TZID=America/New_York:20230921T151500
DTEND;TZID=America/New_York:20230921T161500
DTSTAMP:20260421T163056
CREATED:20230809T164615Z
LAST-MODIFIED:20230913T010016Z
UID:10010224-1695309300-1695312900@www.tcsatl.org
SUMMARY:Drums (All Levels)
DESCRIPTION:Carpool 4:15- 4:30 PM
URL:https://www.tcsatl.org/event/drums-all-levels-9/
END:VEVENT
BEGIN:VEVENT
DTSTART;TZID=America/New_York:20230921T151500
DTEND;TZID=America/New_York:20230921T163000
DTSTAMP:20260421T163056
CREATED:20230809T164616Z
LAST-MODIFIED:20230913T010016Z
UID:10010225-1695309300-1695313800@www.tcsatl.org
SUMMARY:TCS Voices
DESCRIPTION:Carpool 4:30-4:45 PM
URL:https://www.tcsatl.org/event/tcs-voices-71/
END:VEVENT
BEGIN:VEVENT
DTSTART;TZID=America/New_York:20230921T151500
DTEND;TZID=America/New_York:20230921T164500
DTSTAMP:20260421T163056
CREATED:20230809T164616Z
LAST-MODIFIED:20230913T010016Z
UID:10009158-1695309300-1695314700@www.tcsatl.org
SUMMARY:Kids TV - Video & Film Production Class
DESCRIPTION:Carpool 4:45 – 4:30 PM
URL:https://www.tcsatl.org/event/kids-tv-video-film-production-class-23/
END:VEVENT
BEGIN:VEVENT
DTSTART;TZID=America/New_York:20230921T154500
DTEND;TZID=America/New_York:20230921T164500
DTSTAMP:20260421T163056
CREATED:20230809T164616Z
LAST-MODIFIED:20230913T010016Z
UID:10009156-1695311100-1695314700@www.tcsatl.org
SUMMARY:Science Creations S.T.E.A.M.
DESCRIPTION:Carpool 4:45- 5:00 PM
URL:https://www.tcsatl.org/event/science-creations-s-t-e-a-m-11/
END:VEVENT
BEGIN:VEVENT
DTSTART;TZID=America/New_York:20230921T154500
DTEND;TZID=America/New_York:20230921T164500
DTSTAMP:20260421T163056
CREATED:20230810T053028Z
LAST-MODIFIED:20230905T214605Z
UID:10010493-1695311100-1695314700@www.tcsatl.org
SUMMARY:Intramural Girls & Boys Cross Country
DESCRIPTION:Carpool 4:45-5:00 PM
URL:https://www.tcsatl.org/event/intramural-girls-boys-cross-country-14/
END:VEVENT
BEGIN:VEVENT
DTSTART;TZID=America/New_York:20230921T154500
DTEND;TZID=America/New_York:20230921T170000
DTSTAMP:20260421T163056
CREATED:20230810T053028Z
LAST-MODIFIED:20230905T214605Z
UID:10010494-1695311100-1695315600@www.tcsatl.org
SUMMARY:MAAC Girls Volleyball
DESCRIPTION:Carpool 5:00-5:15 pm
URL:https://www.tcsatl.org/event/maac-girls-volleyball-104/
END:VEVENT
BEGIN:VEVENT
DTSTART;TZID=America/New_York:20230921T154500
DTEND;TZID=America/New_York:20230921T170000
DTSTAMP:20260421T163056
CREATED:20230810T053028Z
LAST-MODIFIED:20230905T214605Z
UID:10010495-1695311100-1695315600@www.tcsatl.org
SUMMARY:MAAC Co-Ed Ultimate Frisbee (Grades 5-8)
DESCRIPTION:carpool 5:00 -5:15 PM
URL:https://www.tcsatl.org/event/maac-co-ed-ultimate-frisbee-grades-5-8-19/
END:VEVENT
BEGIN:VEVENT
DTSTART;TZID=America/New_York:20230921T160000
DTEND;TZID=America/New_York:20230921T180000
DTSTAMP:20260421T163056
CREATED:20230828T214536Z
LAST-MODIFIED:20230905T214605Z
UID:10010532-1695312000-1695319200@www.tcsatl.org
SUMMARY:MAAC Co-Ed Ultimate Frisbee vs Atlanta International School - Piedmont Park
DESCRIPTION:
URL:https://www.tcsatl.org/event/maac-co-ed-ultimate-frisbee-vs-atlanta-international-school-piedmont-park/
END:VEVENT
BEGIN:VEVENT
DTSTART;TZID=America/New_York:20230921T160000
DTEND;TZID=America/New_York:20230921T180000
DTSTAMP:20260421T163056
CREATED:20230830T214503Z
LAST-MODIFIED:20230905T214605Z
UID:10010545-1695312000-1695319200@www.tcsatl.org
SUMMARY:AWAY GAME- MAAC Girls Volleyball vs McGinnis Woods
DESCRIPTION:
URL:https://www.tcsatl.org/event/away-game-maac-girls-volleyball-vs-mcginnis-woods/
LOCATION:McGinnis Woods Country Day School\, 5380 Faircroft Dr\, Alpharetta\, GA 30005\, USA
END:VEVENT
BEGIN:VEVENT
DTSTART;TZID=America/New_York:20230921T163000
DTEND;TZID=America/New_York:20230921T183000
DTSTAMP:20260421T163056
CREATED:20230830T214503Z
LAST-MODIFIED:20230905T214605Z
UID:10010546-1695313800-1695321000@www.tcsatl.org
SUMMARY:MAAC Girls & Boys Cross Country Meet - Mill Springs
DESCRIPTION:
URL:https://www.tcsatl.org/event/maac-girls-boys-cross-country-meet-mill-springs/
LOCATION:Mill Springs Academy\, 13660 New Providence Rd\, Alpharetta\, GA 30004\, USA
END:VEVENT
END:VCALENDAR