BEGIN:VCALENDAR
VERSION:2.0
PRODID:-//The Children&#039;s School - ECPv6.15.15//NONSGML v1.0//EN
CALSCALE:GREGORIAN
METHOD:PUBLISH
X-WR-CALNAME:The Children&#039;s School
X-ORIGINAL-URL:https://www.tcsatl.org
X-WR-CALDESC:Events for The Children&#039;s School
REFRESH-INTERVAL;VALUE=DURATION:PT1H
X-Robots-Tag:noindex
X-PUBLISHED-TTL:PT1H
BEGIN:VTIMEZONE
TZID:America/New_York
BEGIN:DAYLIGHT
TZOFFSETFROM:-0500
TZOFFSETTO:-0400
TZNAME:EDT
DTSTART:20220313T070000
END:DAYLIGHT
BEGIN:STANDARD
TZOFFSETFROM:-0400
TZOFFSETTO:-0500
TZNAME:EST
DTSTART:20221106T060000
END:STANDARD
BEGIN:DAYLIGHT
TZOFFSETFROM:-0500
TZOFFSETTO:-0400
TZNAME:EDT
DTSTART:20230312T070000
END:DAYLIGHT
BEGIN:STANDARD
TZOFFSETFROM:-0400
TZOFFSETTO:-0500
TZNAME:EST
DTSTART:20231105T060000
END:STANDARD
BEGIN:DAYLIGHT
TZOFFSETFROM:-0500
TZOFFSETTO:-0400
TZNAME:EDT
DTSTART:20240310T070000
END:DAYLIGHT
BEGIN:STANDARD
TZOFFSETFROM:-0400
TZOFFSETTO:-0500
TZNAME:EST
DTSTART:20241103T060000
END:STANDARD
END:VTIMEZONE
BEGIN:VEVENT
DTSTART;TZID=America/New_York:20230919T151500
DTEND;TZID=America/New_York:20230919T161500
DTSTAMP:20260421T163032
CREATED:20230906T010112Z
LAST-MODIFIED:20230913T010004Z
UID:10010564-1695136500-1695140100@www.tcsatl.org
SUMMARY:Intro to Drums I & II and Percussion Ensemble III & IV
DESCRIPTION:
URL:https://www.tcsatl.org/event/intro-to-drums-i-ii-and-percussion-ensemble-iii-iv-2/
END:VEVENT
BEGIN:VEVENT
DTSTART;TZID=America/New_York:20230919T151500
DTEND;TZID=America/New_York:20230919T163000
DTSTAMP:20260421T163032
CREATED:20230809T164615Z
LAST-MODIFIED:20230913T010004Z
UID:10010217-1695136500-1695141000@www.tcsatl.org
SUMMARY:TCS Jr Voices
DESCRIPTION:Carpool 04:30 – 04:45 PM
URL:https://www.tcsatl.org/event/tcs-jr-voices-41/
END:VEVENT
BEGIN:VEVENT
DTSTART;TZID=America/New_York:20230919T151500
DTEND;TZID=America/New_York:20230919T163000
DTSTAMP:20260421T163032
CREATED:20230810T053028Z
LAST-MODIFIED:20230905T214554Z
UID:10010488-1695136500-1695141000@www.tcsatl.org
SUMMARY:Intramural Co-Ed Tennis (Grades 3-5)
DESCRIPTION:Carpool 4:40-4:55 PM
URL:https://www.tcsatl.org/event/intramural-co-ed-tennis-grades-3-5-11/
END:VEVENT
BEGIN:VEVENT
DTSTART;TZID=America/New_York:20230919T154500
DTEND;TZID=America/New_York:20230919T164500
DTSTAMP:20260421T163032
CREATED:20230809T164615Z
LAST-MODIFIED:20230913T010004Z
UID:10010219-1695138300-1695141900@www.tcsatl.org
SUMMARY:Science Creations S.T.E.A.M.
DESCRIPTION:
URL:https://www.tcsatl.org/event/science-creations-s-t-e-a-m-10/
END:VEVENT
BEGIN:VEVENT
DTSTART;TZID=America/New_York:20230919T154500
DTEND;TZID=America/New_York:20230919T164500
DTSTAMP:20260421T163032
CREATED:20230810T053028Z
LAST-MODIFIED:20230905T214554Z
UID:10010489-1695138300-1695141900@www.tcsatl.org
SUMMARY:Intramural Co-Ed Volleyball
DESCRIPTION:Carpool 4:45 – 5:00 PM
URL:https://www.tcsatl.org/event/intramural-co-ed-volleyball-12/
END:VEVENT
BEGIN:VEVENT
DTSTART;TZID=America/New_York:20230919T154500
DTEND;TZID=America/New_York:20230919T170000
DTSTAMP:20260421T163032
CREATED:20230810T053028Z
LAST-MODIFIED:20230905T214554Z
UID:10009430-1695138300-1695142800@www.tcsatl.org
SUMMARY:MAAC Girls & Boys Cross Country (Grades 6-8)
DESCRIPTION:Carpool 5:00- 5:15 PM
URL:https://www.tcsatl.org/event/maac-girls-boys-cross-country-grades-6-8-17/
END:VEVENT
BEGIN:VEVENT
DTSTART;TZID=America/New_York:20230919T160000
DTEND;TZID=America/New_York:20230919T180000
DTSTAMP:20260421T163032
CREATED:20230830T214502Z
LAST-MODIFIED:20230905T214554Z
UID:10010544-1695139200-1695146400@www.tcsatl.org
SUMMARY:HOME GAME - MAAC Girls Volleyball vs Atlanta Girls School
DESCRIPTION:
URL:https://www.tcsatl.org/event/home-game-maac-girls-volleyball-vs-atlanta-girls-school/
END:VEVENT
BEGIN:VEVENT
DTSTART;TZID=America/New_York:20230919T161500
DTEND;TZID=America/New_York:20230919T171500
DTSTAMP:20260421T163032
CREATED:20230809T164615Z
LAST-MODIFIED:20230905T010037Z
UID:10010218-1695140100-1695143700@www.tcsatl.org
SUMMARY:Intro to Drums I & II
DESCRIPTION:Carpool 5:15 – 5:30 PM
URL:https://www.tcsatl.org/event/intro-to-drums-i-ii-6/
END:VEVENT
END:VCALENDAR